Workbook
Name TABLE_16: [1]TRIBUTOS!#REF!
Name TABLE_2_16: [1]TRIBUTOS!#REF!
Name TABLE_3_16: [1]TRIBUTOS!#REF!

Sheet Cuenta resultados nueva
B1: 1 | C1: 1 | D1: 0 | E1: 0 | F1: 0 | G1: 0 | H1: 0 | I1: 0 | J1: 0 | K1: 0 | L1: 0 | M1: 0
A2: 2019 | B2: Enero | C2: Febrero | D2: Marzo | E2: Abril | F2: Mayo | G2: Junio | H2: Julio | I2: Agosto | J2: Septiembre | K2: Octubre | L2: Noviembre | M2: Diciembre | N2: Total | P2: ACUMULADO
A3: Ingresos | B3: =B4 -> 8500 | C3: =C4 -> 7950 | D3: =D4 -> 12500 | E3: =E4 -> 0 | F3: =F4 -> 0 | G3: =G4 -> 0 | H3: =H4 -> 0 | I3: =I4 -> 0 | ... M3: =M4 -> 0 | N3: =SUM(B3:M3) -> 28950 | P3: =SUMPRODUCT($B$1:$M$1,B3:M3) -> 16450
A4: Facturas | B4: 8500 | C4: 7950 | D4: 12500 | N4: =SUM(B4:M4) -> 28950 | P4: =SUMPRODUCT($B$1:$M$1,B4:M4) -> 16450
A6: Compras | B6: =B7 -> 750 | C6: =C7 -> 555 | D6: =D7 -> 785 | E6: =E7 -> 0 | F6: =F7 -> 0 | G6: =G7 -> 0 | H6: =H7 -> 0 | I6: =I7 -> 0 | ... M6: =M7 -> 0 | N6: =SUM(B6:M6) -> 2090 | P6: =SUMPRODUCT($B$1:$M$1,B6:M6) -> 1305
A7: Compras de Materias Primas | B7: 750 | C7: 555 | D7: 785 | N7: =SUM(B7:M7) -> 2090 | P7: =SUMPRODUCT($B$1:$M$1,B7:M7) -> 1305
A9: Coste Personal | B9: =SUM(B10:B11) -> 3020 | C9: =SUM(C10:C11) -> 2850 | D9: =SUM(D10:D11) -> 3020 | E9: =SUM(E10:E11) -> 0 | F9: =SUM(F10:F11) -> 0 | G9: =SUM(G10:G11) -> 0 | H9: =SUM(H10:H11) -> 0 | I9: =SUM(I10:I11) -> 0 | ... M9: =SUM(M10:M11) -> 0 | N9: =SUM(B9:M9) -> 8890 | P9: =SUMPRODUCT($B$1:$M$1,B9:M9) -> 5870
A10: Salarios | B10: 2200 | C10: 2100 | D10: 2200 | N10: =SUM(B10:M10) -> 6500 | P10: =SUMPRODUCT($B$1:$M$1,B10:M10) -> 4300
A11: Seguridad Social | B11: 820 | C11: 750 | D11: 820 | N11: =SUM(B11:M11) -> 2390 | P11: =SUMPRODUCT($B$1:$M$1,B11:M11) -> 1570
A12: Ratio Personal | B12: =IFERROR(B9/B3,"") -> 0.35529412 | C12: =IFERROR(C9/C3,"") -> 0.35849057 | D12: =IFERROR(D9/D3,"") -> 0.2416 | E12: =IFERROR(E9/E3,"") | F12: =IFERROR(F9/F3,"") | G12: =IFERROR(G9/G3,"") | H12: =IFERROR(H9/H3,"") | I12: =IFERROR(I9/I3,"") | ... M12: =IFERROR(M9/M3,"")
A14: Gastos Indirectos | B14: =SUM(B15:B19) -> 2010 | C14: =SUM(C15:C19) -> 2405 | D14: =SUM(D15:D19) -> 2475 | E14: =SUM(E15:E19) -> 0 | F14: =SUM(F15:F19) -> 0 | G14: =SUM(G15:G19) -> 0 | H14: =SUM(H15:H19) -> 0 | I14: =SUM(I15:I19) -> 0 | ... M14: =SUM(M15:M19) -> 0 | N14: =SUM(B14:M14) -> 6890 | P14: =SUMPRODUCT($B$1:$M$1,B14:M14) -> 4415
A15: Suministro | B15: 150 | C15: 60 | D15: 140 | N15: =SUM(B15:M15) -> 350 | P15: =SUMPRODUCT($B$1:$M$1,B15:M15) -> 210
A16: Servicios Profesionales | B16: 1200 | C16: 1500 | D16: 1450 | N16: =SUM(B16:M16) -> 4150 | P16: =SUMPRODUCT($B$1:$M$1,B16:M16) -> 2700
A17: Mantenimiento | B17: 450 | C17: 560 | D17: 600 | N17: =SUM(B17:M17) -> 1610 | P17: =SUMPRODUCT($B$1:$M$1,B17:M17) -> 1010
A18: Publicidad, RRSS, WEB | B18: 150 | C18: 200 | D18: 200 | N18: =SUM(B18:M18) -> 550 | P18: =SUMPRODUCT($B$1:$M$1,B18:M18) -> 350
A19: Seguros | B19: 60 | C19: 85 | D19: 85 | N19: =SUM(B19:M19) -> 230 | P19: =SUMPRODUCT($B$1:$M$1,B19:M19) -> 145
A20: Ratio gastos Indirectos | B20: =IFERROR(B14/B3,"") -> 0.23647059 | C20: =IFERROR(C14/C3,"") -> 0.30251572 | D20: =IFERROR(D14/D3,"") -> 0.198 | E20: =IFERROR(E14/E3,"") | F20: =IFERROR(F14/F3,"") | G20: =IFERROR(G14/G3,"") | H20: =IFERROR(H14/H3,"") | I20: =IFERROR(I14/I3,"") | ... M20: =IFERROR(M14/M3,"")
A22: Total Gastos | B22: =B6+B9+B14 -> 5780 | C22: =C6+C9+C14 -> 5810 | D22: =D6+D9+D14 -> 6280 | E22: =E6+E9+E14 -> 0 | F22: =F6+F9+F14 -> 0 | G22: =G6+G9+G14 -> 0 | H22: =H6+H9+H14 -> 0 | I22: =I6+I9+I14 -> 0 | ... M22: =M6+M9+M14 -> 0 | N22: =SUM(B22:M22) -> 17870 | P22: =SUMPRODUCT($B$1:$M$1,B22:M22) -> 11590
A23: Resultado Operativo | B23: =B3-B22 -> 2720 | C23: =C3-C22 -> 2140 | D23: =D3-D22 -> 6220 | E23: =E3-E22 -> 0 | F23: =F3-F22 -> 0 | G23: =G3-G22 -> 0 | H23: =H3-H22 -> 0 | I23: =I3-I22 -> 0 | ... M23: =M3-M22 -> 0 | N23: =SUM(B23:M23) -> 11080 | P23: =SUMPRODUCT($B$1:$M$1,B23:M23) -> 4860
A26: Gasto Extraor / Finan | N26: =SUM(B26:M26) -> 0 | P26: =SUMPRODUCT($B$1:$M$1,B26:M26) -> 0
A27: Resultado de Explotación | B27: =B23 -> 2720 | C27: =C23 -> 2140 | D27: =D23 -> 6220 | E27: =E23 -> 0 | F27: =F23 -> 0 | G27: =G23 -> 0 | H27: =H23 -> 0 | I27: =I23 -> 0 | ... M27: =M23 -> 0 | N27: =SUM(B27:M27) -> 11080 | P27: =SUMPRODUCT($B$1:$M$1,B27:M27) -> 4860
A29: Resultado Neto antes de I.S. | B29: =B27 -> 2720 | C29: =C27 -> 2140 | D29: =D27 -> 6220 | E29: =E27 -> 0 | F29: =F27 -> 0 | G29: =G27 -> 0 | H29: =H27 -> 0 | I29: =I27 -> 0 | ... M29: =M27 -> 0 | N29: =SUM(B29:M29) -> 11080 | P29: =SUMPRODUCT($B$1:$M$1,B29:M29) -> 4860
B30: =IFERROR(B29/B3,"") -> 0.32 | C30: =IFERROR(C29/C3,"") -> 0.26918239 | D30: =IFERROR(D29/D3,"") -> 0.4976 | E30: =IFERROR(E29/E3,"") | F30: =IFERROR(F29/F3,"") | G30: =IFERROR(G29/G3,"") | H30: =IFERROR(H29/H3,"") | I30: =IFERROR(I29/I3,"") | ... M30: =IFERROR(M29/M3,"")

Sheet Tesorería por meses
A1: 2020 | B1: =[1]TESORERIA!C10 -> ENERO | C1: =[1]TESORERIA!D10 -> FEBRERO | D1: =[1]TESORERIA!E10 -> MARZO | E1: =[1]TESORERIA!F10 -> ABRIL | F1: =[1]TESORERIA!G10 -> MAYO | G1: =[1]TESORERIA!H10 -> JUNIO | H1: =[1]TESORERIA!I10 -> JULIO | I1: =[1]TESORERIA!J10 -> AGOSTO | ... M1: =[1]TESORERIA!N10 -> DICIEMBRE | N1: TOTAL
A2: Ingresos | B2: =SUMIFS(ING!$G:$G,ING!$L:$L,'Tesorería por meses'!B1) -> 6030 | C2: =SUMIFS(ING!$G:$G,ING!$L:$L,'Tesorería por meses'!C1) -> 9750 | D2: =SUMIFS(ING!$G:$G,ING!$L:$L,'Tesorería por meses'!D1) -> 8500 | E2: =SUMIFS(ING!$G:$G,ING!$L:$L,'Tesorería por meses'!E1) -> 0 | F2: =SUMIFS(ING!$G:$G,ING!$L:$L,'Tesorería por meses'!F1) -> 0 | G2: =SUMIFS(ING!$G:$G,ING!$L:$L,'Tesorería por meses'!G1) -> 0 | H2: =SUMIFS(ING!$G:$G,ING!$L:$L,'Tesorería por meses'!H1) -> 0 | I2: =SUMIFS(ING!$G:$G,ING!$L:$L,'Tesorería por meses'!I1) -> 0 | ... M2: =SUMIFS(ING!$G:$G,ING!$L:$L,'Tesorería por meses'!M1) -> 0 | N2: =SUM(B2:M2) -> 24280
A3: Subvenciones / Rentas | N3: =SUM(B3:M3) -> 0
A4: Servicios / Infoproductos | N4: =SUM(B4:M4) -> 0
A5: TOTAL COBROS | B5: =B2 -> 6030 | C5: =C2 -> 9750 | D5: =D2 -> 8500 | E5: =E2 -> 0 | F5: =F2 -> 0 | G5: =G2 -> 0 | H5: =H2 -> 0 | I5: =I2 -> 0 | ... M5: =M2 -> 0 | N5: =SUM(B5:M5) -> 24280
A7: Compras | B7: =SUMIFS(ING!$H:$H,ING!$L:$L,'Tesorería por meses'!B1,ING!$J:$J,'Tesorería por meses'!$A$7) -> 612.35 | C7: =SUMIFS(ING!$H:$H,ING!$L:$L,'Tesorería por meses'!C1,ING!$J:$J,'Tesorería por meses'!$A$7) -> 756 | D7: =SUMIFS(ING!$H:$H,ING!$L:$L,'Tesorería por meses'!D1,ING!$J:$J,'Tesorería por meses'!$A$7) -> 690 | E7: =SUMIFS(ING!$H:$H,ING!$L:$L,'Tesorería por meses'!E1,ING!$J:$J,'Tesorería por meses'!$A$7) -> 0 | F7: =SUMIFS(ING!$H:$H,ING!$L:$L,'Tesorería por meses'!F1,ING!$J:$J,'Tesorería por meses'!$A$7) -> 0 | G7: =SUMIFS(ING!$H:$H,ING!$L:$L,'Tesorería por meses'!G1,ING!$J:$J,'Tesorería por meses'!$A$7) -> 0 | H7: =SUMIFS(ING!$H:$H,ING!$L:$L,'Tesorería por meses'!H1,ING!$J:$J,'Tesorería por meses'!$A$7) -> 0 | I7: =SUMIFS(ING!$H:$H,ING!$L:$L,'Tesorería por meses'!I1,ING!$J:$J,'Tesorería por meses'!$A$7) -> 0 | ... M7: =SUMIFS(ING!$H:$H,ING!$L:$L,'Tesorería por meses'!M1,ING!$J:$J,'Tesorería por meses'!$A$7) -> 0 | N7: =SUM(B7:M7) -> 2058.35
A8: Gastos de personal | B8: =SUM(B9:B10) -> 4140 | C8: =SUM(C9:C10) -> 2909 | D8: =SUM(D9:D10) -> 2800 | E8: =SUM(E9:E10) -> 0 | F8: =SUM(F9:F10) -> 0 | G8: =SUM(G9:G10) -> 0 | H8: =SUM(H9:H10) -> 0 | I8: =SUM(I9:I10) -> 0 | ... M8: =SUM(M9:M10) -> 0 | N8: =SUM(B8:M8) -> 9849
A9: Salarios | B9: =SUMIFS(ING!$H:$H,ING!$L:$L,'Tesorería por meses'!B1,ING!$J:$J,'Tesorería por meses'!$A$9) -> 3420 | C9: =SUMIFS(ING!$H:$H,ING!$L:$L,'Tesorería por meses'!C1,ING!$J:$J,'Tesorería por meses'!$A$9) -> 2129 | D9: =SUMIFS(ING!$H:$H,ING!$L:$L,'Tesorería por meses'!D1,ING!$J:$J,'Tesorería por meses'!$A$9) -> 2000 | E9: =SUMIFS(ING!$H:$H,ING!$L:$L,'Tesorería por meses'!E1,ING!$J:$J,'Tesorería por meses'!$A$9) -> 0 | F9: =SUMIFS(ING!$H:$H,ING!$L:$L,'Tesorería por meses'!F1,ING!$J:$J,'Tesorería por meses'!$A$9) -> 0 | G9: =SUMIFS(ING!$H:$H,ING!$L:$L,'Tesorería por meses'!G1,ING!$J:$J,'Tesorería por meses'!$A$9) -> 0 | H9: =SUMIFS(ING!$H:$H,ING!$L:$L,'Tesorería por meses'!H1,ING!$J:$J,'Tesorería por meses'!$A$9) -> 0 | I9: =SUMIFS(ING!$H:$H,ING!$L:$L,'Tesorería por meses'!I1,ING!$J:$J,'Tesorería por meses'!$A$9) -> 0 | ... M9: =SUMIFS(ING!$H:$H,ING!$L:$L,'Tesorería por meses'!M1,ING!$J:$J,'Tesorería por meses'!$A$9) -> 0 | N9: =SUM(B9:M9) -> 7549
A10: Seguridad Social | B10: =SUMIFS(ING!$H:$H,ING!$L:$L,'Tesorería por meses'!B1,ING!$J:$J,'Tesorería por meses'!$A$10) -> 720 | C10: =SUMIFS(ING!$H:$H,ING!$L:$L,'Tesorería por meses'!C1,ING!$J:$J,'Tesorería por meses'!$A$10) -> 780 | D10: =SUMIFS(ING!$H:$H,ING!$L:$L,'Tesorería por meses'!D1,ING!$J:$J,'Tesorería por meses'!$A$10) -> 800 | E10: =SUMIFS(ING!$H:$H,ING!$L:$L,'Tesorería por meses'!E1,ING!$J:$J,'Tesorería por meses'!$A$10) -> 0 | F10: =SUMIFS(ING!$H:$H,ING!$L:$L,'Tesorería por meses'!F1,ING!$J:$J,'Tesorería por meses'!$A$10) -> 0 | G10: =SUMIFS(ING!$H:$H,ING!$L:$L,'Tesorería por meses'!G1,ING!$J:$J,'Tesorería por meses'!$A$10) -> 0 | H10: =SUMIFS(ING!$H:$H,ING!$L:$L,'Tesorería por meses'!H1,ING!$J:$J,'Tesorería por meses'!$A$10) -> 0 | I10: =SUMIFS(ING!$H:$H,ING!$L:$L,'Tesorería por meses'!I1,ING!$J:$J,'Tesorería por meses'!$A$10) -> 0 | ... M10: =SUMIFS(ING!$H:$H,ING!$L:$L,'Tesorería por meses'!M1,ING!$J:$J,'Tesorería por meses'!$A$10) -> 0 | N10: =SUM(B10:M10) -> 2300
A11: Servicios externos | B11: =SUM(B12:B16) -> 1877.53 | C11: =SUM(C12:C16) -> 1692.22 | D11: =SUM(D12:D16) -> 1324.45 | E11: =SUM(E12:E16) -> 0 | F11: =SUM(F12:F16) -> 0 | G11: =SUM(G12:G16) -> 0 | H11: =SUM(H12:H16) -> 0 | I11: =SUM(I12:I16) -> 0 | ... M11: =SUM(M12:M16) -> 0 | N11: =SUM(B11:M11) -> 4894.2
A12: Suministro | B12: =SUMIFS(ING!$H:$H,ING!$L:$L,'Tesorería por meses'!B1,ING!$J:$J,'Tesorería por meses'!$A$12) -> 18.99 | C12: =SUMIFS(ING!$H:$H,ING!$L:$L,'Tesorería por meses'!C1,ING!$J:$J,'Tesorería por meses'!$A$12) -> 113.38 | D12: =SUMIFS(ING!$H:$H,ING!$L:$L,'Tesorería por meses'!D1,ING!$J:$J,'Tesorería por meses'!$A$12) -> 67.1 | E12: =SUMIFS(ING!$H:$H,ING!$L:$L,'Tesorería por meses'!E1,ING!$J:$J,'Tesorería por meses'!$A$12) -> 0 | F12: =SUMIFS(ING!$H:$H,ING!$L:$L,'Tesorería por meses'!F1,ING!$J:$J,'Tesorería por meses'!$A$12) -> 0 | G12: =SUMIFS(ING!$H:$H,ING!$L:$L,'Tesorería por meses'!G1,ING!$J:$J,'Tesorería por meses'!$A$12) -> 0 | H12: =SUMIFS(ING!$H:$H,ING!$L:$L,'Tesorería por meses'!H1,ING!$J:$J,'Tesorería por meses'!$A$12) -> 0 | I12: =SUMIFS(ING!$H:$H,ING!$L:$L,'Tesorería por meses'!I1,ING!$J:$J,'Tesorería por meses'!$A$12) -> 0 | ... M12: =SUMIFS(ING!$H:$H,ING!$L:$L,'Tesorería por meses'!M1,ING!$J:$J,'Tesorería por meses'!$A$12) -> 0 | N12: =SUM(B12:M12) -> 199.47
A13: Servicios Profesionales | B13: =SUMIFS(ING!$H:$H,ING!$L:$L,'Tesorería por meses'!B1,ING!$J:$J,'Tesorería por meses'!$A$13) -> 1200.94 | C13: =SUMIFS(ING!$H:$H,ING!$L:$L,'Tesorería por meses'!C1,ING!$J:$J,'Tesorería por meses'!$A$13) -> 1111.14 | D13: =SUMIFS(ING!$H:$H,ING!$L:$L,'Tesorería por meses'!D1,ING!$J:$J,'Tesorería por meses'!$A$13) -> 1112.35 | E13: =SUMIFS(ING!$H:$H,ING!$L:$L,'Tesorería por meses'!E1,ING!$J:$J,'Tesorería por meses'!$A$13) -> 0 | F13: =SUMIFS(ING!$H:$H,ING!$L:$L,'Tesorería por meses'!F1,ING!$J:$J,'Tesorería por meses'!$A$13) -> 0 | G13: =SUMIFS(ING!$H:$H,ING!$L:$L,'Tesorería por meses'!G1,ING!$J:$J,'Tesorería por meses'!$A$13) -> 0 | H13: =SUMIFS(ING!$H:$H,ING!$L:$L,'Tesorería por meses'!H1,ING!$J:$J,'Tesorería por meses'!$A$13) -> 0 | I13: =SUMIFS(ING!$H:$H,ING!$L:$L,'Tesorería por meses'!I1,ING!$J:$J,'Tesorería por meses'!$A$13) -> 0 | ... M13: =SUMIFS(ING!$H:$H,ING!$L:$L,'Tesorería por meses'!M1,ING!$J:$J,'Tesorería por meses'!$A$13) -> 0 | N13: =SUM(B13:M13) -> 3424.43
A14: Mantenimiento | B14: =SUMIFS(ING!$H:$H,ING!$L:$L,'Tesorería por meses'!B1,ING!$J:$J,'Tesorería por meses'!$A$14) -> 406.23 | C14: =SUMIFS(ING!$H:$H,ING!$L:$L,'Tesorería por meses'!C1,ING!$J:$J,'Tesorería por meses'!$A$14) -> 350.88 | D14: =SUMIFS(ING!$H:$H,ING!$L:$L,'Tesorería por meses'!D1,ING!$J:$J,'Tesorería por meses'!$A$14) -> 0 | E14: =SUMIFS(ING!$H:$H,ING!$L:$L,'Tesorería por meses'!E1,ING!$J:$J,'Tesorería por meses'!$A$14) -> 0 | F14: =SUMIFS(ING!$H:$H,ING!$L:$L,'Tesorería por meses'!F1,ING!$J:$J,'Tesorería por meses'!$A$14) -> 0 | G14: =SUMIFS(ING!$H:$H,ING!$L:$L,'Tesorería por meses'!G1,ING!$J:$J,'Tesorería por meses'!$A$14) -> 0 | H14: =SUMIFS(ING!$H:$H,ING!$L:$L,'Tesorería por meses'!H1,ING!$J:$J,'Tesorería por meses'!$A$14) -> 0 | I14: =SUMIFS(ING!$H:$H,ING!$L:$L,'Tesorería por meses'!I1,ING!$J:$J,'Tesorería por meses'!$A$14) -> 0 | ... M14: =SUMIFS(ING!$H:$H,ING!$L:$L,'Tesorería por meses'!M1,ING!$J:$J,'Tesorería por meses'!$A$14) -> 0 | N14: =SUM(B14:M14) -> 757.11
A15: Publicidad, RRSS, WEB | B15: =SUMIFS(ING!$H:$H,ING!$L:$L,'Tesorería por meses'!B1,ING!$J:$J,'Tesorería por meses'!$A$15) -> 150 | C15: =SUMIFS(ING!$H:$H,ING!$L:$L,'Tesorería por meses'!C1,ING!$J:$J,'Tesorería por meses'!$A$15) -> 70.51 | D15: =SUMIFS(ING!$H:$H,ING!$L:$L,'Tesorería por meses'!D1,ING!$J:$J,'Tesorería por meses'!$A$15) -> 145 | E15: =SUMIFS(ING!$H:$H,ING!$L:$L,'Tesorería por meses'!E1,ING!$J:$J,'Tesorería por meses'!$A$15) -> 0 | F15: =SUMIFS(ING!$H:$H,ING!$L:$L,'Tesorería por meses'!F1,ING!$J:$J,'Tesorería por meses'!$A$15) -> 0 | G15: =SUMIFS(ING!$H:$H,ING!$L:$L,'Tesorería por meses'!G1,ING!$J:$J,'Tesorería por meses'!$A$15) -> 0 | H15: =SUMIFS(ING!$H:$H,ING!$L:$L,'Tesorería por meses'!H1,ING!$J:$J,'Tesorería por meses'!$A$15) -> 0 | I15: =SUMIFS(ING!$H:$H,ING!$L:$L,'Tesorería por meses'!I1,ING!$J:$J,'Tesorería por meses'!$A$15) -> 0 | ... M15: =SUMIFS(ING!$H:$H,ING!$L:$L,'Tesorería por meses'!M1,ING!$J:$J,'Tesorería por meses'!$A$15) -> 0 | N15: =SUM(B15:M15) -> 365.51
A16: Seguros | B16: =SUMIFS(ING!$H:$H,ING!$L:$L,'Tesorería por meses'!B1,ING!$J:$J,'Tesorería por meses'!$A$16) -> 101.37 | C16: =SUMIFS(ING!$H:$H,ING!$L:$L,'Tesorería por meses'!C1,ING!$J:$J,'Tesorería por meses'!$A$16) -> 46.31 | D16: =SUMIFS(ING!$H:$H,ING!$L:$L,'Tesorería por meses'!D1,ING!$J:$J,'Tesorería por meses'!$A$16) -> 0 | E16: =SUMIFS(ING!$H:$H,ING!$L:$L,'Tesorería por meses'!E1,ING!$J:$J,'Tesorería por meses'!$A$16) -> 0 | F16: =SUMIFS(ING!$H:$H,ING!$L:$L,'Tesorería por meses'!F1,ING!$J:$J,'Tesorería por meses'!$A$16) -> 0 | G16: =SUMIFS(ING!$H:$H,ING!$L:$L,'Tesorería por meses'!G1,ING!$J:$J,'Tesorería por meses'!$A$16) -> 0 | H16: =SUMIFS(ING!$H:$H,ING!$L:$L,'Tesorería por meses'!H1,ING!$J:$J,'Tesorería por meses'!$A$16) -> 0 | I16: =SUMIFS(ING!$H:$H,ING!$L:$L,'Tesorería por meses'!I1,ING!$J:$J,'Tesorería por meses'!$A$16) -> 0 | ... M16: =SUMIFS(ING!$H:$H,ING!$L:$L,'Tesorería por meses'!M1,ING!$J:$J,'Tesorería por meses'!$A$16) -> 0 | N16: =SUM(B16:M16) -> 147.68
A17: Impuestos | B17: =SUMIFS(ING!$H:$H,ING!$L:$L,'Tesorería por meses'!B1,ING!$J:$J,'Tesorería por meses'!$A$17) -> 145 | C17: =SUMIFS(ING!$H:$H,ING!$L:$L,'Tesorería por meses'!C1,ING!$J:$J,'Tesorería por meses'!$A$17) -> 283.32 | D17: =SUMIFS(ING!$H:$H,ING!$L:$L,'Tesorería por meses'!D1,ING!$J:$J,'Tesorería por meses'!$A$17) -> 0 | E17: =SUMIFS(ING!$H:$H,ING!$L:$L,'Tesorería por meses'!E1,ING!$J:$J,'Tesorería por meses'!$A$17) -> 0 | F17: =SUMIFS(ING!$H:$H,ING!$L:$L,'Tesorería por meses'!F1,ING!$J:$J,'Tesorería por meses'!$A$17) -> 0 | G17: =SUMIFS(ING!$H:$H,ING!$L:$L,'Tesorería por meses'!G1,ING!$J:$J,'Tesorería por meses'!$A$17) -> 0 | H17: =SUMIFS(ING!$H:$H,ING!$L:$L,'Tesorería por meses'!H1,ING!$J:$J,'Tesorería por meses'!$A$17) -> 0 | I17: =SUMIFS(ING!$H:$H,ING!$L:$L,'Tesorería por meses'!I1,ING!$J:$J,'Tesorería por meses'!$A$17) -> 0 | ... M17: =SUMIFS(ING!$H:$H,ING!$L:$L,'Tesorería por meses'!M1,ING!$J:$J,'Tesorería por meses'!$A$17) -> 0 | N17: =SUM(B17:M17) -> 428.32
A18: TOTAL PAGOS | B18: =B7+B8+B11+B17 -> 6774.88 | C18: =C7+C8+C11+C17 -> 5640.54 | D18: =D7+D8+D11+D17 -> 4814.45 | E18: =E7+E8+E11+E17 -> 0 | F18: =F7+F8+F11+F17 -> 0 | G18: =G7+G8+G11+G17 -> 0 | H18: =H7+H8+H11+H17 -> 0 | I18: =I7+I8+I11+I17 -> 0 | ... N18: =N7+N8+N11+N17 -> 17229.87
A20: SALDO INICIAL | B20: 0 | C20: =B23 -> -744.88 | D20: =C23 -> 3364.58 | E20: =IF(E21>0,D23,"0") -> 0 | F20: =E23 -> 0 | G20: =F23 -> 0 | H20: =G23 -> 0 | I20: =H23 -> 0 | J20: =I23 -> 0 | K20: =J23 -> 0 | L20: =K23 -> 0 | M20: =L23 -> 0
A21: COBROS - PAGOS | B21: =B5-B18 -> -744.88 | C21: =C5-C18 -> 4109.46 | D21: =D5-D18 -> 3685.55 | E21: =E5-E18 -> 0 | F21: =F5-F18 -> 0 | G21: =G5-G18 -> 0 | H21: =H5-H18 -> 0 | I21: =I5-I18 -> 0 | ... L21: =L5-L18 -> 0 | M21: =[1]TESORERIA!N57 -> 0
A23: SALDO FINAL | B23: =B20+B21 -> -744.88 | C23: =C20+C21 -> 3364.58 | D23: =D20+D21 -> 7050.13 | E23: =E20+E21 -> 0 | F23: =F20+F21 -> 0 | G23: =G20+G21 -> 0 | H23: =H20+H21 -> 0 | I23: =I20+I21 -> 0 | ... M23: =M20+M21 -> 0

Sheet ING
B2: MOVIMIENTOS DESDE : | O2: Enero | P2: Febrero | Q2: Marzo | R2: Abril | S2: Mayo | T2: Junio | U2: Julio | V2: Agosto | W2: Septiembre | X2: Octubre | Y2: Noviembre | Z2: Diciembre
N3: Ingreso | O3: =SUMIFS($G:$G,$L:$L,O2) -> 6030 | P3: =SUMIFS($G:$G,$L:$L,P2) -> 9750 | Q3: =SUMIFS($G:$G,$L:$L,Q2) -> 8500 | R3: =SUMIFS($G:$G,$L:$L,R2) -> 0 | S3: =SUMIFS($G:$G,$L:$L,S2) -> 0 | T3: =SUMIFS($G:$G,$L:$L,T2) -> 0 | U3: =SUMIFS($G:$G,$L:$L,U2) -> 0 | V3: =SUMIFS($G:$G,$L:$L,V2) -> 0 | ... Z3: =SUMIFS($G:$G,$L:$L,Z2) -> 0
B4: Número de cuenta | C4: Oficina | D4: Divisa | E4: F. Operación | F4: F. Valor | G4: Ingreso (+) | H4: Gasto (-) | I4: Referencia 1 | J4: Concepto Comun | K4: Origen | L4: Mes | N4: Gasto | O4: =SUMIFS($H:$H,$L:$L,O2) -> 6774.88 | P4: =SUMIFS($H:$H,$L:$L,P2) -> 5640.54 | Q4: =SUMIFS($H:$H,$L:$L,Q2) -> 4814.45 | R4: =SUMIFS($H:$H,$L:$L,R2) -> 0 | S4: =SUMIFS($H:$H,$L:$L,S2) -> 0 | T4: =SUMIFS($H:$H,$L:$L,T2) -> 0 | U4: =SUMIFS($H:$H,$L:$L,U2) -> 0 | V4: =SUMIFS($H:$H,$L:$L,V2) -> 0 | ... Z4: =SUMIFS($H:$H,$L:$L,Z2) -> 0
D5: EUR | E5: 43897 | F5: 43897 | G5: 2000 | I5: 000000000000 | L5: =TEXT(E5,"mmmm") -> marzo
D6: EUR | E6: 43897 | F6: 43897 | G6: 3500 | I6: 000000000000 | L6: =TEXT(E6,"mmmm") -> marzo
D7: EUR | E7: 43897 | F7: 43897 | G7: 2000 | I7: 000000000000 | L7: =TEXT(E7,"mmmm") -> marzo
D8: EUR | E8: 43897 | F8: 43897 | G8: 1000 | I8: 000000000000 | L8: =TEXT(E8,"mmmm") -> marzo
D9: EUR | E9: 43896 | F9: 43896 | H9: 100 | I9: 000000000000 | J9: Publicidad, RRSS, WEB | L9: =TEXT(E9,"mmmm") -> marzo
D10: EUR | E10: 43896 | F10: 43896 | H10: 800 | I10: 000000000000 | J10: Seguridad Social | L10: =TEXT(E10,"mmmm") -> marzo
D11: EUR | E11: 43896 | F11: 43896 | H11: 2000 | I11: 000000000000 | J11: Salarios | L11: =TEXT(E11,"mmmm") -> marzo
D12: EUR | E12: 43895 | F12: 43895 | H12: 806.7 | I12: 000000000000 | J12: Servicios Profesionales | L12: =TEXT(E12,"mmmm") -> marzo
D13: EUR | E13: 43895 | F13: 43895 | H13: 305.65 | I13: 000000000000 | J13: Servicios Profesionales | L13: =TEXT(E13,"mmmm") -> marzo
D14: EUR | E14: 43894 | F14: 43894 | H14: 45 | I14: 000000000000 | J14: Publicidad, RRSS, WEB | L14: =TEXT(E14,"mmmm") -> marzo
D15: EUR | E15: 43894 | F15: 43894 | H15: 240 | I15: 000000000000 | J15: Compras | K15: Empresa Pepe SA | L15: =TEXT(E15,"mmmm") -> marzo
D16: EUR | E16: 43893 | F16: 43893 | H16: 450 | I16: 000000000000 | J16: Compras | L16: =TEXT(E16,"mmmm") -> marzo
D17: EUR | E17: 43892 | F17: 43892 | H17: 13.85 | I17: 000000000000 | J17: Suministro | L17: =TEXT(E17,"mmmm") -> marzo
D18: EUR | E18: 43891 | F18: 43891 | H18: 53.25 | I18: 000000000000 | J18: Suministro | L18: =TEXT(E18,"mmmm") -> marzo
D19: EUR | E19: 43889 | F19: 43889 | H19: 205.88 | I19: 000000000000 | J19: Mantenimiento | L19: =TEXT(E19,"mmmm") -> febrero
D20: EUR | E20: 43889 | F20: 43889 | H20: 283.32 | I20: 000000000000 | J20: Impuestos | L20: =TEXT(E20,"mmmm") -> febrero
D21: EUR | E21: 43887 | F21: 43887 | G21: 3000 | I21: 000000000000 | L21: =TEXT(E21,"mmmm") -> febrero
D22: EUR | E22: 43887 | F22: 43887 | G22: 2500 | I22: 000000000000 | L22: =TEXT(E22,"mmmm") -> febrero
D23: EUR | E23: 43887 | F23: 43887 | G23: 1450 | I23: 000000000000 | L23: =TEXT(E23,"mmmm") -> febrero
D24: EUR | E24: 43887 | F24: 43887 | H24: 58.58 | I24: 000000000000 | J24: Publicidad, RRSS, WEB | L24: =TEXT(E24,"mmmm") -> febrero
D25: EUR | E25: 43886 | F25: 43886 | H25: 11.93 | I25: 000000000000 | J25: Publicidad, RRSS, WEB | L25: =TEXT(E25,"mmmm") -> febrero
D26: EUR | E26: 43885 | F26: 43885 | H26: 10 | I26: 000000000000 | J26: Seguros | L26: =TEXT(E26,"mmmm") -> febrero
D27: EUR | E27: 43885 | F27: 43885 | H27: 5.66 | I27: 000000000000 | J27: Seguros | L27: =TEXT(E27,"mmmm") -> febrero
D28: EUR | E28: 43884 | F28: 43884 | H28: 13 | I28: 000000000000 | J28: Seguros | L28: =TEXT(E28,"mmmm") -> febrero
D29: EUR | E29: 43884 | F29: 43884 | H29: 2129 | I29: 000000000000 | J29: Salarios | L29: =TEXT(E29,"mmmm") -> febrero
D30: EUR | E30: 43883 | F30: 43883 | H30: 780 | I30: 000000000000 | J30: Seguridad Social | L30: =TEXT(E30,"mmmm") -> febrero
D31: EUR | E31: 43882 | F31: 43882 | H31: 1111.14 | I31: 000000000000 | J31: Servicios Profesionales | L31: =TEXT(E31,"mmmm") -> febrero
D32: EUR | E32: 43882 | F32: 43882 | H32: 756 | I32: 000000000000 | J32: Compras | L32: =TEXT(E32,"mmmm") -> febrero
D33: EUR | E33: 43881 | F33: 43881 | H33: 78.9 | I33: 000000000000 | J33: Suministro | L33: =TEXT(E33,"mmmm") -> febrero
D34: EUR | E34: 43881 | F34: 43881 | H34: 34.48 | I34: 000000000000 | J34: Suministro | L34: =TEXT(E34,"mmmm") -> febrero
D35: EUR | E35: 43879 | F35: 43879 | H35: 145 | I35: 000000000000 | J35: Mantenimiento | L35: =TEXT(E35,"mmmm") -> febrero
D36: EUR | E36: 43877 | F36: 43877 | H36: 17.65 | I36: 000000000000 | J36: Seguros | L36: =TEXT(E36,"mmmm") -> febrero
D37: EUR | E37: 43877 | F37: 43877 | G37: 2800 | I37: 000000000000 | L37: =TEXT(E37,"mmmm") -> febrero
D38: EUR | E38: 40206 | F38: 43843 | G38: 2200 | I38: 000000000000 | L38: =TEXT(E38,"mmmm") -> enero
D39: EUR | E39: 40206 | F39: 43844 | G39: 1250 | I39: 000000000000 | L39: =TEXT(E39,"mmmm") -> enero
D40: EUR | E40: 40204 | F40: 43845 | G40: 1080 | I40: 000000000000 | L40: =TEXT(E40,"mmmm") -> enero
D41: EUR | E41: 40204 | F41: 43846 | H41: 9.99 | I41: 000000000000 | J41: Suministro | L41: =TEXT(E41,"mmmm") -> enero
...

Sheet BANKIA
B2: MOVIMIENTOS DESDE : | O2: Enero | P2: Febrero | Q2: Marzo | R2: Abril | S2: Mayo | T2: Junio | U2: Julio | V2: Agosto | W2: Septiembre | X2: Octubre | Y2: Noviembre | Z2: Diciembre
N3: Ingreso | O3: =SUMIFS($G:$G,$L:$L,O2) -> 6030 | P3: =SUMIFS($G:$G,$L:$L,P2) -> 9750 | Q3: =SUMIFS($G:$G,$L:$L,Q2) -> 8500 | R3: =SUMIFS($G:$G,$L:$L,R2) -> 0 | S3: =SUMIFS($G:$G,$L:$L,S2) -> 0 | T3: =SUMIFS($G:$G,$L:$L,T2) -> 0 | U3: =SUMIFS($G:$G,$L:$L,U2) -> 0 | V3: =SUMIFS($G:$G,$L:$L,V2) -> 0 | ... Z3: =SUMIFS($G:$G,$L:$L,Z2) -> 0
B4: Número de cuenta | C4: Oficina | D4: Divisa | E4: F. Operación | F4: F. Valor | G4: Ingreso (+) | H4: Gasto (-) | I4: Referencia 1 | J4: Concepto Comun | K4: Origen | L4: Mes | N4: Gasto | O4: =SUMIFS($H:$H,$L:$L,O2) -> 6774.88 | P4: =SUMIFS($H:$H,$L:$L,P2) -> 5640.54 | Q4: =SUMIFS($H:$H,$L:$L,Q2) -> 4814.45 | R4: =SUMIFS($H:$H,$L:$L,R2) -> 0 | S4: =SUMIFS($H:$H,$L:$L,S2) -> 0 | T4: =SUMIFS($H:$H,$L:$L,T2) -> 0 | U4: =SUMIFS($H:$H,$L:$L,U2) -> 0 | V4: =SUMIFS($H:$H,$L:$L,V2) -> 0 | ... Z4: =SUMIFS($H:$H,$L:$L,Z2) -> 0
D5: EUR | E5: 43897 | F5: 43897 | G5: 2000 | I5: 000000000000 | L5: =TEXT(E5,"mmmmmmmmmmmm") -> marzo
D6: EUR | E6: 43897 | F6: 43897 | G6: 3500 | I6: 000000000000 | L6: =TEXT(E6,"mmmmmmmmmmmm") -> marzo
D7: EUR | E7: 43897 | F7: 43897 | G7: 2000 | I7: 000000000000 | L7: =TEXT(E7,"mmmmmmmmmmmm") -> marzo
D8: EUR | E8: 43897 | F8: 43897 | G8: 1000 | I8: 000000000000 | L8: =TEXT(E8,"mmmmmmmmmmmm") -> marzo
D9: EUR | E9: 43896 | F9: 43896 | H9: 100 | I9: 000000000000 | J9: Publicidad, RRSS, WEB | L9: =TEXT(E9,"mmmmmmmmmmmm") -> marzo
D10: EUR | E10: 43896 | F10: 43896 | H10: 800 | I10: 000000000000 | J10: Seguridad Social | L10: =TEXT(E10,"mmmmmmmmmmmm") -> marzo
D11: EUR | E11: 43896 | F11: 43896 | H11: 2000 | I11: 000000000000 | J11: Salarios | L11: =TEXT(E11,"mmmmmmmmmmmm") -> marzo
D12: EUR | E12: 43895 | F12: 43895 | H12: 806.7 | I12: 000000000000 | J12: Servicios Profesionales | L12: =TEXT(E12,"mmmmmmmmmmmm") -> marzo
D13: EUR | E13: 43895 | F13: 43895 | H13: 305.65 | I13: 000000000000 | J13: Servicios Profesionales | L13: =TEXT(E13,"mmmmmmmmmmmm") -> marzo
D14: EUR | E14: 43894 | F14: 43894 | H14: 45 | I14: 000000000000 | J14: Publicidad, RRSS, WEB | L14: =TEXT(E14,"mmmmmmmmmmmm") -> marzo
D15: EUR | E15: 43894 | F15: 43894 | H15: 240 | I15: 000000000000 | J15: Compras | L15: =TEXT(E15,"mmmmmmmmmmmm") -> marzo
D16: EUR | E16: 43893 | F16: 43893 | H16: 450 | I16: 000000000000 | J16: Compras | L16: =TEXT(E16,"mmmmmmmmmmmm") -> marzo
D17: EUR | E17: 43892 | F17: 43892 | H17: 13.85 | I17: 000000000000 | J17: Suministro | L17: =TEXT(E17,"mmmmmmmmmmmm") -> marzo
D18: EUR | E18: 43891 | F18: 43891 | H18: 53.25 | I18: 000000000000 | J18: Suministro | L18: =TEXT(E18,"mmmmmmmmmmmm") -> marzo
D19: EUR | E19: 43889 | F19: 43889 | H19: 205.88 | I19: 000000000000 | J19: Mantenimiento | L19: =TEXT(E19,"mmmmmmmmmmmm") -> febrero
D20: EUR | E20: 43889 | F20: 43889 | H20: 283.32 | I20: 000000000000 | J20: Impuestos | L20: =TEXT(E20,"mmmmmmmmmmmm") -> febrero
D21: EUR | E21: 43887 | F21: 43887 | G21: 3000 | I21: 000000000000 | L21: =TEXT(E21,"mmmmmmmmmmmm") -> febrero
D22: EUR | E22: 43887 | F22: 43887 | G22: 2500 | I22: 000000000000 | L22: =TEXT(E22,"mmmmmmmmmmmm") -> febrero
D23: EUR | E23: 43887 | F23: 43887 | G23: 1450 | I23: 000000000000 | L23: =TEXT(E23,"mmmmmmmmmmmm") -> febrero
D24: EUR | E24: 43887 | F24: 43887 | H24: 58.58 | I24: 000000000000 | J24: Publicidad, RRSS, WEB | L24: =TEXT(E24,"mmmmmmmmmmmm") -> febrero
D25: EUR | E25: 43886 | F25: 43886 | H25: 11.93 | I25: 000000000000 | J25: Publicidad, RRSS, WEB | L25: =TEXT(E25,"mmmmmmmmmmmm") -> febrero
D26: EUR | E26: 43885 | F26: 43885 | H26: 10 | I26: 000000000000 | J26: Seguros | L26: =TEXT(E26,"mmmmmmmmmmmm") -> febrero
D27: EUR | E27: 43885 | F27: 43885 | H27: 5.66 | I27: 000000000000 | J27: Seguros | L27: =TEXT(E27,"mmmmmmmmmmmm") -> febrero
D28: EUR | E28: 43884 | F28: 43884 | H28: 13 | I28: 000000000000 | J28: Seguros | L28: =TEXT(E28,"mmmmmmmmmmmm") -> febrero
D29: EUR | E29: 43884 | F29: 43884 | H29: 2129 | I29: 000000000000 | J29: Salarios | L29: =TEXT(E29,"mmmmmmmmmmmm") -> febrero
D30: EUR | E30: 43883 | F30: 43883 | H30: 780 | I30: 000000000000 | J30: Seguridad Social | L30: =TEXT(E30,"mmmmmmmmmmmm") -> febrero
D31: EUR | E31: 43882 | F31: 43882 | H31: 1111.14 | I31: 000000000000 | J31: Servicios Profesionales | L31: =TEXT(E31,"mmmmmmmmmmmm") -> febrero
D32: EUR | E32: 43882 | F32: 43882 | H32: 756 | I32: 000000000000 | J32: Compras | L32: =TEXT(E32,"mmmmmmmmmmmm") -> febrero
D33: EUR | E33: 43881 | F33: 43881 | H33: 78.9 | I33: 000000000000 | J33: Suministro | L33: =TEXT(E33,"mmmmmmmmmmmm") -> febrero
D34: EUR | E34: 43881 | F34: 43881 | H34: 34.48 | I34: 000000000000 | J34: Suministro | L34: =TEXT(E34,"mmmmmmmmmmmm") -> febrero
D35: EUR | E35: 43879 | F35: 43879 | H35: 145 | I35: 000000000000 | J35: Mantenimiento | L35: =TEXT(E35,"mmmmmmmmmmmm") -> febrero
D36: EUR | E36: 43877 | F36: 43877 | H36: 17.65 | I36: 000000000000 | J36: Seguros | L36: =TEXT(E36,"mmmmmmmmmmmm") -> febrero
D37: EUR | E37: 43877 | F37: 43877 | G37: 2800 | I37: 000000000000 | L37: =TEXT(E37,"mmmmmmmmmmmm") -> febrero
D38: EUR | E38: 40206 | F38: 43843 | G38: 2200 | I38: 000000000000 | L38: =TEXT(E38,"mmmmmmmmmmmm") -> enero
D39: EUR | E39: 40206 | F39: 43844 | G39: 1250 | I39: 000000000000 | L39: =TEXT(E39,"mmmmmmmmmmmm") -> enero
D40: EUR | E40: 40204 | F40: 43845 | G40: 1080 | I40: 000000000000 | L40: =TEXT(E40,"mmmmmmmmmmmm") -> enero
D41: EUR | E41: 40204 | F41: 43846 | H41: 9.99 | I41: 000000000000 | J41: Suministro | L41: =TEXT(E41,"mmmmmmmmmmmm") -> enero
...

Sheet BANKIA2
B2: MOVIMIENTOS DESDE : | O2: Enero | P2: Febrero | Q2: Marzo | R2: Abril | S2: Mayo | T2: Junio | U2: Julio | V2: Agosto | W2: Septiembre | X2: Octubre | Y2: Noviembre | Z2: Diciembre
N3: Ingreso | O3: =SUMIFS($G:$G,$L:$L,O2) -> 6030 | P3: =SUMIFS($G:$G,$L:$L,P2) -> 9750 | Q3: =SUMIFS($G:$G,$L:$L,Q2) -> 8500 | R3: =SUMIFS($G:$G,$L:$L,R2) -> 0 | S3: =SUMIFS($G:$G,$L:$L,S2) -> 0 | T3: =SUMIFS($G:$G,$L:$L,T2) -> 0 | U3: =SUMIFS($G:$G,$L:$L,U2) -> 0 | V3: =SUMIFS($G:$G,$L:$L,V2) -> 0 | ... Z3: =SUMIFS($G:$G,$L:$L,Z2) -> 0
B4: Número de cuenta | C4: Oficina | D4: Divisa | E4: F. Operación | F4: F. Valor | G4: Ingreso (+) | H4: Gasto (-) | I4: Referencia 1 | J4: Concepto Comun | K4: Origen | L4: Mes | N4: Gasto | O4: =SUMIFS($H:$H,$L:$L,O2) -> 6774.88 | P4: =SUMIFS($H:$H,$L:$L,P2) -> 5640.54 | Q4: =SUMIFS($H:$H,$L:$L,Q2) -> 4814.45 | R4: =SUMIFS($H:$H,$L:$L,R2) -> 0 | S4: =SUMIFS($H:$H,$L:$L,S2) -> 0 | T4: =SUMIFS($H:$H,$L:$L,T2) -> 0 | U4: =SUMIFS($H:$H,$L:$L,U2) -> 0 | V4: =SUMIFS($H:$H,$L:$L,V2) -> 0 | ... Z4: =SUMIFS($H:$H,$L:$L,Z2) -> 0
D5: EUR | E5: 43897 | F5: 43897 | G5: 2000 | I5: 000000000000 | L5: =TEXT(E5,"mmmmmmmmmmmm") -> marzo
D6: EUR | E6: 43897 | F6: 43897 | G6: 3500 | I6: 000000000000 | L6: =TEXT(E6,"mmmmmmmmmmmm") -> marzo
D7: EUR | E7: 43897 | F7: 43897 | G7: 2000 | I7: 000000000000 | L7: =TEXT(E7,"mmmmmmmmmmmm") -> marzo
D8: EUR | E8: 43897 | F8: 43897 | G8: 1000 | I8: 000000000000 | L8: =TEXT(E8,"mmmmmmmmmmmm") -> marzo
D9: EUR | E9: 43896 | F9: 43896 | H9: 100 | I9: 000000000000 | J9: Publicidad, RRSS, WEB | L9: =TEXT(E9,"mmmmmmmmmmmm") -> marzo
D10: EUR | E10: 43896 | F10: 43896 | H10: 800 | I10: 000000000000 | J10: Seguridad Social | L10: =TEXT(E10,"mmmmmmmmmmmm") -> marzo
D11: EUR | E11: 43896 | F11: 43896 | H11: 2000 | I11: 000000000000 | J11: Salarios | L11: =TEXT(E11,"mmmmmmmmmmmm") -> marzo
D12: EUR | E12: 43895 | F12: 43895 | H12: 806.7 | I12: 000000000000 | J12: Servicios Profesionales | L12: =TEXT(E12,"mmmmmmmmmmmm") -> marzo
D13: EUR | E13: 43895 | F13: 43895 | H13: 305.65 | I13: 000000000000 | J13: Servicios Profesionales | L13: =TEXT(E13,"mmmmmmmmmmmm") -> marzo
D14: EUR | E14: 43894 | F14: 43894 | H14: 45 | I14: 000000000000 | J14: Publicidad, RRSS, WEB | L14: =TEXT(E14,"mmmmmmmmmmmm") -> marzo
D15: EUR | E15: 43894 | F15: 43894 | H15: 240 | I15: 000000000000 | J15: Compras | L15: =TEXT(E15,"mmmmmmmmmmmm") -> marzo
D16: EUR | E16: 43893 | F16: 43893 | H16: 450 | I16: 000000000000 | J16: Compras | L16: =TEXT(E16,"mmmmmmmmmmmm") -> marzo
D17: EUR | E17: 43892 | F17: 43892 | H17: 13.85 | I17: 000000000000 | J17: Suministro | L17: =TEXT(E17,"mmmmmmmmmmmm") -> marzo
D18: EUR | E18: 43891 | F18: 43891 | H18: 53.25 | I18: 000000000000 | J18: Suministro | L18: =TEXT(E18,"mmmmmmmmmmmm") -> marzo
D19: EUR | E19: 43889 | F19: 43889 | H19: 205.88 | I19: 000000000000 | J19: Mantenimiento | L19: =TEXT(E19,"mmmmmmmmmmmm") -> febrero
D20: EUR | E20: 43889 | F20: 43889 | H20: 283.32 | I20: 000000000000 | J20: Impuestos | L20: =TEXT(E20,"mmmmmmmmmmmm") -> febrero
D21: EUR | E21: 43887 | F21: 43887 | G21: 3000 | I21: 000000000000 | L21: =TEXT(E21,"mmmmmmmmmmmm") -> febrero
D22: EUR | E22: 43887 | F22: 43887 | G22: 2500 | I22: 000000000000 | L22: =TEXT(E22,"mmmmmmmmmmmm") -> febrero
D23: EUR | E23: 43887 | F23: 43887 | G23: 1450 | I23: 000000000000 | L23: =TEXT(E23,"mmmmmmmmmmmm") -> febrero
D24: EUR | E24: 43887 | F24: 43887 | H24: 58.58 | I24: 000000000000 | J24: Publicidad, RRSS, WEB | L24: =TEXT(E24,"mmmmmmmmmmmm") -> febrero
D25: EUR | E25: 43886 | F25: 43886 | H25: 11.93 | I25: 000000000000 | J25: Publicidad, RRSS, WEB | L25: =TEXT(E25,"mmmmmmmmmmmm") -> febrero
D26: EUR | E26: 43885 | F26: 43885 | H26: 10 | I26: 000000000000 | J26: Seguros | L26: =TEXT(E26,"mmmmmmmmmmmm") -> febrero
D27: EUR | E27: 43885 | F27: 43885 | H27: 5.66 | I27: 000000000000 | J27: Seguros | L27: =TEXT(E27,"mmmmmmmmmmmm") -> febrero
D28: EUR | E28: 43884 | F28: 43884 | H28: 13 | I28: 000000000000 | J28: Seguros | L28: =TEXT(E28,"mmmmmmmmmmmm") -> febrero
D29: EUR | E29: 43884 | F29: 43884 | H29: 2129 | I29: 000000000000 | J29: Salarios | L29: =TEXT(E29,"mmmmmmmmmmmm") -> febrero
D30: EUR | E30: 43883 | F30: 43883 | H30: 780 | I30: 000000000000 | J30: Seguridad Social | L30: =TEXT(E30,"mmmmmmmmmmmm") -> febrero
D31: EUR | E31: 43882 | F31: 43882 | H31: 1111.14 | I31: 000000000000 | J31: Servicios Profesionales | L31: =TEXT(E31,"mmmmmmmmmmmm") -> febrero
D32: EUR | E32: 43882 | F32: 43882 | H32: 756 | I32: 000000000000 | J32: Compras | L32: =TEXT(E32,"mmmmmmmmmmmm") -> febrero
D33: EUR | E33: 43881 | F33: 43881 | H33: 78.9 | I33: 000000000000 | J33: Suministro | L33: =TEXT(E33,"mmmmmmmmmmmm") -> febrero
D34: EUR | E34: 43881 | F34: 43881 | H34: 34.48 | I34: 000000000000 | J34: Suministro | L34: =TEXT(E34,"mmmmmmmmmmmm") -> febrero
D35: EUR | E35: 43879 | F35: 43879 | H35: 145 | I35: 000000000000 | J35: Mantenimiento | L35: =TEXT(E35,"mmmmmmmmmmmm") -> febrero
D36: EUR | E36: 43877 | F36: 43877 | H36: 17.65 | I36: 000000000000 | J36: Seguros | L36: =TEXT(E36,"mmmmmmmmmmmm") -> febrero
D37: EUR | E37: 43877 | F37: 43877 | G37: 2800 | I37: 000000000000 | L37: =TEXT(E37,"mmmmmmmmmmmm") -> febrero
D38: EUR | E38: 40206 | F38: 43843 | G38: 2200 | I38: 000000000000 | L38: =TEXT(E38,"mmmmmmmmmmmm") -> enero
D39: EUR | E39: 40206 | F39: 43844 | G39: 1250 | I39: 000000000000 | L39: =TEXT(E39,"mmmmmmmmmmmm") -> enero
D40: EUR | E40: 40204 | F40: 43845 | G40: 1080 | I40: 000000000000 | L40: =TEXT(E40,"mmmmmmmmmmmm") -> enero
D41: EUR | E41: 40204 | F41: 43846 | H41: 9.99 | I41: 000000000000 | J41: Suministro | L41: =TEXT(E41,"mmmmmmmmmmmm") -> enero
...

Sheet BBVA
B2: MOVIMIENTOS DESDE : | O2: Enero | P2: Febrero | Q2: Marzo | R2: Abril | S2: Mayo | T2: Junio | U2: Julio | V2: Agosto | W2: Septiembre | X2: Octubre | Y2: Noviembre | Z2: Diciembre
N3: Ingreso | O3: =SUMIFS($G:$G,$L:$L,O2) -> 6030 | P3: =SUMIFS($G:$G,$L:$L,P2) -> 9750 | Q3: =SUMIFS($G:$G,$L:$L,Q2) -> 8500 | R3: =SUMIFS($G:$G,$L:$L,R2) -> 0 | S3: =SUMIFS($G:$G,$L:$L,S2) -> 0 | T3: =SUMIFS($G:$G,$L:$L,T2) -> 0 | U3: =SUMIFS($G:$G,$L:$L,U2) -> 0 | V3: =SUMIFS($G:$G,$L:$L,V2) -> 0 | ... Z3: =SUMIFS($G:$G,$L:$L,Z2) -> 0
B4: Número de cuenta | C4: Oficina | D4: Divisa | E4: F. Operación | F4: F. Valor | G4: Ingreso (+) | H4: Gasto (-) | I4: Referencia 1 | J4: Concepto Comun | K4: Origen | L4: Mes | N4: Gasto | O4: =SUMIFS($H:$H,$L:$L,O2) -> 6774.88 | P4: =SUMIFS($H:$H,$L:$L,P2) -> 5640.54 | Q4: =SUMIFS($H:$H,$L:$L,Q2) -> 4814.45 | R4: =SUMIFS($H:$H,$L:$L,R2) -> 0 | S4: =SUMIFS($H:$H,$L:$L,S2) -> 0 | T4: =SUMIFS($H:$H,$L:$L,T2) -> 0 | U4: =SUMIFS($H:$H,$L:$L,U2) -> 0 | V4: =SUMIFS($H:$H,$L:$L,V2) -> 0 | ... Z4: =SUMIFS($H:$H,$L:$L,Z2) -> 0
D5: EUR | E5: 43897 | F5: 43897 | G5: 2000 | I5: 000000000000 | L5: =TEXT(E5,"mmmmmmmmmmmm") -> marzo
D6: EUR | E6: 43897 | F6: 43897 | G6: 3500 | I6: 000000000000 | L6: =TEXT(E6,"mmmmmmmmmmmm") -> marzo
D7: EUR | E7: 43897 | F7: 43897 | G7: 2000 | I7: 000000000000 | L7: =TEXT(E7,"mmmmmmmmmmmm") -> marzo
D8: EUR | E8: 43897 | F8: 43897 | G8: 1000 | I8: 000000000000 | L8: =TEXT(E8,"mmmmmmmmmmmm") -> marzo
D9: EUR | E9: 43896 | F9: 43896 | H9: 100 | I9: 000000000000 | J9: Publicidad, RRSS, WEB | L9: =TEXT(E9,"mmmmmmmmmmmm") -> marzo
D10: EUR | E10: 43896 | F10: 43896 | H10: 800 | I10: 000000000000 | J10: Seguridad Social | L10: =TEXT(E10,"mmmmmmmmmmmm") -> marzo
D11: EUR | E11: 43896 | F11: 43896 | H11: 2000 | I11: 000000000000 | J11: Salarios | L11: =TEXT(E11,"mmmmmmmmmmmm") -> marzo
D12: EUR | E12: 43895 | F12: 43895 | H12: 806.7 | I12: 000000000000 | J12: Servicios Profesionales | L12: =TEXT(E12,"mmmmmmmmmmmm") -> marzo
D13: EUR | E13: 43895 | F13: 43895 | H13: 305.65 | I13: 000000000000 | J13: Servicios Profesionales | L13: =TEXT(E13,"mmmmmmmmmmmm") -> marzo
D14: EUR | E14: 43894 | F14: 43894 | H14: 45 | I14: 000000000000 | J14: Publicidad, RRSS, WEB | L14: =TEXT(E14,"mmmmmmmmmmmm") -> marzo
D15: EUR | E15: 43894 | F15: 43894 | H15: 240 | I15: 000000000000 | J15: Compras | L15: =TEXT(E15,"mmmmmmmmmmmm") -> marzo
D16: EUR | E16: 43893 | F16: 43893 | H16: 450 | I16: 000000000000 | J16: Compras | L16: =TEXT(E16,"mmmmmmmmmmmm") -> marzo
D17: EUR | E17: 43892 | F17: 43892 | H17: 13.85 | I17: 000000000000 | J17: Suministro | L17: =TEXT(E17,"mmmmmmmmmmmm") -> marzo
D18: EUR | E18: 43891 | F18: 43891 | H18: 53.25 | I18: 000000000000 | J18: Suministro | L18: =TEXT(E18,"mmmmmmmmmmmm") -> marzo
D19: EUR | E19: 43889 | F19: 43889 | H19: 205.88 | I19: 000000000000 | J19: Mantenimiento | L19: =TEXT(E19,"mmmmmmmmmmmm") -> febrero
D20: EUR | E20: 43889 | F20: 43889 | H20: 283.32 | I20: 000000000000 | J20: Impuestos | L20: =TEXT(E20,"mmmmmmmmmmmm") -> febrero
D21: EUR | E21: 43887 | F21: 43887 | G21: 3000 | I21: 000000000000 | L21: =TEXT(E21,"mmmmmmmmmmmm") -> febrero
D22: EUR | E22: 43887 | F22: 43887 | G22: 2500 | I22: 000000000000 | L22: =TEXT(E22,"mmmmmmmmmmmm") -> febrero
D23: EUR | E23: 43887 | F23: 43887 | G23: 1450 | I23: 000000000000 | L23: =TEXT(E23,"mmmmmmmmmmmm") -> febrero
D24: EUR | E24: 43887 | F24: 43887 | H24: 58.58 | I24: 000000000000 | J24: Publicidad, RRSS, WEB | L24: =TEXT(E24,"mmmmmmmmmmmm") -> febrero
D25: EUR | E25: 43886 | F25: 43886 | H25: 11.93 | I25: 000000000000 | J25: Publicidad, RRSS, WEB | L25: =TEXT(E25,"mmmmmmmmmmmm") -> febrero
D26: EUR | E26: 43885 | F26: 43885 | H26: 10 | I26: 000000000000 | J26: Seguros | L26: =TEXT(E26,"mmmmmmmmmmmm") -> febrero
D27: EUR | E27: 43885 | F27: 43885 | H27: 5.66 | I27: 000000000000 | J27: Seguros | L27: =TEXT(E27,"mmmmmmmmmmmm") -> febrero
D28: EUR | E28: 43884 | F28: 43884 | H28: 13 | I28: 000000000000 | J28: Seguros | L28: =TEXT(E28,"mmmmmmmmmmmm") -> febrero
D29: EUR | E29: 43884 | F29: 43884 | H29: 2129 | I29: 000000000000 | J29: Salarios | L29: =TEXT(E29,"mmmmmmmmmmmm") -> febrero
D30: EUR | E30: 43883 | F30: 43883 | H30: 780 | I30: 000000000000 | J30: Seguridad Social | L30: =TEXT(E30,"mmmmmmmmmmmm") -> febrero
D31: EUR | E31: 43882 | F31: 43882 | H31: 1111.14 | I31: 000000000000 | J31: Servicios Profesionales | L31: =TEXT(E31,"mmmmmmmmmmmm") -> febrero
D32: EUR | E32: 43882 | F32: 43882 | H32: 756 | I32: 000000000000 | J32: Compras | L32: =TEXT(E32,"mmmmmmmmmmmm") -> febrero
D33: EUR | E33: 43881 | F33: 43881 | H33: 78.9 | I33: 000000000000 | J33: Suministro | L33: =TEXT(E33,"mmmmmmmmmmmm") -> febrero
D34: EUR | E34: 43881 | F34: 43881 | H34: 34.48 | I34: 000000000000 | J34: Suministro | L34: =TEXT(E34,"mmmmmmmmmmmm") -> febrero
D35: EUR | E35: 43879 | F35: 43879 | H35: 145 | I35: 000000000000 | J35: Mantenimiento | L35: =TEXT(E35,"mmmmmmmmmmmm") -> febrero
D36: EUR | E36: 43877 | F36: 43877 | H36: 17.65 | I36: 000000000000 | J36: Seguros | L36: =TEXT(E36,"mmmmmmmmmmmm") -> febrero
D37: EUR | E37: 43877 | F37: 43877 | G37: 2800 | I37: 000000000000 | L37: =TEXT(E37,"mmmmmmmmmmmm") -> febrero
D38: EUR | E38: 40206 | F38: 43843 | G38: 2200 | I38: 000000000000 | L38: =TEXT(E38,"mmmmmmmmmmmm") -> enero
D39: EUR | E39: 40206 | F39: 43844 | G39: 1250 | I39: 000000000000 | L39: =TEXT(E39,"mmmmmmmmmmmm") -> enero
D40: EUR | E40: 40204 | F40: 43845 | G40: 1080 | I40: 000000000000 | L40: =TEXT(E40,"mmmmmmmmmmmm") -> enero
D41: EUR | E41: 40204 | F41: 43846 | H41: 9.99 | I41: 000000000000 | J41: Suministro | L41: =TEXT(E41,"mmmmmmmmmmmm") -> enero
...

Sheet Gastos
A1: Concepto | B1: Desglose | C1: Proveedor | D1: Fecha | E1: Mes | F1: Importe
A2: Otros Gastos | D2: 43831 | E2: =TEXT(D2,"mmmm") -> enero | F2: 5000
A3: Compras | D3: 43832 | E3: =TEXT(D3,"mmmm") -> enero | F3: 500
A4: Compras | D4: 43833 | E4: =TEXT(D4,"mmmm") -> enero | F4: 1000
A5: Suministros | D5: 43834 | E5: =TEXT(D5,"mmmm") -> enero | F5: 80
A6: Suministros | D6: 43835 | E6: =TEXT(D6,"mmmm") -> enero | F6: 60
A7: Mantenimiento | D7: 43836 | E7: =TEXT(D7,"mmmm") -> enero | F7: 40
A8: Serv Externalizados | D8: 43837 | E8: =TEXT(D8,"mmmm") -> enero | F8: 100
A9: Serv Externalizados | D9: 43838 | E9: =TEXT(D9,"mmmm") -> enero | F9: 500
A10: Otros Gastos | D10: 43838 | E10: =TEXT(D10,"mmmm") -> enero | F10: 50
A11: Otros Gastos | D11: 43838 | E11: =TEXT(D11,"mmmm") -> enero | F11: 300
A12: Coste Personal | D12: 43863 | E12: =TEXT(D12,"mmmm") -> febrero | F12: 4500
A13: Compras | D13: 43863 | E13: =TEXT(D13,"mmmm") -> febrero | F13: 300
... A121: Otros Gastos | D121: 44173 | E121: =TEXT(D121,"mmmm") -> diciembre | F121: 500

Sheet Hoja5
