Workbook

Sheet Análisis Datos
F5: =CONCATENATE("Ventas totales ",G9) -> Ventas totales Febrero | O5: =CONCATENATE("Ventas acumuladas ") -> Ventas acumuladas
J7: Mes | K7: Febrero
G9: =K7 -> Febrero | H9: Acum | J9: =CONCATENATE(G9," ","19") -> Febrero 19 | K9: % | L9: Acum 19 | M9: % | O9: =CONCATENATE(G9," ","BG") -> Febrero BG | P9: % | Q9: Acum BG | R9: %
F10: Ingresos | G10: =VLOOKUP($F$10,'Cta Resultados'!P3:AB3,MATCH('Análisis Datos'!$G$9,'Cta Resultados'!P2:AB2,0),0) -> 48431.57 | H10: =SUMPRODUCT('Cta Resultados'!$Q$1:$AB$1,'Cta Resultados'!Q3:AB3) -> 52482.34 | J10: =VLOOKUP($F$10,'Cta Resultados'!A3:N3,MATCH('Análisis Datos'!$G$9,'Cta Resultados'!A2:N2,0),0) -> 62513.69 | K10: =IFERROR(G10/J10-1,"") -> -0.22526458 | L10: =SUMPRODUCT('Cta Resultados'!$Q$1:$AB$1,'Cta Resultados'!B3:M3) -> 100000 | M10: =IFERROR(H10/L10-1,"") -> -0.4751766 | O10: =VLOOKUP($F$10,'Cta Resultados'!AE3:AR3,MATCH('Análisis Datos'!$G$9,'Cta Resultados'!AE2:AR2,0),0) -> 56887.458 | P10: =IFERROR(G10/O10-1,"") -> -0.14864239 | Q10: =SUMPRODUCT('Cta Resultados'!$Q$1:$AB$1,'Cta Resultados'!AF3:AQ3) -> 91000 | R10: =IFERROR(H10/Q10-1,"") -> -0.42327099
F12: Compras | G12: =VLOOKUP($F$12,'Cta Resultados'!P5:AB5,MATCH('Análisis Datos'!$G$9,'Cta Resultados'!P2:AB2,0),0) -> 63677.99 | H12: =SUMPRODUCT('Cta Resultados'!$Q$1:$AB$1,'Cta Resultados'!Q5:AB5) -> 46009.02 | J12: =VLOOKUP($F$12,'Cta Resultados'!A5:N5,MATCH('Análisis Datos'!$G$9,'Cta Resultados'!A2:N2,0),0) -> 27150.77 | K12: =IFERROR(G12/J12-1,"") -> 1.3453475 | L12: =SUMPRODUCT('Cta Resultados'!$Q$1:$AB$1,'Cta Resultados'!B5:M5) -> 30000 | M12: =IFERROR(H12/L12-1,"") -> 0.533634 | O12: =VLOOKUP($F$12,'Cta Resultados'!AE5:AR5,MATCH('Análisis Datos'!$G$9,'Cta Resultados'!AE2:AR2,0),0) -> 0 | P12: =IFERROR(G12/O12-1,"") | Q12: =SUMPRODUCT('Cta Resultados'!$Q$1:$AB$1,'Cta Resultados'!AF5:AQ5) -> 0 | R12: =IFERROR(H12/Q12-1,"")
F14: Salarios | G14: =VLOOKUP($F$14,'Cta Resultados'!P7:AB7,MATCH('Análisis Datos'!$G$9,'Cta Resultados'!P2:AB2,0),0) -> 14961.23 | H14: =SUMPRODUCT('Cta Resultados'!$Q$1:$AB$1,'Cta Resultados'!Q7:AB7) -> 19542.15 | J14: =VLOOKUP($F$14,'Cta Resultados'!A7:N7,MATCH('Análisis Datos'!$G$9,'Cta Resultados'!A2:N2,0),0) -> 14524.17 | K14: =IFERROR(G14/J14-1,"") -> 0.030091909 | L14: =SUMPRODUCT('Cta Resultados'!$Q$1:$AB$1,'Cta Resultados'!B7:M7) -> 20000 | M14: =IFERROR(H14/L14-1,"") -> -0.0228925 | O14: =VLOOKUP($F$14,'Cta Resultados'!AE7:AR7,MATCH('Análisis Datos'!$G$9,'Cta Resultados'!AE2:AR2,0),0) -> 0 | P14: =IFERROR(G14/O14-1,"") | Q14: =SUMPRODUCT('Cta Resultados'!$Q$1:$AB$1,'Cta Resultados'!AF7:AQ7) -> 0 | R14: =IFERROR(H14/Q14-1,"")
F16: Gastos Indirectos | G16: =VLOOKUP($F$16,'Cta Resultados'!P12:AB12,MATCH('Análisis Datos'!$G$9,'Cta Resultados'!P2:AB2,0),0) -> 8782.94 | H16: =SUMPRODUCT('Cta Resultados'!Q12:AB12,'Cta Resultados'!$Q$1:$AB$1) -> 9269.96 | J16: =VLOOKUP($F$16,'Cta Resultados'!A12:N12,MATCH('Análisis Datos'!$G$9,'Cta Resultados'!A2:N2,0),0) -> 4997.07 | K16: =IFERROR(G16/J16-1,"") -> 0.75761796 | L16: =SUMPRODUCT('Cta Resultados'!B12:M12,'Cta Resultados'!$Q$1:$AB$1) -> 10871.43 | M16: =IFERROR(H16/L16-1,"") -> -0.14730997 | O16: =VLOOKUP($F$16,'Cta Resultados'!AE12:AR12,MATCH('Análisis Datos'!$G$9,'Cta Resultados'!AE2:AR2,0),0) -> 0 | P16: =IFERROR(G16/O16-1,"") | Q16: =SUMPRODUCT('Cta Resultados'!AF12:AQ12,'Cta Resultados'!$Q$1:$AB$1) -> 0 | R16: =IFERROR(H16/Q16-1,"")
F18: Resultado | G18: =VLOOKUP("Resultado Neto antes de I.S.",'Cta Resultados'!P29:AB29,MATCH('Análisis Datos'!$G$9,'Cta Resultados'!P2:AB2,0),0) -> -38990.59 | H18: =SUMPRODUCT('Cta Resultados'!Q29:AB29,'Cta Resultados'!$Q$1:$AB$1) -> -22338.79 | J18: =VLOOKUP("Resultado Neto antes de I.S.",'Cta Resultados'!A29:N29,MATCH('Análisis Datos'!$G$9,'Cta Resultados'!A2:N2,0),0) -> 15149.49 | K18: =IFERROR(G18/J18-1,"") -> -3.5737229 | L18: =SUMPRODUCT('Cta Resultados'!B29:M29,'Cta Resultados'!$Q$1:$AB$1) -> 38918.11 | M18: =IFERROR(H18/L18-1,"") -> -1.5739947 | O18: =VLOOKUP("Resultado Neto antes de I.S.",'Cta Resultados'!AE29:AR29,MATCH('Análisis Datos'!$G$9,'Cta Resultados'!AE2:AR2,0),0) -> 56887.458 | P18: =IFERROR(G18/O18-1,"") -> -1.6853987 | Q18: =SUMPRODUCT('Cta Resultados'!AF29:AQ29,'Cta Resultados'!$Q$1:$AB$1) -> 91000 | R18: =IFERROR(H18/Q18-1,"") -> -1.2454812

Sheet Cta Resultados
Q1: =IF('Análisis Datos'!$G$9="Enero",1,IF('Análisis Datos'!$G$9="Febrero",1,IF('Análisis Datos'!$G$9="Marzo",1,IF('Análisis Datos'!$G$9="Abril",1,IF('Análisis Datos'!$G$9="Mayo",1,IF('Análisis Datos'!$G$9="Junio",1,IF('Análisis Datos'!$G$9="Julio",1,IF('Análisis Datos'!$G$9="Agosto",1,IF('Análisis Datos'!$G$9="Septiembre",1,IF('Análisis Datos'!$G$9="Octubre",1,IF('Análisis Datos'!$G$9="Noviembre",1,IF('Análisis Datos'!$G$9="Diciembre",1,0)))))))))))) -> 1 | R1: =IF('Análisis Datos'!$G$9="Marzo",1,IF('Análisis Datos'!$G$9="Marzo",1,IF('Análisis Datos'!$G$9="Abril",1,IF('Análisis Datos'!$G$9="Mayo",1,IF('Análisis Datos'!$G$9="Junio",1,IF('Análisis Datos'!$G$9="Julio",1,IF('Análisis Datos'!$G$9="Agosto",1,IF('Análisis Datos'!$G$9="Septiembre",1,IF('Análisis Datos'!$G$9="Octubre",1,IF('Análisis Datos'!$G$9="Noviembre",1,IF('Análisis Datos'!$G$9="Diciembre",1,0))))))))))) -> 0 | S1: =IF('Análisis Datos'!$G$9="Marzo",1,IF('Análisis Datos'!$G$9="Abril",1,IF('Análisis Datos'!$G$9="Mayo",1,IF('Análisis Datos'!$G$9="Junio",1,IF('Análisis Datos'!$G$9="Julio",1,IF('Análisis Datos'!$G$9="Agosto",1,IF('Análisis Datos'!$G$9="Septiembre",1,IF('Análisis Datos'!$G$9="Octubre",1,IF('Análisis Datos'!$G$9="Noviembre",1,IF('Análisis Datos'!$G$9="Diciembre",1,0)))))))))) -> 0 | T1: =IF('Análisis Datos'!$G$9="Abril",1,IF('Análisis Datos'!$G$9="Mayo",1,IF('Análisis Datos'!$G$9="Junio",1,IF('Análisis Datos'!$G$9="Julio",1,IF('Análisis Datos'!$G$9="Agosto",1,IF('Análisis Datos'!$G$9="Septiembre",1,IF('Análisis Datos'!$G$9="Octubre",1,IF('Análisis Datos'!$G$9="Noviembre",1,IF('Análisis Datos'!$G$9="Diciembre",1,0))))))))) -> 0 | U1: =IF('Análisis Datos'!$G$9="Mayo",1,IF('Análisis Datos'!$G$9="Junio",1,IF('Análisis Datos'!$G$9="Julio",1,IF('Análisis Datos'!$G$9="Agosto",1,IF('Análisis Datos'!$G$9="Septiembre",1,IF('Análisis Datos'!$G$9="Octubre",1,IF('Análisis Datos'!$G$9="Noviembre",1,IF('Análisis Datos'!$G$9="Diciembre",1,0)))))))) -> 0 | V1: =IF('Análisis Datos'!$G$9="Junio",1,IF('Análisis Datos'!$G$9="Julio",1,IF('Análisis Datos'!$G$9="Agosto",1,IF('Análisis Datos'!$G$9="Septiembre",1,IF('Análisis Datos'!$G$9="Octubre",1,IF('Análisis Datos'!$G$9="Noviembre",1,IF('Análisis Datos'!$G$9="Diciembre",1,0))))))) -> 0 | W1: =IF('Análisis Datos'!$G$9="Julio",1,IF('Análisis Datos'!$G$9="Agosto",1,IF('Análisis Datos'!$G$9="Septiembre",1,IF('Análisis Datos'!$G$9="Octubre",1,IF('Análisis Datos'!$G$9="Noviembre",1,IF('Análisis Datos'!$G$9="Diciembre",1,0)))))) -> 0 | X1: =IF('Análisis Datos'!$G$9="Agosto",1,IF('Análisis Datos'!$G$9="Septiembre",1,IF('Análisis Datos'!$G$9="Octubre",1,IF('Análisis Datos'!$G$9="Noviembre",1,IF('Análisis Datos'!$G$9="Diciembre",1,0))))) -> 0 | Y1: =IF('Análisis Datos'!$G$9="Septiembre",1,IF('Análisis Datos'!$G$9="Octubre",1,IF('Análisis Datos'!$G$9="Noviembre",1,IF('Análisis Datos'!$G$9="Diciembre",1,0)))) -> 0 | Z1: =IF('Análisis Datos'!$G$9="Octubre",1,IF('Análisis Datos'!$G$9="Noviembre",1,IF('Análisis Datos'!$G$9="Diciembre",1,0))) -> 0 | AA1: =IF('Análisis Datos'!$G$9="Noviembre",1,IF('Análisis Datos'!$G$9="Diciembre",1,0)) -> 0 | AB1: =IF('Análisis Datos'!$G$9="Noviembre",1,IF('Análisis Datos'!$G$9="Diciembre",1,0)) -> 0 | AT1: Ingresos
A2: 2020 | B2: Enero | C2: Febrero | D2: Marzo | E2: Abril | F2: Mayo | G2: Junio | H2: Julio | I2: Agosto | J2: Septiembre | K2: Octubre | L2: Noviembre | M2: Diciembre | N2: Total | P2: 2021 | Q2: Enero | R2: Febrero | S2: Marzo | T2: Abril | U2: Mayo | V2: Junio | W2: Julio | X2: Agosto | Y2: Septiembre | Z2: Octubre | AA2: Noviembre | AB2: Diciembre | AC2: Total | AE2: 2021 Budget | AF2: Enero | AG2: Febrero | AH2: Marzo | AI2: Abril | AJ2: Mayo | AK2: Junio | AL2: Julio | AM2: Agosto | AN2: Septiembre | AO2: Octubre | AP2: Noviembre | AQ2: Diciembre | AR2: Total | AT2: Inferior | AU2: Superior
A3: Ingresos | B3: 100000 | C3: =VLOOKUP("Ventas",'Febrero 19'!$B:$E,4,0)-VLOOKUP("DEVOLUCIONES DE VENTAS DE MERC",'Febrero 19'!$B:$E,3,0) -> 62513.69 | D3: =VLOOKUP("Ventas",'Marzo 19'!$B:$E,4,0)-VLOOKUP("DEVOLUCIONES DE VENTAS DE MERC",'Marzo 19'!$B:$E,3,0) -> 46757.95 | E3: =VLOOKUP("Ventas",'Abril 19'!$B:$E,4,0)-VLOOKUP("DEVOLUCIONES DE VENTAS DE MERC",'Abril 19'!$B:$E,3,0) -> 73864.33 | F3: =VLOOKUP("Ventas",'Mayo 19'!$B:$E,4,0)-VLOOKUP("DEVOLUCIONES DE VENTAS DE MERC",'Mayo 19'!$B:$E,3,0) -> 111410.14 | G3: =VLOOKUP("Ventas",'Junio 19'!$B:$E,4,0)-VLOOKUP("DEVOLUCIONES DE VENTAS DE MERC",'Junio 19'!$B:$E,3,0) -> 62901.14 | H3: =VLOOKUP("Ventas",'Julio 19'!$B:$E,4,0)-VLOOKUP("DEVOLUCIONES DE VENTAS DE MERC",'Julio 19'!$B:$E,3,0) -> 123649.7 | I3: =VLOOKUP("Ventas",'Agosto 19'!$B:$E,4,0)-VLOOKUP("DEVOLUCIONES DE VENTAS DE MERC",'Agosto 19'!$B:$E,3,0) -> 67519.29 | J3: =VLOOKUP("Ventas",'Septiembre 19'!$B:$E,4,0)-VLOOKUP("DEVOLUCIONES DE VENTAS DE MERC",'Septiembre 19'!$B:$E,3,0) -> 61864.42 | K3: =VLOOKUP("Ventas",'Octubre 19'!$B:$E,4,0)-VLOOKUP("DEVOLUCIONES DE VENTAS DE MERC",'Octubre 19'!$B:$E,3,0) -> 85403.64 | L3: =VLOOKUP("Ventas",'Noviembre 19'!$B:$E,4,0)-VLOOKUP("DEVOLUCIONES DE VENTAS DE MERC",'Noviembre 19'!$B:$E,3,0) -> 75831.29 | M3: =VLOOKUP("Ventas",'Diciembre 19'!$B:$E,4,0)-VLOOKUP("DEVOLUCIONES DE VENTAS DE MERC",'Diciembre 19'!$B:$E,3,0) -> 129835.72 | N3: =SUM(B3:M3) -> 1001551.3 | P3: Ingresos | Q3: =VLOOKUP("Ventas",'Enero 20'!$B:$E,4,0)-VLOOKUP("DEVOLUCIONES DE VENTAS DE MERC",'Enero 20'!$B:$E,3,0) -> 52482.34 | R3: =VLOOKUP("Ventas",'Febrero 20'!$B:$E,4,0)-VLOOKUP("DEVOLUCIONES DE VENTAS DE MERC",'Febrero 20'!$B:$E,3,0) -> 48431.57 | S3: =VLOOKUP("Ventas",'Marzo 20'!$B:$E,4,0)-VLOOKUP("DEVOLUCIONES DE VENTAS DE MERC",'Marzo 20'!$B:$E,3,0) -> 74552.35 | T3: =VLOOKUP("Ventas",'Abril 20'!$B:$E,4,0)-VLOOKUP("DEVOLUCIONES DE VENTAS DE MERC",'Abril 20'!$B:$E,3,0) -> 0 | U3: =VLOOKUP("Ventas",'Mayo 20'!$B:$E,4,0)-VLOOKUP("DEVOLUCIONES DE VENTAS DE MERC",'Mayo 20'!$B:$E,3,0) -> 26666 | V3: =VLOOKUP("Ventas",'Junio 20'!$B:$E,4,0)-VLOOKUP("DEVOLUCIONES DE VENTAS DE MERC",'Junio 20'!$B:$E,3,0) -> 33851.52 | W3: =VLOOKUP("Ventas",'Julio 20'!$B:$E,4,0)-VLOOKUP("DEVOLUCIONES DE VENTAS DE MERC",'Julio 20'!$B:$E,3,0) -> 48049.75 | X3: =VLOOKUP("Ventas",'Agosto 20'!$B:$E,4,0)-VLOOKUP("DEVOLUCIONES DE VENTAS DE MERC",'Agosto 20'!$B:$E,3,0) -> 118210.75 | Y3: =VLOOKUP("Ventas",'Septiembre 20'!$B:$E,4,0)-VLOOKUP("DEVOLUCIONES DE VENTAS DE MERC",'Septiembre 20'!$B:$E,3,0) -> 24391.45 | Z3: =VLOOKUP("Ventas",'Octubre 20'!$B:$E,4,0)-VLOOKUP("DEVOLUCIONES DE VENTAS DE MERC",'Octubre 20'!$B:$E,3,0) -> 0 | AA3: =VLOOKUP("Ventas",'Noviembre 20'!$B:$E,4,0)-VLOOKUP("DEVOLUCIONES DE VENTAS DE MERC",'Noviembre 20'!$B:$E,3,0) -> 0 | AB3: =VLOOKUP("Ventas",'Diciembre 20'!$B:$E,4,0)-VLOOKUP("DEVOLUCIONES DE VENTAS DE MERC",'Diciembre 20'!$B:$E,3,0) -> 0 | AC3: =SUM(Q3:AB3) -> 426635.73 | AE3: Ingresos | AF3: =((RANDBETWEEN($AT$3,$AU$3)*B3)/100)+B3 -> 91000 | AG3: =((RANDBETWEEN($AT$3,$AU$3)*C3)/100)+C3 -> 56887.458 | AH3: =((RANDBETWEEN($AT$3,$AU$3)*D3)/100)+D3 -> 43952.473 | AI3: =((RANDBETWEEN($AT$3,$AU$3)*E3)/100)+E3 -> 66477.897 | AJ3: =((RANDBETWEEN($AT$3,$AU$3)*F3)/100)+F3 -> 100269.13 | AK3: =((RANDBETWEEN($AT$3,$AU$3)*G3)/100)+G3 -> 57869.049 | AL3: =((RANDBETWEEN($AT$3,$AU$3)*H3)/100)+H3 -> 113757.72 | AM3: =((RANDBETWEEN($AT$3,$AU$3)*I3)/100)+I3 -> 61442.554 | ... AQ3: =((RANDBETWEEN($AT$3,$AU$3)*M3)/100)+M3 -> 119448.86 | AR3: =SUM(AF3:AQ3) -> 914221.27 | AT3: -10 | AU3: -5 | AW3: Ingresos
AF4: =AF3/B3-1 -> -0.09 | AG4: =AG3/C3-1 -> -0.09 | AH4: =AH3/D3-1 -> -0.06 | AI4: =AI3/E3-1 -> -0.1
A5: Compras | B5: 30000 | C5: =VLOOKUP("Compras",'Febrero 19'!$B:$E,3,0)+VLOOKUP("Compras Transporte",'Febrero 19'!$B:$E,3,0)+VLOOKUP("Compras Impuestos",'Febrero 19'!$B:$E,3,0) -> 27150.77 | D5: =VLOOKUP("Compras",'Marzo 19'!$B:$E,3,0)+VLOOKUP("Compras Transporte",'Marzo 19'!$B:$E,3,0)+VLOOKUP("Compras Impuestos",'Marzo 19'!$B:$E,3,0) -> 56397.92 | E5: =VLOOKUP("Compras",'Abril 19'!$B:$E,3,0)+VLOOKUP("Compras Transporte",'Abril 19'!$B:$E,3,0)+VLOOKUP("Compras Impuestos",'Abril 19'!$B:$E,3,0) -> 26924.02 | F5: =VLOOKUP("Compras",'Mayo 19'!$B:$E,3,0)+VLOOKUP("Compras Transporte",'Mayo 19'!$B:$E,3,0)+VLOOKUP("Compras Impuestos",'Mayo 19'!$B:$E,3,0) -> 69947.14 | G5: =VLOOKUP("Compras",'Junio 19'!$B:$E,3,0)+VLOOKUP("Compras Transporte",'Junio 19'!$B:$E,3,0)+VLOOKUP("Compras Impuestos",'Junio 19'!$B:$E,3,0) -> 42858.8 | H5: =VLOOKUP("Compras",'Julio 19'!$B:$E,3,0)+VLOOKUP("Compras Transporte",'Julio 19'!$B:$E,3,0)+VLOOKUP("Compras Impuestos",'Julio 19'!$B:$E,3,0) -> 85656.19 | I5: =VLOOKUP("Compras",'Agosto 19'!$B:$E,3,0)+VLOOKUP("Compras Transporte",'Agosto 19'!$B:$E,3,0)+VLOOKUP("Compras Impuestos",'Agosto 19'!$B:$E,3,0) -> 13654.21 | J5: =VLOOKUP("Compras",'Septiembre 19'!$B:$E,3,0)+VLOOKUP("Compras Transporte",'Septiembre 19'!$B:$E,3,0)+VLOOKUP("Compras Impuestos",'Septiembre 19'!$B:$E,3,0) -> 31407.35 | K5: =VLOOKUP("Compras",'Octubre 19'!$B:$E,3,0)+VLOOKUP("Compras Transporte",'Octubre 19'!$B:$E,3,0)+VLOOKUP("Compras Impuestos",'Octubre 19'!$B:$E,3,0) -> 84556.7 | L5: =VLOOKUP("Compras",'Noviembre 19'!$B:$E,3,0)+VLOOKUP("Compras Transporte",'Noviembre 19'!$B:$E,3,0)+VLOOKUP("Compras Impuestos",'Noviembre 19'!$B:$E,3,0) -> 54719.74 | M5: =VLOOKUP("Compras",'Diciembre 19'!$B:$E,3,0)+VLOOKUP("Compras Transporte",'Diciembre 19'!$B:$E,3,0)+VLOOKUP("Compras Impuestos",'Diciembre 19'!$B:$E,3,0) -> 53650.3 | N5: =SUM(B5:M5) -> 576923.14 | P5: Compras | Q5: =VLOOKUP("Compras",'Enero 20'!$B:$E,3,0)+VLOOKUP("Compras Transporte",'Enero 20'!$B:$E,3,0)+VLOOKUP("Compras Impuestos",'Enero 20'!$B:$E,3,0) -> 46009.02 | R5: =VLOOKUP("Compras",'Febrero 20'!$B:$E,3,0)+VLOOKUP("Compras Transporte",'Febrero 20'!$B:$E,3,0)+VLOOKUP("Compras Impuestos",'Febrero 20'!$B:$E,3,0) -> 63677.99 | S5: =VLOOKUP("Compras",'Marzo 20'!$B:$E,3,0)+VLOOKUP("Compras Transporte",'Marzo 20'!$B:$E,3,0)+VLOOKUP("Compras Impuestos",'Marzo 20'!$B:$E,3,0) -> 62259.48 | T5: =VLOOKUP("Compras",'Abril 20'!$B:$E,3,0)+VLOOKUP("Compras Transporte",'Abril 20'!$B:$E,3,0)+VLOOKUP("Compras Impuestos",'Abril 20'!$B:$E,3,0) -> 17.79 | U5: =VLOOKUP("Compras",'Mayo 20'!$B:$E,3,0)+VLOOKUP("Compras Transporte",'Mayo 20'!$B:$E,3,0)+VLOOKUP("Compras Impuestos",'Mayo 20'!$B:$E,3,0) -> 25493.51 | V5: =VLOOKUP("Compras",'Junio 20'!$B:$E,3,0)+VLOOKUP("Compras Transporte",'Junio 20'!$B:$E,3,0)+VLOOKUP("Compras Impuestos",'Junio 20'!$B:$E,3,0) -> 3810.88 | W5: =VLOOKUP("Compras",'Julio 20'!$B:$E,3,0)+VLOOKUP("Compras Transporte",'Julio 20'!$B:$E,3,0)+VLOOKUP("Compras Impuestos",'Julio 20'!$B:$E,3,0) -> 22423.55 | X5: =VLOOKUP("Compras",'Agosto 20'!$B:$E,3,0)+VLOOKUP("Compras Transporte",'Agosto 20'!$B:$E,3,0)+VLOOKUP("Compras Impuestos",'Agosto 20'!$B:$E,3,0) -> 21968.42 | Y5: =VLOOKUP("Compras",'Septiembre 20'!$B:$E,3,0)+VLOOKUP("Compras Transporte",'Septiembre 20'!$B:$E,3,0)+VLOOKUP("Compras Impuestos",'Septiembre 20'!$B:$E,3,0) -> 3685.99 | Z5: =VLOOKUP("Compras",'Octubre 20'!$B:$E,3,0)+VLOOKUP("Compras Transporte",'Octubre 20'!$B:$E,3,0)+VLOOKUP("Compras Impuestos",'Octubre 20'!$B:$E,3,0) -> 0 | AA5: =VLOOKUP("Compras",'Noviembre 20'!$B:$E,3,0)+VLOOKUP("Compras Transporte",'Noviembre 20'!$B:$E,3,0)+VLOOKUP("Compras Impuestos",'Noviembre 20'!$B:$E,3,0) -> 0 | AB5: =VLOOKUP("Compras",'Diciembre 20'!$B:$E,3,0)+VLOOKUP("Compras Transporte",'Diciembre 20'!$B:$E,3,0)+VLOOKUP("Compras Impuestos",'Diciembre 20'!$B:$E,3,0) -> 0 | AC5: =SUM(Q5:AB5) -> 249346.63 | AE5: Compras | AR5: =SUM(AF5:AQ5) -> 0 | AW5: Compras
A6: Margen Bruto | B6: =IFERROR(ABS(B5/B3-1),"") -> 0.7 | C6: =IFERROR(ABS(C5/C3-1),"") -> 0.56568281 | D6: =IFERROR(ABS(D5/D3-1),"") -> 0.20616751 | E6: =IFERROR(ABS(E5/E3-1),"") -> 0.63549361 | F6: =IFERROR(ABS(F5/F3-1),"") -> 0.37216541 | G6: =IFERROR(ABS(G5/G3-1),"") -> 0.31863238 | H6: =IFERROR(ABS(H5/H3-1),"") -> 0.3072673 | I6: =IFERROR(ABS(I5/I3-1),"") -> 0.7977732 | ... M6: =IFERROR(ABS(M5/M3-1),"") -> 0.58678321 | P6: Margen bruto | Q6: =IFERROR(Q5/Q3,"") -> 0.87665718 | R6: =IFERROR(R5/R3,"") -> 1.3148033 | S6: =IFERROR(S5/S3,"") -> 0.8351109 | T6: =IFERROR(T5/T3,"") | U6: =IFERROR(U5/U3,"") -> 0.95603053 | V6: =IFERROR(V5/V3,"") -> 0.11257633 | W6: =IFERROR(W5/W3,"") -> 0.4666736 | X6: =IFERROR(X5/X3,"") -> 0.18584114 | ... AB6: =IFERROR(AB5/AB3,"") | AW6: Salarios
A7: Salarios | B7: 20000 | C7: =SUM(C8:C9) -> 14524.17 | D7: =SUM(D8:D9) -> 14545.17 | E7: =SUM(E8:E9) -> 14524.17 | F7: =SUM(F8:F9) -> 14687.77 | G7: =SUM(G8:G9) -> 15663.74 | H7: =SUM(H8:H9) -> 15997.97 | I7: =SUM(I8:I9) -> 16647.22 | J7: =SUM(J8:J9) -> 15568.44 | ... M7: =SUM(M8:M9) -> 14533.96 | N7: =SUM(B7:M7) -> 185330.17 | P7: =A7 -> Salarios | Q7: =SUM(Q8:Q9) -> 19542.15 | R7: =SUM(R8:R9) -> 14961.23 | S7: =SUM(S8:S9) -> 9141.74 | T7: =SUM(T8:T9) -> 0 | U7: =SUM(U8:U9) -> 3052.85 | V7: =SUM(V8:V9) -> 8410.83 | W7: =SUM(W8:W9) -> 8789.41 | X7: =SUM(X8:X9) -> 9254.92 | ... AB7: =SUM(AB8:AB9) -> 0 | AC7: =SUM(Q7:AB7) -> 84673.62 | AE7: =P7 -> Salarios | AR7: =SUM(AF7:AQ7) -> 0 | AW7: Gastos Indirectos
A8: Sueldos | B8: =VLOOKUP("SUELDOS Y SALARIOS",'Enero 19'!$B:$E,3,0)+VLOOKUP("SALARIOS EN ESPECIE",'Enero 19'!$B:$E,3,0) -> 16124.97 | C8: =VLOOKUP("SUELDOS Y SALARIOS",'Febrero 19'!$B:$E,3,0) -> 14159.95 | D8: =VLOOKUP("SUELDOS Y SALARIOS",'Marzo 19'!$B:$E,3,0) -> 14180.95 | E8: =VLOOKUP("SUELDOS Y SALARIOS",'Abril 19'!$B:$E,3,0) -> 14159.95 | F8: =VLOOKUP("SUELDOS Y SALARIOS",'Mayo 19'!$B:$E,3,0) -> 14323.55 | G8: =VLOOKUP("SUELDOS Y SALARIOS",'Junio 19'!$B:$E,3,0) -> 15299.52 | H8: =VLOOKUP("SUELDOS Y SALARIOS",'Julio 19'!$B:$E,3,0) -> 15633.75 | I8: =VLOOKUP("SUELDOS Y SALARIOS",'Agosto 19'!$B:$E,3,0) -> 16283 | J8: =VLOOKUP("SUELDOS Y SALARIOS",'Septiembre 19'!$B:$E,3,0) -> 15204.22 | K8: =VLOOKUP("SUELDOS Y SALARIOS",'Octubre 19'!$B:$E,3,0) -> 14274.17 | L8: =VLOOKUP("SUELDOS Y SALARIOS",'Noviembre 19'!$B:$E,3,0) -> 13634.95 | M8: =VLOOKUP("SUELDOS Y SALARIOS",'Diciembre 19'!$B:$E,3,0) -> 14169.74 | N8: =SUM(B8:M8) -> 177448.72 | P8: =A8 -> Sueldos | Q8: =VLOOKUP("SUELDOS Y SALARIOS",'Enero 20'!$B:$E,3,0)+VLOOKUP("SALARIOS EN ESPECIE",'Enero 20'!$B:$E,3,0) -> 15225.9 | R8: =VLOOKUP("SUELDOS Y SALARIOS",'Febrero 20'!$B:$E,3,0) -> 14597.01 | S8: =VLOOKUP("SUELDOS Y SALARIOS",'Marzo 20'!$B:$E,3,0) -> 8777.52 | T8: =VLOOKUP("SUELDOS Y SALARIOS",'Abril 20'!$B:$E,3,0) -> 0 | U8: =VLOOKUP("SUELDOS Y SALARIOS",'Mayo 20'!$B:$E,3,0) -> 3052.85 | V8: =VLOOKUP("SUELDOS Y SALARIOS",'Junio 20'!$B:$E,3,0) -> 8410.83 | W8: =VLOOKUP("SUELDOS Y SALARIOS",'Julio 20'!$B:$E,3,0) -> 8789.41 | X8: =VLOOKUP("SUELDOS Y SALARIOS",'Agosto 20'!$B:$E,3,0) -> 9254.92 | Y8: =VLOOKUP("SUELDOS Y SALARIOS",'Septiembre 20'!$B:$E,3,0) -> 11247.33 | Z8: =VLOOKUP("SUELDOS Y SALARIOS",'Octubre 20'!$B:$E,3,0) -> 0 | AA8: =VLOOKUP("SUELDOS Y SALARIOS",'Noviembre 20'!$B:$E,3,0) -> 0 | AB8: =VLOOKUP("SUELDOS Y SALARIOS",'Diciembre 20'!$B:$E,3,0) -> 0 | AC8: =SUM(Q8:AB8) -> 79355.77 | AE8: =P8 -> Sueldos | AR8: =SUM(AF8:AQ8) -> 0 | AW8: Total Gastos
A9: Seguridad social | B9: =VLOOKUP("SEGURIDAD SOCIAL A CARGO DE LA",'Enero 19'!$B:$E,3,0) -> 3768.9 | C9: =VLOOKUP("SALARIOS EN ESPECIE",'Febrero 19'!$B:$E,3,0) -> 364.22 | D9: =VLOOKUP("SALARIOS EN ESPECIE",'Marzo 19'!$B:$E,3,0) -> 364.22 | E9: =VLOOKUP("SALARIOS EN ESPECIE",'Abril 19'!$B:$E,3,0) -> 364.22 | F9: =VLOOKUP("SALARIOS EN ESPECIE",'Mayo 19'!$B:$E,3,0) -> 364.22 | G9: =VLOOKUP("SALARIOS EN ESPECIE",'Junio 19'!$B:$E,3,0) -> 364.22 | H9: =VLOOKUP("SALARIOS EN ESPECIE",'Julio 19'!$B:$E,3,0) -> 364.22 | I9: =VLOOKUP("SALARIOS EN ESPECIE",'Agosto 19'!$B:$E,3,0) -> 364.22 | J9: =VLOOKUP("SALARIOS EN ESPECIE",'Septiembre 19'!$B:$E,3,0) -> 364.22 | K9: =VLOOKUP("SALARIOS EN ESPECIE",'Octubre 19'!$B:$E,3,0) -> 364.22 | L9: =VLOOKUP("SALARIOS EN ESPECIE",'Noviembre 19'!$B:$E,3,0) -> 364.22 | M9: =VLOOKUP("SALARIOS EN ESPECIE",'Diciembre 19'!$B:$E,3,0) -> 364.22 | N9: =SUM(B9:M9) -> 7775.32 | P9: =A9 -> Seguridad social | Q9: =VLOOKUP("SEGURIDAD SOCIAL A CARGO DE LA",'Enero 20'!$B:$E,3,0) -> 4316.25 | R9: =VLOOKUP("SALARIOS EN ESPECIE",'Febrero 20'!$B:$E,3,0) -> 364.22 | S9: =VLOOKUP("SALARIOS EN ESPECIE",'Marzo 20'!$B:$E,3,0) -> 364.22 | T9: =VLOOKUP("SALARIOS EN ESPECIE",'Abril 20'!$B:$E,3,0) -> 0 | U9: =VLOOKUP("SALARIOS EN ESPECIE",'Mayo 20'!$B:$E,3,0) -> 0 | V9: =VLOOKUP("SALARIOS EN ESPECIE",'Junio 20'!$B:$E,3,0) -> 0 | W9: =VLOOKUP("SALARIOS EN ESPECIE",'Julio 20'!$B:$E,3,0) -> 0 | X9: =VLOOKUP("SALARIOS EN ESPECIE",'Agosto 20'!$B:$E,3,0) -> 0 | Y9: =VLOOKUP("SALARIOS EN ESPECIE",'Septiembre 20'!$B:$E,3,0) -> 273.16 | Z9: =VLOOKUP("SALARIOS EN ESPECIE",'Octubre 20'!$B:$E,3,0) -> 0 | AA9: =VLOOKUP("SALARIOS EN ESPECIE",'Noviembre 20'!$B:$E,3,0) -> 0 | AB9: =VLOOKUP("SALARIOS EN ESPECIE",'Diciembre 20'!$B:$E,3,0) -> 0 | AC9: =SUM(Q9:AB9) -> 5317.85 | AE9: =P9 -> Seguridad social | AR9: =SUM(AF9:AQ9) -> 0
A10: Ratio Personal | B10: =B7/B3 -> 0.2 | C10: =C7/C3 -> 0.23233583 | D10: =D7/D3 -> 0.31107373 | E10: =E7/E3 -> 0.19663307 | F10: =F7/F3 -> 0.13183513 | G10: =G7/G3 -> 0.24902156 | H10: =H7/H3 -> 0.12938139 | I10: =I7/I3 -> 0.24655502 | ... M10: =M7/M3 -> 0.11194115 | P10: Ratio Personal | Q10: =Q7/Q3 -> 0.37235668 | R10: =R7/R3 -> 0.30891483 | S10: =S7/S3 -> 0.12262176 | T10: =T7/T3 -> #DIV/0! | U10: =U7/U3 -> 0.11448474 | V10: =V7/V3 -> 0.2484624 | W10: =W7/W3 -> 0.18292312 | X10: =X7/X3 -> 0.078291695 | ... AC10: =AC7/AC3 -> 0.19846819 | AE10: Ratio Personal | AF10: =AF7/AF3 -> 0 | AG10: =AG7/AG3 -> 0 | AH10: =AH7/AH3 -> 0 | AI10: =AI7/AI3 -> 0 | AJ10: =AJ7/AJ3 -> 0 | AK10: =AK7/AK3 -> 0 | AL10: =AL7/AL3 -> 0 | AM10: =AM7/AM3 -> 0 | ... AR10: =AR7/AR3 -> 0 | AW10: Resultado Operativo
A12: Gastos Indirectos | B12: =SUM(B13:B19) -> 10871.43 | C12: =SUM(C13:C19) -> 4997.07 | D12: =SUM(D13:D19) -> 5103.46 | E12: =SUM(E13:E19) -> 5116.38 | F12: =SUM(F13:F19) -> 12052.38 | G12: =SUM(G13:G19) -> 3160.75 | H12: =SUM(H13:H19) -> 6379.52 | I12: =SUM(I13:I19) -> 7570.02 | ... M12: =SUM(M13:M19) -> 30351.89 | N12: =SUM(B12:M12) -> 102546.85 | P12: Gastos Indirectos | Q12: =SUM(Q13:Q19) -> 9269.96 | R12: =SUM(R13:R19) -> 8782.94 | S12: =SUM(S13:S19) -> 4797.14 | T12: =SUM(T13:T19) -> 3309.42 | U12: =SUM(U13:U19) -> 4292.63 | V12: =SUM(V13:V19) -> 4660.77 | W12: =SUM(W13:W19) -> 6665.66 | X12: =SUM(X13:X19) -> 5283.4 | ... AB12: =SUM(AB13:AB19) -> 0 | AC12: =SUM(Q12:AB12) -> 57320.68 | AE12: Gastos Indirectos | AF12: =SUM(AF13:AF19) -> 0 | AG12: =SUM(AG13:AG19) -> 0 | AH12: =SUM(AH13:AH19) -> 0 | AI12: =SUM(AI13:AI19) -> 0 | AJ12: =SUM(AJ13:AJ19) -> 0 | AK12: =SUM(AK13:AK19) -> 0 | AL12: =SUM(AL13:AL19) -> 0 | AM12: =SUM(AM13:AM19) -> 0 | ... AQ12: =SUM(AQ13:AQ19) -> 0 | AR12: =SUM(AF12:AQ12) -> 0
A13: Alquiler | B13: =VLOOKUP("ALQ.LOCAL C/.ISLOTE FERMIN",'Enero 19'!$B:$E,3,0) -> 330 | C13: =VLOOKUP("ALQ.LOCAL C/.ISLOTE FERMIN",'Febrero 19'!$B:$E,3,0) -> 330 | D13: =VLOOKUP("ALQ.LOCAL C/.ISLOTE FERMIN",'Marzo 19'!$B:$E,3,0) -> 330 | E13: =VLOOKUP("ALQ.LOCAL C/.ISLOTE FERMIN",'Abril 19'!$B:$E,3,0) -> 330 | F13: =VLOOKUP("ALQ.LOCAL C/.ISLOTE FERMIN",'Mayo 19'!$B:$E,3,0) -> 330 | G13: =VLOOKUP("ALQ.LOCAL C/.ISLOTE FERMIN",'Junio 19'!$B:$E,3,0) -> 330 | H13: =VLOOKUP("ALQ.LOCAL C/.ISLOTE FERMIN",'Julio 19'!$B:$E,3,0) -> 330 | I13: =VLOOKUP("ALQ.LOCAL C/.ISLOTE FERMIN",'Agosto 19'!$B:$E,3,0) -> 330 | J13: =VLOOKUP("ALQ.LOCAL C/.ISLOTE FERMIN",'Septiembre 19'!$B:$E,3,0) -> 330 | K13: =VLOOKUP("ALQ.LOCAL C/.ISLOTE FERMIN",'Octubre 19'!$B:$E,3,0) -> 330 | L13: =VLOOKUP("ALQ.LOCAL C/.ISLOTE FERMIN",'Noviembre 19'!$B:$E,3,0) -> 330 | M13: =VLOOKUP("ALQ.LOCAL C/.ISLOTE FERMIN",'Diciembre 19'!$B:$E,3,0) -> 330 | N13: =SUM(B13:M13) -> 3960 | P13: Alquiler | Q13: =VLOOKUP("ALQ.LOCAL C/.ISLOTE FERMIN",'Enero 20'!$B:$E,3,0) -> 330 | R13: =VLOOKUP("ALQ.LOCAL C/.ISLOTE FERMIN",'Febrero 20'!$B:$E,3,0) -> 330 | S13: =VLOOKUP("ALQ.LOCAL C/.ISLOTE FERMIN",'Marzo 20'!$B:$E,3,0) -> 330 | T13: =VLOOKUP("ALQ.LOCAL C/.ISLOTE FERMIN",'Abril 20'!$B:$E,3,0) -> 330 | U13: =VLOOKUP("ALQ.LOCAL C/.ISLOTE FERMIN",'Mayo 20'!$B:$E,3,0) -> 330 | V13: =VLOOKUP("ALQ.LOCAL C/.ISLOTE FERMIN",'Junio 20'!$B:$E,3,0) -> 330 | W13: =VLOOKUP("ALQ.LOCAL C/.ISLOTE FERMIN",'Julio 20'!$B:$E,3,0) -> 330 | X13: =VLOOKUP("ALQ.LOCAL C/.ISLOTE FERMIN",'Agosto 20'!$B:$E,3,0) -> 330 | Y13: =VLOOKUP("ALQ.LOCAL C/.ISLOTE FERMIN",'Septiembre 20'!$B:$E,3,0) -> 330 | Z13: =VLOOKUP("ALQ.LOCAL C/.ISLOTE FERMIN",'Octubre 20'!$B:$E,3,0) -> 0 | AA13: =VLOOKUP("ALQ.LOCAL C/.ISLOTE FERMIN",'Noviembre 20'!$B:$E,3,0) -> 0 | AB13: =VLOOKUP("ALQ.LOCAL C/.ISLOTE FERMIN",'Diciembre 20'!$B:$E,3,0) -> 0 | AC13: =SUM(Q13:AB13) -> 2970 | AE13: Alquiler | AR13: =SUM(AF13:AQ13) -> 0 | AW13: Gasto Extraor / Finan
A14: Suministros | B14: =VLOOKUP("SUMINISTROS GASOIL",'Enero 19'!$B:$E,3,0)+VLOOKUP("SUMINISTROS AGUA",'Enero 19'!$B:$E,3,0)+VLOOKUP("SUMINISTROS ELECTRICIDAD",'Enero 19'!$B:$E,3,0) -> 861.63 | C14: =VLOOKUP("SUMINISTROS GASOIL",'Febrero 19'!$B:$E,3,0)+VLOOKUP("SUMINISTROS AGUA",'Febrero 19'!$B:$E,3,0)+VLOOKUP("SUMINISTROS ELECTRICIDAD",'Febrero 19'!$B:$E,3,0) -> 682.33 | D14: =VLOOKUP("SUMINISTROS GASOIL",'Marzo 19'!$B:$E,3,0)+VLOOKUP("SUMINISTROS AGUA",'Marzo 19'!$B:$E,3,0)+VLOOKUP("SUMINISTROS ELECTRICIDAD",'Marzo 19'!$B:$E,3,0) -> 652.21 | E14: =VLOOKUP("SUMINISTROS GASOIL",'Abril 19'!$B:$E,3,0)+VLOOKUP("SUMINISTROS AGUA",'Abril 19'!$B:$E,3,0)+VLOOKUP("SUMINISTROS ELECTRICIDAD",'Abril 19'!$B:$E,3,0) -> 662.56 | F14: =VLOOKUP("SUMINISTROS GASOIL",'Mayo 19'!$B:$E,3,0)+VLOOKUP("SUMINISTROS AGUA",'Mayo 19'!$B:$E,3,0)+VLOOKUP("SUMINISTROS ELECTRICIDAD",'Mayo 19'!$B:$E,3,0) -> 758.46 | G14: =VLOOKUP("SUMINISTROS GASOIL",'Junio 19'!$B:$E,3,0)+VLOOKUP("SUMINISTROS AGUA",'Junio 19'!$B:$E,3,0)+VLOOKUP("SUMINISTROS ELECTRICIDAD",'Junio 19'!$B:$E,3,0) -> 652.78 | H14: =VLOOKUP("SUMINISTROS GASOIL",'Julio 19'!$B:$E,3,0)+VLOOKUP("SUMINISTROS AGUA",'Julio 19'!$B:$E,3,0)+VLOOKUP("SUMINISTROS ELECTRICIDAD",'Julio 19'!$B:$E,3,0) -> 1114.58 | I14: =VLOOKUP("SUMINISTROS GASOIL",'Agosto 19'!$B:$E,3,0)+VLOOKUP("SUMINISTROS AGUA",'Agosto 19'!$B:$E,3,0)+VLOOKUP("SUMINISTROS ELECTRICIDAD",'Agosto 19'!$B:$E,3,0) -> 1007.01 | J14: =VLOOKUP("SUMINISTROS GASOIL",'Septiembre 19'!$B:$E,3,0)+VLOOKUP("SUMINISTROS AGUA",'Septiembre 19'!$B:$E,3,0)+VLOOKUP("SUMINISTROS ELECTRICIDAD",'Septiembre 19'!$B:$E,3,0) -> 962.47 | K14: =VLOOKUP("SUMINISTROS GASOIL",'Octubre 19'!$B:$E,3,0)+VLOOKUP("SUMINISTROS AGUA",'Octubre 19'!$B:$E,3,0)+VLOOKUP("SUMINISTROS ELECTRICIDAD",'Octubre 19'!$B:$E,3,0) -> 838.09 | L14: =VLOOKUP("SUMINISTROS GASOIL",'Noviembre 19'!$B:$E,3,0)+VLOOKUP("SUMINISTROS AGUA",'Noviembre 19'!$B:$E,3,0)+VLOOKUP("SUMINISTROS ELECTRICIDAD",'Noviembre 19'!$B:$E,3,0) -> 1030.48 | M14: =VLOOKUP("SUMINISTROS GASOIL",'Diciembre 19'!$B:$E,3,0)+VLOOKUP("SUMINISTROS AGUA",'Diciembre 19'!$B:$E,3,0)+VLOOKUP("SUMINISTROS ELECTRICIDAD",'Diciembre 19'!$B:$E,3,0) -> 959.31 | N14: =SUM(B14:M14) -> 10181.91 | P14: Suministros | Q14: =VLOOKUP("SUMINISTROS GASOIL",'Enero 20'!$B:$E,3,0)+VLOOKUP("SUMINISTROS AGUA",'Enero 20'!$B:$E,3,0)+VLOOKUP("SUMINISTROS ELECTRICIDAD",'Enero 20'!$B:$E,3,0) -> 911.67 | R14: =VLOOKUP("SUMINISTROS GASOIL",'Febrero 20'!$B:$E,3,0)+VLOOKUP("SUMINISTROS AGUA",'Febrero 20'!$B:$E,3,0)+VLOOKUP("SUMINISTROS ELECTRICIDAD",'Febrero 20'!$B:$E,3,0) -> 814.76 | S14: =VLOOKUP("SUMINISTROS GASOIL",'Marzo 20'!$B:$E,3,0)+VLOOKUP("SUMINISTROS AGUA",'Marzo 20'!$B:$E,3,0)+VLOOKUP("SUMINISTROS ELECTRICIDAD",'Marzo 20'!$B:$E,3,0) -> 518.2 | T14: =VLOOKUP("SUMINISTROS GASOIL",'Abril 20'!$B:$E,3,0)+VLOOKUP("SUMINISTROS AGUA",'Abril 20'!$B:$E,3,0)+VLOOKUP("SUMINISTROS ELECTRICIDAD",'Abril 20'!$B:$E,3,0) -> 308.74 | U14: =VLOOKUP("SUMINISTROS GASOIL",'Mayo 20'!$B:$E,3,0)+VLOOKUP("SUMINISTROS AGUA",'Mayo 20'!$B:$E,3,0)+VLOOKUP("SUMINISTROS ELECTRICIDAD",'Mayo 20'!$B:$E,3,0) -> 459.84 | V14: =VLOOKUP("SUMINISTROS GASOIL",'Junio 20'!$B:$E,3,0)+VLOOKUP("SUMINISTROS AGUA",'Junio 20'!$B:$E,3,0)+VLOOKUP("SUMINISTROS ELECTRICIDAD",'Junio 20'!$B:$E,3,0) -> 400.88 | W14: =VLOOKUP("SUMINISTROS GASOIL",'Julio 20'!$B:$E,3,0)+VLOOKUP("SUMINISTROS AGUA",'Julio 20'!$B:$E,3,0)+VLOOKUP("SUMINISTROS ELECTRICIDAD",'Julio 20'!$B:$E,3,0) -> 656.82 | X14: =VLOOKUP("SUMINISTROS GASOIL",'Agosto 20'!$B:$E,3,0)+VLOOKUP("SUMINISTROS AGUA",'Agosto 20'!$B:$E,3,0)+VLOOKUP("SUMINISTROS ELECTRICIDAD",'Agosto 20'!$B:$E,3,0) -> 611.75 | Y14: =VLOOKUP("SUMINISTROS GASOIL",'Septiembre 20'!$B:$E,3,0)+VLOOKUP("SUMINISTROS AGUA",'Septiembre 20'!$B:$E,3,0)+VLOOKUP("SUMINISTROS ELECTRICIDAD",'Septiembre 20'!$B:$E,3,0) -> 653.64 | Z14: =VLOOKUP("SUMINISTROS GASOIL",'Octubre 20'!$B:$E,3,0)+VLOOKUP("SUMINISTROS AGUA",'Octubre 20'!$B:$E,3,0)+VLOOKUP("SUMINISTROS ELECTRICIDAD",'Octubre 20'!$B:$E,3,0) -> 0 | AA14: =VLOOKUP("SUMINISTROS GASOIL",'Noviembre 20'!$B:$E,3,0)+VLOOKUP("SUMINISTROS AGUA",'Noviembre 20'!$B:$E,3,0)+VLOOKUP("SUMINISTROS ELECTRICIDAD",'Noviembre 20'!$B:$E,3,0) -> 0 | AB14: =VLOOKUP("SUMINISTROS GASOIL",'Diciembre 20'!$B:$E,3,0)+VLOOKUP("SUMINISTROS AGUA",'Diciembre 20'!$B:$E,3,0)+VLOOKUP("SUMINISTROS ELECTRICIDAD",'Diciembre 20'!$B:$E,3,0) -> 0 | AC14: =SUM(Q14:AB14) -> 5336.3 | AE14: Suministros | AR14: =SUM(AF14:AQ14) -> 0 | AW14: Resultado de Explotación
A15: Servicios Profesionales | B15: =VLOOKUP("SERVICIOS PROFESIONALES INDEP.",'Enero 19'!$B:$E,3,0) -> 952.73 | C15: =VLOOKUP("SERVICIOS PROFESIONALES INDEP.",'Febrero 19'!$B:$E,3,0) -> 2175.74 | D15: =VLOOKUP("SERVICIOS PROFESIONALES INDEP.",'Marzo 19'!$B:$E,3,0) -> 872.62 | E15: =VLOOKUP("SERVICIOS PROFESIONALES INDEP.",'Abril 19'!$B:$E,3,0) -> 838.72 | F15: =VLOOKUP("SERVICIOS PROFESIONALES INDEP.",'Mayo 19'!$B:$E,3,0) -> 7745.71 | G15: =VLOOKUP("SERVICIOS PROFESIONALES INDEP.",'Junio 19'!$B:$E,3,0) -> 757.76 | H15: =VLOOKUP("SERVICIOS PROFESIONALES INDEP.",'Julio 19'!$B:$E,3,0) -> 1382.21 | I15: =VLOOKUP("SERVICIOS PROFESIONALES INDEP.",'Agosto 19'!$B:$E,3,0) -> 807.29 | J15: =VLOOKUP("SERVICIOS PROFESIONALES INDEP.",'Septiembre 19'!$B:$E,3,0) -> 790.74 | K15: =VLOOKUP("SERVICIOS PROFESIONALES INDEP.",'Octubre 19'!$B:$E,3,0) -> 877.74 | L15: =VLOOKUP("SERVICIOS PROFESIONALES INDEP.",'Noviembre 19'!$B:$E,3,0) -> 1095.04 | M15: =VLOOKUP("SERVICIOS PROFESIONALES INDEP.",'Diciembre 19'!$B:$E,3,0) -> 863.09 | N15: =SUM(B15:M15) -> 19159.39 | P15: Servicios Profesionales | Q15: =VLOOKUP("SERVICIOS PROFESIONALES INDEP.",'Enero 20'!$B:$E,3,0) -> 911.88 | R15: =VLOOKUP("SERVICIOS PROFESIONALES INDEP.",'Febrero 20'!$B:$E,3,0) -> 761.88 | S15: =VLOOKUP("SERVICIOS PROFESIONALES INDEP.",'Marzo 20'!$B:$E,3,0) -> 752.45 | T15: =VLOOKUP("SERVICIOS PROFESIONALES INDEP.",'Abril 20'!$B:$E,3,0) -> 1126.98 | U15: =VLOOKUP("SERVICIOS PROFESIONALES INDEP.",'Mayo 20'!$B:$E,3,0) -> 1037.94 | V15: =VLOOKUP("SERVICIOS PROFESIONALES INDEP.",'Junio 20'!$B:$E,3,0) -> 860.86 | W15: =VLOOKUP("SERVICIOS PROFESIONALES INDEP.",'Julio 20'!$B:$E,3,0) -> 2283.15 | X15: =VLOOKUP("SERVICIOS PROFESIONALES INDEP.",'Agosto 20'!$B:$E,3,0) -> 770.85 | Y15: =VLOOKUP("SERVICIOS PROFESIONALES INDEP.",'Septiembre 20'!$B:$E,3,0) -> 767.85 | Z15: =VLOOKUP("SERVICIOS PROFESIONALES INDEP.",'Octubre 20'!$B:$E,3,0) -> 0 | AA15: =VLOOKUP("SERVICIOS PROFESIONALES INDEP.",'Noviembre 20'!$B:$E,3,0) -> 0 | AB15: =VLOOKUP("SERVICIOS PROFESIONALES INDEP.",'Diciembre 20'!$B:$E,3,0) -> 0 | AC15: =SUM(Q15:AB15) -> 9273.84 | AE15: Servicios Profesionales | AR15: =SUM(AF15:AQ15) -> 0
A16: Seguros | B16: =VLOOKUP("PRIMAS DE SEGUROS",'Enero 19'!$B:$E,3,0) -> 321.28 | C16: =VLOOKUP("PRIMAS DE SEGUROS",'Febrero 19'!$B:$E,3,0) -> 246.83 | D16: =VLOOKUP("PRIMAS DE SEGUROS",'Marzo 19'!$B:$E,3,0) -> 657.35 | E16: =VLOOKUP("PRIMAS DE SEGUROS",'Abril 19'!$B:$E,3,0) -> 1564.83 | F16: =VLOOKUP("PRIMAS DE SEGUROS",'Mayo 19'!$B:$E,3,0) -> 246.83 | G16: =VLOOKUP("PRIMAS DE SEGUROS",'Junio 19'!$B:$E,3,0) -> 363.11 | H16: =VLOOKUP("PRIMAS DE SEGUROS",'Julio 19'!$B:$E,3,0) -> 722.71 | I16: =VLOOKUP("PRIMAS DE SEGUROS",'Agosto 19'!$B:$E,3,0) -> 246.83 | J16: =VLOOKUP("PRIMAS DE SEGUROS",'Septiembre 19'!$B:$E,3,0) -> 1508.37 | K16: =VLOOKUP("PRIMAS DE SEGUROS",'Octubre 19'!$B:$E,3,0) -> 778.94 | L16: =VLOOKUP("PRIMAS DE SEGUROS",'Noviembre 19'!$B:$E,3,0) -> 321.28 | M16: =VLOOKUP("PRIMAS DE SEGUROS",'Diciembre 19'!$B:$E,3,0) -> 594.05 | N16: =SUM(B16:M16) -> 7572.41 | P16: Seguros | Q16: =VLOOKUP("PRIMAS DE SEGUROS",'Enero 20'!$B:$E,3,0) -> 321.28 | R16: =VLOOKUP("PRIMAS DE SEGUROS",'Febrero 20'!$B:$E,3,0) -> 250.86 | S16: =VLOOKUP("PRIMAS DE SEGUROS",'Marzo 20'!$B:$E,3,0) -> 1704.76 | T16: =VLOOKUP("PRIMAS DE SEGUROS",'Abril 20'!$B:$E,3,0) -> 995.58 | U16: =VLOOKUP("PRIMAS DE SEGUROS",'Mayo 20'!$B:$E,3,0) -> 250.86 | V16: =VLOOKUP("PRIMAS DE SEGUROS",'Junio 20'!$B:$E,3,0) -> 563.6 | W16: =VLOOKUP("PRIMAS DE SEGUROS",'Julio 20'!$B:$E,3,0) -> 704.17 | X16: =VLOOKUP("PRIMAS DE SEGUROS",'Agosto 20'!$B:$E,3,0) -> 250.86 | Y16: =VLOOKUP("PRIMAS DE SEGUROS",'Septiembre 20'!$B:$E,3,0) -> 1490.51 | Z16: =VLOOKUP("PRIMAS DE SEGUROS",'Octubre 20'!$B:$E,3,0) -> 0 | AA16: =VLOOKUP("PRIMAS DE SEGUROS",'Noviembre 20'!$B:$E,3,0) -> 0 | AB16: =VLOOKUP("PRIMAS DE SEGUROS",'Diciembre 20'!$B:$E,3,0) -> 0 | AC16: =SUM(Q16:AB16) -> 6532.48 | AE16: Seguros | AR16: =SUM(AF16:AQ16) -> 0 | AW16: Resultado Neto antes de I.S.
A17: Varios | B17: =VLOOKUP("GASTOS DIVERSOS",'Enero 19'!$B:$E,3,0)+VLOOKUP("GASTOS MAT.OFICINA",'Enero 19'!$B:$E,3,0)+VLOOKUP("GASTOS viajes",'Enero 19'!$B:$E,3,0) -> 1535.97 | C17: =VLOOKUP("GASTOS DIVERSOS",'Febrero 19'!$B:$E,3,0)+VLOOKUP("GASTOS MAT.OFICINA",'Febrero 19'!$B:$E,3,0)+VLOOKUP("GASTOS viajes",'Febrero 19'!$B:$E,3,0) -> 996.26 | D17: =VLOOKUP("GASTOS DIVERSOS",'Marzo 19'!$B:$E,3,0)+VLOOKUP("GASTOS MAT.OFICINA",'Marzo 19'!$B:$E,3,0)+VLOOKUP("GASTOS viajes",'Marzo 19'!$B:$E,3,0) -> 2061.74 | E17: =VLOOKUP("GASTOS DIVERSOS",'Abril 19'!$B:$E,3,0)+VLOOKUP("GASTOS MAT.OFICINA",'Abril 19'!$B:$E,3,0)+VLOOKUP("GASTOS viajes",'Abril 19'!$B:$E,3,0) -> 1337.48 | F17: =VLOOKUP("GASTOS DIVERSOS",'Mayo 19'!$B:$E,3,0)+VLOOKUP("GASTOS MAT.OFICINA",'Mayo 19'!$B:$E,3,0)+VLOOKUP("GASTOS viajes",'Mayo 19'!$B:$E,3,0) -> 1835.12 | G17: =VLOOKUP("GASTOS DIVERSOS",'Junio 19'!$B:$E,3,0)+VLOOKUP("GASTOS MAT.OFICINA",'Junio 19'!$B:$E,3,0)+VLOOKUP("GASTOS viajes",'Junio 19'!$B:$E,3,0) -> 637.54 | H17: =VLOOKUP("GASTOS DIVERSOS",'Julio 19'!$B:$E,3,0)+VLOOKUP("GASTOS MAT.OFICINA",'Julio 19'!$B:$E,3,0)+VLOOKUP("GASTOS viajes",'Julio 19'!$B:$E,3,0) -> 1638.76 | I17: =VLOOKUP("GASTOS DIVERSOS",'Agosto 19'!$B:$E,3,0)+VLOOKUP("GASTOS MAT.OFICINA",'Agosto 19'!$B:$E,3,0)+VLOOKUP("GASTOS viajes",'Agosto 19'!$B:$E,3,0) -> 2941.15 | J17: =VLOOKUP("GASTOS DIVERSOS",'Septiembre 19'!$B:$E,3,0)+VLOOKUP("GASTOS MAT.OFICINA",'Septiembre 19'!$B:$E,3,0)+VLOOKUP("GASTOS viajes",'Septiembre 19'!$B:$E,3,0) -> 1673.31 | K17: =VLOOKUP("GASTOS DIVERSOS",'Octubre 19'!$B:$E,3,0)+VLOOKUP("GASTOS MAT.OFICINA",'Octubre 19'!$B:$E,3,0)+VLOOKUP("GASTOS viajes",'Octubre 19'!$B:$E,3,0) -> 1039.57 | L17: =VLOOKUP("GASTOS DIVERSOS",'Noviembre 19'!$B:$E,3,0)+VLOOKUP("GASTOS MAT.OFICINA",'Noviembre 19'!$B:$E,3,0)+VLOOKUP("GASTOS viajes",'Noviembre 19'!$B:$E,3,0) -> 959.12 | M17: =VLOOKUP("GASTOS DIVERSOS",'Diciembre 19'!$B:$E,3,0)+VLOOKUP("GASTOS MAT.OFICINA",'Diciembre 19'!$B:$E,3,0)+VLOOKUP("GASTOS viajes",'Diciembre 19'!$B:$E,3,0) -> 3368.02 | N17: =SUM(B17:M17) -> 20024.04 | P17: Varios | Q17: =VLOOKUP("GASTOS DIVERSOS",'Enero 20'!$B:$E,3,0)+VLOOKUP("GASTOS MAT.OFICINA",'Enero 20'!$B:$E,3,0)+VLOOKUP("GASTOS viajes",'Enero 20'!$B:$E,3,0) -> 2485.29 | R17: =VLOOKUP("GASTOS DIVERSOS",'Febrero 20'!$B:$E,3,0)+VLOOKUP("GASTOS MAT.OFICINA",'Febrero 20'!$B:$E,3,0)+VLOOKUP("GASTOS viajes",'Febrero 20'!$B:$E,3,0) -> 863.44 | S17: =VLOOKUP("GASTOS DIVERSOS",'Marzo 20'!$B:$E,3,0)+VLOOKUP("GASTOS MAT.OFICINA",'Marzo 20'!$B:$E,3,0)+VLOOKUP("GASTOS viajes",'Marzo 20'!$B:$E,3,0) -> 629.84 | T17: =VLOOKUP("GASTOS DIVERSOS",'Abril 20'!$B:$E,3,0)+VLOOKUP("GASTOS MAT.OFICINA",'Abril 20'!$B:$E,3,0)+VLOOKUP("GASTOS viajes",'Abril 20'!$B:$E,3,0) -> 156.74 | U17: =VLOOKUP("GASTOS DIVERSOS",'Mayo 20'!$B:$E,3,0)+VLOOKUP("GASTOS MAT.OFICINA",'Mayo 20'!$B:$E,3,0)+VLOOKUP("GASTOS viajes",'Mayo 20'!$B:$E,3,0) -> 1305.86 | V17: =VLOOKUP("GASTOS DIVERSOS",'Junio 20'!$B:$E,3,0)+VLOOKUP("GASTOS MAT.OFICINA",'Junio 20'!$B:$E,3,0)+VLOOKUP("GASTOS viajes",'Junio 20'!$B:$E,3,0) -> 1352.37 | W17: =VLOOKUP("GASTOS DIVERSOS",'Julio 20'!$B:$E,3,0)+VLOOKUP("GASTOS MAT.OFICINA",'Julio 20'!$B:$E,3,0)+VLOOKUP("GASTOS viajes",'Julio 20'!$B:$E,3,0) -> 1142.84 | X17: =VLOOKUP("GASTOS DIVERSOS",'Agosto 20'!$B:$E,3,0)+VLOOKUP("GASTOS MAT.OFICINA",'Agosto 20'!$B:$E,3,0)+VLOOKUP("GASTOS viajes",'Agosto 20'!$B:$E,3,0) -> 1850.63 | Y17: =VLOOKUP("GASTOS DIVERSOS",'Septiembre 20'!$B:$E,3,0)+VLOOKUP("GASTOS MAT.OFICINA",'Septiembre 20'!$B:$E,3,0)+VLOOKUP("GASTOS viajes",'Septiembre 20'!$B:$E,3,0) -> 1936.3 | Z17: =VLOOKUP("GASTOS DIVERSOS",'Octubre 20'!$B:$E,3,0)+VLOOKUP("GASTOS MAT.OFICINA",'Octubre 20'!$B:$E,3,0)+VLOOKUP("GASTOS viajes",'Octubre 20'!$B:$E,3,0) -> 0 | AA17: =VLOOKUP("GASTOS DIVERSOS",'Noviembre 20'!$B:$E,3,0)+VLOOKUP("GASTOS MAT.OFICINA",'Noviembre 20'!$B:$E,3,0)+VLOOKUP("GASTOS viajes",'Noviembre 20'!$B:$E,3,0) -> 0 | AB17: =VLOOKUP("GASTOS DIVERSOS",'Diciembre 20'!$B:$E,3,0)+VLOOKUP("GASTOS MAT.OFICINA",'Diciembre 20'!$B:$E,3,0)+VLOOKUP("GASTOS viajes",'Diciembre 20'!$B:$E,3,0) -> 0 | AC17: =SUM(Q17:AB17) -> 11723.31 | AE17: Varios | AR17: =SUM(AF17:AQ17) -> 0
A18: Teléfono | B18: =VLOOKUP("GASTOS TELEFONO",'Enero 19'!$B:$E,3,0) -> 327.67 | C18: =VLOOKUP("GASTOS TELEFONO",'Febrero 19'!$B:$E,3,0) -> 284.27 | D18: =VLOOKUP("GASTOS TELEFONO",'Marzo 19'!$B:$E,3,0) -> 274.19 | E18: =VLOOKUP("GASTOS TELEFONO",'Abril 19'!$B:$E,3,0) -> 268.81 | F18: =VLOOKUP("GASTOS TELEFONO",'Mayo 19'!$B:$E,3,0) -> 288.06 | G18: =VLOOKUP("GASTOS TELEFONO",'Junio 19'!$B:$E,3,0) -> 327.66 | H18: =VLOOKUP("GASTOS TELEFONO",'Julio 19'!$B:$E,3,0) -> 333.45 | I18: =VLOOKUP("GASTOS TELEFONO",'Agosto 19'!$B:$E,3,0) -> 314.72 | J18: =VLOOKUP("GASTOS TELEFONO",'Septiembre 19'!$B:$E,3,0) -> 314.26 | K18: =VLOOKUP("GASTOS TELEFONO",'Octubre 19'!$B:$E,3,0) -> 316.96 | L18: =VLOOKUP("GASTOS TELEFONO",'Noviembre 19'!$B:$E,3,0) -> 320.18 | M18: =VLOOKUP("GASTOS TELEFONO",'Diciembre 19'!$B:$E,3,0) -> 339.49 | N18: =SUM(B18:M18) -> 3709.72 | P18: Teléfono | Q18: =VLOOKUP("GASTOS TELEFONO",'Enero 20'!$B:$E,3,0) -> 319.85 | R18: =VLOOKUP("GASTOS TELEFONO",'Febrero 20'!$B:$E,3,0) -> 315.04 | S18: =VLOOKUP("GASTOS TELEFONO",'Marzo 20'!$B:$E,3,0) -> 317.67 | T18: =VLOOKUP("GASTOS TELEFONO",'Abril 20'!$B:$E,3,0) -> 326.35 | U18: =VLOOKUP("GASTOS TELEFONO",'Mayo 20'!$B:$E,3,0) -> 309.71 | V18: =VLOOKUP("GASTOS TELEFONO",'Junio 20'!$B:$E,3,0) -> 308.49 | W18: =VLOOKUP("GASTOS TELEFONO",'Julio 20'!$B:$E,3,0) -> 345.41 | X18: =VLOOKUP("GASTOS TELEFONO",'Agosto 20'!$B:$E,3,0) -> 318.2 | Y18: =VLOOKUP("GASTOS TELEFONO",'Septiembre 20'!$B:$E,3,0) -> 301.87 | Z18: =VLOOKUP("GASTOS TELEFONO",'Octubre 20'!$B:$E,3,0) -> 0 | AA18: =VLOOKUP("GASTOS TELEFONO",'Noviembre 20'!$B:$E,3,0) -> 0 | AB18: =VLOOKUP("GASTOS TELEFONO",'Diciembre 20'!$B:$E,3,0) -> 0 | AC18: =SUM(Q18:AB18) -> 2862.59 | AE18: Teléfono | AR18: =SUM(AF18:AQ18) -> 0
A19: Mantenimiento | B19: =VLOOKUP("REPARACIONES Y CONSERVACIÓN",'Enero 19'!$B:$E,3,0) -> 6542.15 | C19: =VLOOKUP("REPARACIONES Y CONSERVACIÓN",'Febrero 19'!$B:$E,3,0) -> 281.64 | D19: =VLOOKUP("REPARACIONES Y CONSERVACIÓN",'Marzo 19'!$B:$E,3,0) -> 255.35 | E19: =VLOOKUP("REPARACIONES Y CONSERVACIÓN",'Abril 19'!$B:$E,3,0) -> 113.98 | F19: =VLOOKUP("REPARACIONES Y CONSERVACIÓN",'Mayo 19'!$B:$E,3,0) -> 848.2 | G19: =VLOOKUP("REPARACIONES Y CONSERVACIÓN",'Junio 19'!$B:$E,3,0) -> 91.9 | H19: =VLOOKUP("REPARACIONES Y CONSERVACIÓN",'Julio 19'!$B:$E,3,0) -> 857.81 | I19: =VLOOKUP("REPARACIONES Y CONSERVACIÓN",'Agosto 19'!$B:$E,3,0) -> 1923.02 | J19: =VLOOKUP("REPARACIONES Y CONSERVACIÓN",'Septiembre 19'!$B:$E,3,0) -> 692.33 | K19: =VLOOKUP("REPARACIONES Y CONSERVACIÓN",'Octubre 19'!$B:$E,3,0) -> 1628.22 | L19: =VLOOKUP("REPARACIONES Y CONSERVACIÓN",'Noviembre 19'!$B:$E,3,0) -> 806.85 | M19: =VLOOKUP("REPARACIONES Y CONSERVACIÓN",'Diciembre 19'!$B:$E,3,0) -> 23897.93 | N19: =SUM(B19:M19) -> 37939.38 | P19: Mantenimiento | Q19: =VLOOKUP("REPARACIONES Y CONSERVACIÓN",'Enero 20'!$B:$E,3,0) -> 3989.99 | R19: =VLOOKUP("REPARACIONES Y CONSERVACIÓN",'Febrero 20'!$B:$E,3,0) -> 5446.96 | S19: =VLOOKUP("REPARACIONES Y CONSERVACIÓN",'Marzo 20'!$B:$E,3,0) -> 544.22 | T19: =VLOOKUP("REPARACIONES Y CONSERVACIÓN",'Abril 20'!$B:$E,3,0) -> 65.03 | U19: =VLOOKUP("REPARACIONES Y CONSERVACIÓN",'Mayo 20'!$B:$E,3,0) -> 598.42 | V19: =VLOOKUP("REPARACIONES Y CONSERVACIÓN",'Junio 20'!$B:$E,3,0) -> 844.57 | W19: =VLOOKUP("REPARACIONES Y CONSERVACIÓN",'Julio 20'!$B:$E,3,0) -> 1203.27 | X19: =VLOOKUP("REPARACIONES Y CONSERVACIÓN",'Agosto 20'!$B:$E,3,0) -> 1151.11 | Y19: =VLOOKUP("REPARACIONES Y CONSERVACIÓN",'Septiembre 20'!$B:$E,3,0) -> 4778.59 | Z19: =VLOOKUP("REPARACIONES Y CONSERVACIÓN",'Octubre 20'!$B:$E,3,0) -> 0 | AA19: =VLOOKUP("REPARACIONES Y CONSERVACIÓN",'Noviembre 20'!$B:$E,3,0) -> 0 | AB19: =VLOOKUP("REPARACIONES Y CONSERVACIÓN",'Diciembre 20'!$B:$E,3,0) -> 0 | AC19: =SUM(Q20:AB20) -> #DIV/0! | AE19: Mantenimiento | AR19: =SUM(AF20:AQ20) -> 0
A20: Ratio gastos Indirectos | B20: =B12/B3 -> 0.1087143 | C20: =C12/C3 -> 0.079935611 | D20: =D12/D3 -> 0.10914636 | E20: =E12/E3 -> 0.069267263 | F20: =F12/F3 -> 0.10818028 | G20: =G12/G3 -> 0.050249487 | H20: =H12/H3 -> 0.051593494 | I20: =I12/I3 -> 0.1121164 | ... M20: =M12/M3 -> 0.23377149 | P20: Ratio gastos Indirectos | Q20: =Q12/Q3 -> 0.17663008 | R20: =R12/R3 -> 0.18134741 | S20: =S12/S3 -> 0.064345926 | T20: =T12/T3 -> #DIV/0! | U20: =U12/U3 -> 0.16097765 | V20: =V12/V3 -> 0.13768274 | W20: =W12/W3 -> 0.13872413 | X20: =X12/X3 -> 0.044694751 | ... AB20: =AB12/AB3 -> #DIV/0! | AE20: Ratio gastos Indirectos | AF20: =AF12/AF3 -> 0 | AG20: =AG12/AG3 -> 0 | AH20: =AH12/AH3 -> 0 | AI20: =AI12/AI3 -> 0 | AJ20: =AJ12/AJ3 -> 0 | AK20: =AK12/AK3 -> 0 | AL20: =AL12/AL3 -> 0 | AM20: =AM12/AM3 -> 0 | ... AQ20: =AQ12/AQ3 -> 0
A22: Total Gastos | B22: =B7+B12+B5 -> 60871.43 | C22: =C7+C12+C5 -> 46672.01 | D22: =D7+D12+D5 -> 76046.55 | E22: =E7+E12+E5 -> 46564.57 | F22: =F7+F12+F5 -> 96687.29 | G22: =G7+G12+G5 -> 61683.29 | H22: =H7+H12+H5 -> 108033.68 | I22: =I7+I12+I5 -> 37871.45 | ... M22: =M7+M12+M5 -> 98536.15 | N22: =SUM(B22:M22) -> 864800.16 | P22: Total Gastos | Q22: =Q7+Q12+Q5 -> 74821.13 | R22: =R7+R12+R5 -> 87422.16 | S22: =S7+S12+S5 -> 76198.36 | T22: =T7+T12+T5 -> 3327.21 | U22: =U7+U12+U5 -> 32838.99 | V22: =V7+V12+V5 -> 16882.48 | W22: =W7+W12+W5 -> 37878.62 | X22: =X7+X12+X5 -> 36506.74 | ... AB22: =AB7+AB12+AB5 -> 0 | AC22: =SUM(Q22:AB22) -> 391340.93 | AE22: Total Gastos | AF22: =AF7+AF12+AF5 -> 0 | AG22: =AG7+AG12+AG5 -> 0 | AH22: =AH7+AH12+AH5 -> 0 | AI22: =AI7+AI12+AI5 -> 0 | AJ22: =AJ7+AJ12+AJ5 -> 0 | AK22: =AK7+AK12+AK5 -> 0 | AL22: =AL7+AL12+AL5 -> 0 | AM22: =AM7+AM12+AM5 -> 0 | ... AQ22: =AQ7+AQ12+AQ5 -> 0 | AR22: =SUM(AF22:AQ22) -> 0
A23: Resultado Operativo | B23: =B3-B7-B12-B5 -> 39128.57 | C23: =C3-C7-C12-C5 -> 15841.68 | D23: =D3-D7-D12-D5 -> -29288.6 | E23: =E3-E7-E12-E5 -> 27299.76 | F23: =F3-F7-F12-F5 -> 14722.85 | G23: =G3-G7-G12-G5 -> 1217.85 | H23: =H3-H7-H12-H5 -> 15616.02 | I23: =I3-I7-I12-I5 -> 29647.84 | ... M23: =M3-M7-M12-M5 -> 31299.57 | N23: =SUM(B23:M23) -> 136751.15 | P23: Resultado Operativo | Q23: =Q3-Q7-Q12-Q5 -> -22338.79 | R23: =R3-R7-R12-R5 -> -38990.59 | S23: =S3-S7-S12-S5 -> -1646.01 | T23: =T3-T7-T12-T5 -> -3327.21 | U23: =U3-U7-U12-U5 -> -6172.99 | V23: =V3-V7-V12-V5 -> 16969.04 | W23: =W3-W7-W12-W5 -> 10171.13 | X23: =X3-X7-X12-X5 -> 81704.01 | ... AB23: =AB3-AB7-AB12-AB5 -> 0 | AC23: =SUM(Q23:AB23) -> 35294.8 | AE23: Resultado Operativo | AF23: =AF3-AF7-AF12 -> 91000 | AG23: =AG3-AG7-AG12 -> 56887.458 | AH23: =AH3-AH7-AH12 -> 43952.473 | AI23: =AI3-AI7-AI12 -> 66477.897 | AJ23: =AJ3-AJ7-AJ12 -> 100269.13 | AK23: =AK3-AK7-AK12 -> 57869.049 | AL23: =AL3-AL7-AL12 -> 113757.72 | AM23: =AM3-AM7-AM12 -> 61442.554 | ... AQ23: =AQ3-AQ7-AQ12 -> 119448.86 | AR23: =SUM(AF23:AQ23) -> 914221.27
B24: =B23/B3 -> 0.3912857 | C24: =C23/C3 -> 0.25341137 | D24: =D23/D3 -> -0.6263876 | E24: =E23/E3 -> 0.36959328 | F24: =F23/F3 -> 0.13215 | G24: =G23/G3 -> 0.019361334 | H24: =H23/H3 -> 0.12629242 | I24: =I23/I3 -> 0.43910177 | ... M24: =M23/M3 -> 0.24107056 | Q24: =Q23/Q3 -> -0.42564394 | R24: =R23/R3 -> -0.80506558 | S24: =S23/S3 -> -0.02207858 | T24: =T23/T3 -> #DIV/0! | U24: =U23/U3 -> -0.23149291 | V24: =V23/V3 -> 0.50127852 | W24: =W23/W3 -> 0.21167915 | X24: =X23/X3 -> 0.69117242 | ... AB24: =AB23/AB3 -> #DIV/0! | AF24: =AF23/AF3 -> 1 | AG24: =AG23/AG3 -> 1 | AH24: =AH23/AH3 -> 1 | AI24: =AI23/AI3 -> 1 | AJ24: =AJ23/AJ3 -> 1 | AK24: =AK23/AK3 -> 1 | AL24: =AL23/AL3 -> 1 | AM24: =AM23/AM3 -> 1 | ... AQ24: =AQ23/AQ3 -> 1
A26: Gasto Extraor / Finan | B26: =VLOOKUP("SERV.BANCARIOS BANKIA",'Enero 19'!$B:$E,3,0)+VLOOKUP("SERV.BANCARIOS c.siete",'Enero 19'!$B:$E,3,0)+VLOOKUP("INT.PTMO.RCI BANQUE S.A.",'Enero 19'!$B:$E,3,0)+VLOOKUP("INT.PTMO.C.SIETE Nº2238601351",'Enero 19'!$B:$E,3,0) -> 210.46 | C26: =VLOOKUP("SERV.BANCARIOS BANKIA",'Febrero 19'!$B:$E,3,0)+VLOOKUP("SERV.BANCARIOS c.siete",'Febrero 19'!$B:$E,3,0)+VLOOKUP("INT.PTMO.RCI BANQUE S.A.",'Febrero 19'!$B:$E,3,0)+VLOOKUP("INT.PTMO.C.SIETE Nº2238601351",'Febrero 19'!$B:$E,3,0) -> 692.19 | D26: =VLOOKUP("SERV.BANCARIOS BANKIA",'Marzo 19'!$B:$E,3,0)+VLOOKUP("SERV.BANCARIOS c.siete",'Marzo 19'!$B:$E,3,0)+VLOOKUP("INT.PTMO.RCI BANQUE S.A.",'Marzo 19'!$B:$E,3,0)+VLOOKUP("INT.PTMO.C.SIETE Nº2238601351",'Marzo 19'!$B:$E,3,0) -> 281.49 | E26: =VLOOKUP("SERV.BANCARIOS BANKIA",'Abril 19'!$B:$E,3,0)+VLOOKUP("SERV.BANCARIOS c.siete",'Abril 19'!$B:$E,3,0)+VLOOKUP("INT.PTMO.RCI BANQUE S.A.",'Abril 19'!$B:$E,3,0)+VLOOKUP("INT.PTMO.C.SIETE Nº2238601351",'Abril 19'!$B:$E,3,0) -> 186.34 | F26: =VLOOKUP("SERV.BANCARIOS BANKIA",'Mayo 19'!$B:$E,3,0)+VLOOKUP("SERV.BANCARIOS c.siete",'Mayo 19'!$B:$E,3,0)+VLOOKUP("INT.PTMO.RCI BANQUE S.A.",'Mayo 19'!$B:$E,3,0)+VLOOKUP("INT.PTMO.C.SIETE Nº2238601351",'Mayo 19'!$B:$E,3,0) -> 179.08 | G26: =VLOOKUP("SERV.BANCARIOS BANKIA",'Junio 19'!$B:$E,3,0)+VLOOKUP("SERV.BANCARIOS c.siete",'Junio 19'!$B:$E,3,0)+VLOOKUP("INT.PTMO.RCI BANQUE S.A.",'Junio 19'!$B:$E,3,0)+VLOOKUP("INT.PTMO.C.SIETE Nº2238601351",'Junio 19'!$B:$E,3,0) -> 303.47 | H26: =VLOOKUP("SERV.BANCARIOS BANKIA",'Julio 19'!$B:$E,3,0)+VLOOKUP("SERV.BANCARIOS c.siete",'Julio 19'!$B:$E,3,0)+VLOOKUP("INT.PTMO.RCI BANQUE S.A.",'Julio 19'!$B:$E,3,0)+VLOOKUP("INT.PTMO.C.SIETE Nº2238601351",'Julio 19'!$B:$E,3,0) -> 214.87 | I26: =VLOOKUP("SERV.BANCARIOS BANKIA",'Agosto 19'!$B:$E,3,0)+VLOOKUP("SERV.BANCARIOS c.siete",'Agosto 19'!$B:$E,3,0)+VLOOKUP("INT.PTMO.RCI BANQUE S.A.",'Agosto 19'!$B:$E,3,0)+VLOOKUP("INT.PTMO.C.SIETE Nº2238601351",'Agosto 19'!$B:$E,3,0) -> 200.45 | J26: =VLOOKUP("SERV.BANCARIOS BANKIA",'Septiembre 19'!$B:$E,3,0)+VLOOKUP("SERV.BANCARIOS c.siete",'Septiembre 19'!$B:$E,3,0)+VLOOKUP("INT.PTMO.RCI BANQUE S.A.",'Septiembre 19'!$B:$E,3,0)+VLOOKUP("INT.PTMO.C.SIETE Nº2238601351",'Septiembre 19'!$B:$E,3,0) -> 248.46 | K26: =VLOOKUP("SERV.BANCARIOS BANKIA",'Octubre 19'!$B:$E,3,0)+VLOOKUP("SERV.BANCARIOS c.siete",'Octubre 19'!$B:$E,3,0)+VLOOKUP("INT.PTMO.RCI BANQUE S.A.",'Octubre 19'!$B:$E,3,0)+VLOOKUP("INT.PTMO.C.SIETE Nº2238601351",'Octubre 19'!$B:$E,3,0) -> 180.58 | L26: =VLOOKUP("SERV.BANCARIOS BANKIA",'Noviembre 19'!$B:$E,3,0)+VLOOKUP("SERV.BANCARIOS c.siete",'Noviembre 19'!$B:$E,3,0)+VLOOKUP("INT.PTMO.RCI BANQUE S.A.",'Noviembre 19'!$B:$E,3,0)+VLOOKUP("INT.PTMO.C.SIETE Nº2238601351",'Noviembre 19'!$B:$E,3,0) -> 194.21 | M26: =VLOOKUP("SERV.BANCARIOS BANKIA",'Diciembre 19'!$B:$E,3,0)+VLOOKUP("SERV.BANCARIOS c.siete",'Diciembre 19'!$B:$E,3,0)+VLOOKUP("INT.PTMO.RCI BANQUE S.A.",'Diciembre 19'!$B:$E,3,0)+VLOOKUP("INT.PTMO.C.SIETE Nº2238601351",'Diciembre 19'!$B:$E,3,0) -> 297.71 | N26: =SUM(B26:M26) -> 3189.31 | P26: Gasto Extraor / Finan | AC26: =SUM(Q26:AB26) -> 0 | AE26: Gasto Extraor / Finan | AR26: =SUM(AF26:AQ26) -> 0
A27: Resultado de Explotación | B27: =B23-B26 -> 38918.11 | C27: =C23-C26 -> 15149.49 | D27: =D23-D26 -> -29570.09 | E27: =E23-E26 -> 27113.42 | F27: =F23-F26 -> 14543.77 | G27: =G23-G26 -> 914.38 | H27: =H23-H26 -> 15401.15 | I27: =I23-I26 -> 29447.39 | ... M27: =M23-M26 -> 31001.86 | N27: =SUM(B27:M27) -> 133561.84 | P27: Resultado de Explotación | Q27: =Q23-Q26 -> -22338.79 | R27: =R23-R26 -> -38990.59 | S27: =S23-S26 -> -1646.01 | T27: =T23-T26 -> -3327.21 | U27: =U23-U26 -> -6172.99 | V27: =V23-V26 -> 16969.04 | W27: =W23-W26 -> 10171.13 | X27: =X23-X26 -> 81704.01 | ... AB27: =AB23-AB26 -> 0 | AC27: =SUM(Q27:AB27) -> 35294.8 | AE27: Resultado de Explotación | AF27: =AF23-AF26 -> 91000 | AG27: =AG23-AG26 -> 56887.458 | AH27: =AH23-AH26 -> 43952.473 | AI27: =AI23-AI26 -> 66477.897 | AJ27: =AJ23-AJ26 -> 100269.13 | AK27: =AK23-AK26 -> 57869.049 | AL27: =AL23-AL26 -> 113757.72 | AM27: =AM23-AM26 -> 61442.554 | ... AQ27: =AQ23-AQ26 -> 119448.86 | AR27: =SUM(AF27:AQ27) -> 914221.27
A29: Resultado Neto antes de I.S. | B29: =B27 -> 38918.11 | C29: =C27 -> 15149.49 | D29: =D27 -> -29570.09 | E29: =E27 -> 27113.42 | F29: =F27 -> 14543.77 | G29: =G27 -> 914.38 | H29: =H27 -> 15401.15 | I29: =I27 -> 29447.39 | ... M29: =M27 -> 31001.86 | N29: =SUM(B29:M29) -> 133561.84 | P29: Resultado Neto antes de I.S. | Q29: =Q27 -> -22338.79 | R29: =R27 -> -38990.59 | S29: =S27 -> -1646.01 | T29: =T27 -> -3327.21 | U29: =U27 -> -6172.99 | V29: =V27 -> 16969.04 | W29: =W27 -> 10171.13 | X29: =X27 -> 81704.01 | ... AB29: =AB27 -> 0 | AC29: =SUM(Q29:AB29) -> 35294.8 | AE29: Resultado Neto antes de I.S. | AF29: =AF27 -> 91000 | AG29: =AG27 -> 56887.458 | AH29: =AH27 -> 43952.473 | AI29: =AI27 -> 66477.897 | AJ29: =AJ27 -> 100269.13 | AK29: =AK27 -> 57869.049 | AL29: =AL27 -> 113757.72 | AM29: =AM27 -> 61442.554 | ... AQ29: =AQ27 -> 119448.86 | AR29: =SUM(AF29:AQ29) -> 914221.27
A30: Margen Beneficio | B30: =B29/B3 -> 0.3891811 | C30: =C29/C3 -> 0.24233876 | D30: =D29/D3 -> -0.63240775 | E30: =E29/E3 -> 0.36707055 | F30: =F29/F3 -> 0.13054261 | G30: =G29/G3 -> 0.014536779 | H30: =H29/H3 -> 0.12455469 | I30: =I29/I3 -> 0.43613299 | ... N30: =N29/N3 -> 0.13335497 | Q30: =Q29/Q3 -> -0.42564394 | R30: =R29/R3 -> -0.80506558 | S30: =S29/S3 -> -0.02207858 | T30: =T29/T3 -> #DIV/0! | U30: =U29/U3 -> -0.23149291 | V30: =V29/V3 -> 0.50127852 | W30: =W29/W3 -> 0.21167915 | X30: =X29/X3 -> 0.69117242 | ... AC30: =AC29/AC3 -> 0.082728186 | AF30: =AF29/AF3 -> 1 | AG30: =AG29/AG3 -> 1 | AH30: =AH29/AH3 -> 1 | AI30: =AI29/AI3 -> 1 | AJ30: =AJ29/AJ3 -> 1 | AK30: =AK29/AK3 -> 1 | AL30: =AL29/AL3 -> 1 | AM30: =AM29/AM3 -> 1 | ... AR30: =AR29/AR3 -> 1
P48: =P5 -> Compras
P49: =P7 -> Salarios
P50: Sueldo CEO
P51: =P13 -> Alquiler
P52: =P14 -> Suministros
P53: =P15 -> Servicios Profesionales
P54: =P16 -> Seguros
P55: =P17 -> Varios
P56: =P18 -> Teléfono
P57: =P20 -> Ratio gastos Indirectos
P58: =P26 -> Gasto Extraor / Finan

Sheet Enero 20
A1: Sumas y saldos.
A4: Período: de Enero '20 a Enero '20
A5: Fecha: 04/11/2020
D7: Período | H7: Acumulados
A8: Cuenta | B8: Descripción | C8: Saldo inicial | D8: Debe | E8: Haber | F8: Debe | G8: Haber | H8: Saldo deudor | I8: Saldo acreedor
A9: 60000000 | B9: COMPRAS | C9: 0 | D9: 43608.69 | E9: 0 | F9: =IF(C9>0,C9+D9,D9) -> 43608.69 | G9: =IF(C9<0,0-C9+E9,E9) -> 0 | H9: =IF(F9-G9>0,F9-G9,0) -> 43608.69 | I9: =IF(G9-F9>0,G9-F9,0) -> 0
A10: 60000001 | B10: COMPRAS TRANSPORTE | C10: 0 | D10: 1945.41 | E10: 0 | F10: =IF(C10>0,C10+D10,D10) -> 1945.41 | G10: =IF(C10<0,0-C10+E10,E10) -> 0 | H10: =IF(F10-G10>0,F10-G10,0) -> 1945.41 | I10: =IF(G10-F10>0,G10-F10,0) -> 0
A11: 60000002 | B11: COMPRAS IMPUESTOS | C11: 0 | D11: 454.92 | E11: 0 | F11: =IF(C11>0,C11+D11,D11) -> 454.92 | G11: =IF(C11<0,0-C11+E11,E11) -> 0 | H11: =IF(F11-G11>0,F11-G11,0) -> 454.92 | I11: =IF(G11-F11>0,G11-F11,0) -> 0
A12: 62100003 | B12: ALQ.LOCAL C/.ISLOTE FERMIN | C12: 0 | D12: 330 | E12: 0 | F12: =IF(C12>0,C12+D12,D12) -> 330 | G12: =IF(C12<0,0-C12+E12,E12) -> 0 | H12: =IF(F12-G12>0,F12-G12,0) -> 330 | I12: =IF(G12-F12>0,G12-F12,0) -> 0
A13: 62200000 | B13: REPARACIONES Y CONSERVACIÓN | C13: 0 | D13: 3989.99 | E13: 0 | F13: =IF(C13>0,C13+D13,D13) -> 3989.99 | G13: =IF(C13<0,0-C13+E13,E13) -> 0 | H13: =IF(F13-G13>0,F13-G13,0) -> 3989.99 | I13: =IF(G13-F13>0,G13-F13,0) -> 0
A14: 62300000 | B14: SERVICIOS PROFESIONALES INDEP. | C14: 0 | D14: 911.88 | E14: 0 | F14: =IF(C14>0,C14+D14,D14) -> 911.88 | G14: =IF(C14<0,0-C14+E14,E14) -> 0 | H14: =IF(F14-G14>0,F14-G14,0) -> 911.88 | I14: =IF(G14-F14>0,G14-F14,0) -> 0
A15: 62500000 | B15: PRIMAS DE SEGUROS | C15: 0 | D15: 321.28 | E15: 0 | F15: =IF(C15>0,C15+D15,D15) -> 321.28 | G15: =IF(C15<0,0-C15+E15,E15) -> 0 | H15: =IF(F15-G15>0,F15-G15,0) -> 321.28 | I15: =IF(G15-F15>0,G15-F15,0) -> 0
A16: 62600002 | B16: SERV.BANCARIOS BANKIA | C16: 0 | D16: -7.2 | E16: 0 | F16: =IF(C16>0,C16+D16,D16) -> -7.2 | G16: =IF(C16<0,0-C16+E16,E16) -> 0 | H16: =IF(F16-G16>0,F16-G16,0) -> 0 | I16: =IF(G16-F16>0,G16-F16,0) -> 7.2
A17: 62600003 | B17: SERV.BANCARIOS C.SIETE | C17: 0 | D17: 52.64 | E17: 0 | F17: =IF(C17>0,C17+D17,D17) -> 52.64 | G17: =IF(C17<0,0-C17+E17,E17) -> 0 | H17: =IF(F17-G17>0,F17-G17,0) -> 52.64 | I17: =IF(G17-F17>0,G17-F17,0) -> 0
A18: 62800001 | B18: SUMINISTROS GASOIL | C18: 0 | D18: 580 | E18: 0 | F18: =IF(C18>0,C18+D18,D18) -> 580 | G18: =IF(C18<0,0-C18+E18,E18) -> 0 | H18: =IF(F18-G18>0,F18-G18,0) -> 580 | I18: =IF(G18-F18>0,G18-F18,0) -> 0
A19: 62800002 | B19: SUMINISTROS AGUA | C19: 0 | D19: 149.08 | E19: 0 | F19: =IF(C19>0,C19+D19,D19) -> 149.08 | G19: =IF(C19<0,0-C19+E19,E19) -> 0 | H19: =IF(F19-G19>0,F19-G19,0) -> 149.08 | I19: =IF(G19-F19>0,G19-F19,0) -> 0
A20: 62800003 | B20: SUMINISTROS ELECTRICIDAD | C20: 0 | D20: 182.59 | E20: 0 | F20: =IF(C20>0,C20+D20,D20) -> 182.59 | G20: =IF(C20<0,0-C20+E20,E20) -> 0 | H20: =IF(F20-G20>0,F20-G20,0) -> 182.59 | I20: =IF(G20-F20>0,G20-F20,0) -> 0
... A31: 70800000 | B31: DEVOLUCIONES DE VENTAS DE MERC | C31: 0 | D31: 1075.81 | E31: 0 | F31: =IF(C31>0,C31+D31,D31) -> 1075.81 | G31: =IF(C31<0,0-C31+E31,E31) -> 0 | H31: =IF(F31-G31>0,F31-G31,0) -> 1075.81 | I31: =IF(G31-F31>0,G31-F31,0) -> 0
B32: Total nivel | C32: =SUM(C9:C31) -> 0 | D32: =SUM(D9:D31) -> 76041.15 | E32: =SUM(E9:E31) -> 53558.15 | F32: =SUM(F9:F31) -> 76041.15 | G32: =SUM(G9:G31) -> 53558.15 | H32: =SUM(H9:H31) -> 76048.35 | I32: =SUM(I9:I31) -> 53565.35

Sheet Facturas 20
A1: Referencia | B1: Fecha | C1: Cliente | D1: CIF/NIF del cliente | E1: Email del cliente | F1: Teléfono | G1: Estado | H1: Total base | I1: Total impuestos | J1: Total importe | K1: Mes
A2: FAC20/00100 | B2: 43861 | C2: Cliente 1 | G2: Cobrada | H2: 290 | I2: 20.3 | J2: 310 | K2: =TEXT(B2,"mmmmmmmmmmmmmm") -> enero
A3: FAC20/00099 | B3: 43861 | C3: Cliente 2 | G3: Parcialmente cobrada | H3: 1170 | I3: 81.9 | J3: 1251.9 | K3: =TEXT(B3,"mmmmmmmmmmmmmm") -> enero
A4: FAC20/00098 | B4: 43861 | C4: Cliente 3 | G4: Pendiente | H4: 60 | I4: 4.2 | J4: 64.2 | K4: =TEXT(B4,"mmmmmmmmmmmmmm") -> enero
A5: FAC20/00097 | B5: 43861 | C5: Cliente 4 | G5: Pendiente | H5: 440 | I5: 30.8 | J5: 470.8 | K5: =TEXT(B5,"mmmmmmmmmmmmmm") -> enero
A6: FAC20/00096 | B6: 43861 | C6: Cliente 5 | G6: Parcialmente cobrada | H6: 560 | I6: 39.2 | J6: 599.2 | K6: =TEXT(B6,"mmmmmmmmmmmmmm") -> enero
A7: FAC20/00095 | B7: 43861 | C7: Cliente 6 | G7: Cobrada | H7: 1049 | I7: 73.43 | J7: 1122.43 | K7: =TEXT(B7,"mmmmmmmmmmmmmm") -> enero
A8: FAC20/00094 | B8: 43860 | C8: Cliente 7 | G8: Pendiente | H8: 135 | I8: 9.45 | J8: 144.45 | K8: =TEXT(B8,"mmmmmmmmmmmmmm") -> enero
A9: FAC20/00093 | B9: 43856 | C9: Cliente 8 | G9: Cobrada | H9: 180 | I9: 12.6 | J9: 192.6 | K9: =TEXT(B9,"mmmmmmmmmmmmmm") -> enero
A10: FAC20/00092 | B10: 43855 | C10: Cliente 9 | G10: Pendiente | H10: 30 | I10: 2.1 | J10: 32.1 | K10: =TEXT(B10,"mmmmmmmmmmmmmm") -> enero
A11: FAC20/00091 | B11: 43855 | C11: Cliente 10 | G11: Pendiente | H11: 1512 | I11: 105.84 | J11: 1617.84 | K11: =TEXT(B11,"mmmmmmmmmmmmmm") -> enero
A12: FAC20/00090 | B12: 43855 | C12: Cliente 11 | G12: Pendiente | H12: 390 | I12: 27.3 | J12: 417.3 | K12: =TEXT(B12,"mmmmmmmmmmmmmm") -> enero
A13: FAC20/00089 | B13: 43855 | C13: Cliente 12 | G13: Pendiente | H13: 90 | I13: 6.3 | J13: 96.3 | K13: =TEXT(B13,"mmmmmmmmmmmmmm") -> enero
... A365: FAC20/00088 | B365: 43854 | C365: Cliente 39 | G365: Pendiente | H365: 270 | I365: 18.9 | J365: 288.9 | K365: =TEXT(B365,"mmmmmmmmmmmmmm") -> enero

Sheet Gastos 20
A1: Concepto | B1: Desglose | C1: Fecha | D1: Mes | E1: Importe
A2: Coste Personal | C2: 43831 | D2: =TEXT(C2,"mmmmmmmmmmmmm") -> enero | E2: 5000
A3: Compras | C3: 43832 | D3: =TEXT(C3,"mmmmmmmmmmmmm") -> enero | E3: 500
A4: Coste Personal | C4: 43833 | D4: =TEXT(C4,"mmmmmmmmmmmmm") -> enero | E4: 1000
A5: Suministros | C5: 43834 | D5: =TEXT(C5,"mmmmmmmmmmmmm") -> enero | E5: 80
A6: Suministros | C6: 43835 | D6: =TEXT(C6,"mmmmmmmmmmmmm") -> enero | E6: 60
A7: Mantenimiento | C7: 43836 | D7: =TEXT(C7,"mmmmmmmmmmmmm") -> enero | E7: 40
A8: Serv Externalizados | C8: 43837 | D8: =TEXT(C8,"mmmmmmmmmmmmm") -> enero | E8: 100
A9: Serv Externalizados | C9: 43838 | D9: =TEXT(C9,"mmmmmmmmmmmmm") -> enero | E9: 500
A10: Otros Gastos | C10: 43838 | D10: =TEXT(C10,"mmmmmmmmmmmmm") -> enero | E10: 50
A11: Otros Gastos | C11: 43838 | D11: =TEXT(C11,"mmmmmmmmmmmmm") -> enero | E11: 300
A12: Coste Personal | C12: 43863 | D12: =TEXT(C12,"mmmmmmmmmmmmm") -> febrero | E12: 4500
A13: Compras | C13: 43863 | D13: =TEXT(C13,"mmmmmmmmmmmmm") -> febrero | E13: 300
... A121: Otros Gastos | C121: 44173 | D121: =TEXT(C121,"mmmmmmmmmmmmm") -> diciembre | E121: 500

Sheet Febrero 20
A1: Sumas y saldos.
A4: Período: de Febrero '20 a Febrero '20
A5: Fecha: 04/11/2020
D7: Período | H7: Acumulados
A8: Cuenta | B8: Descripción | C8: Saldo inicial | D8: Debe | E8: Haber | F8: Debe | G8: Haber | H8: Saldo deudor | I8: Saldo acreedor
A9: 60000000 | B9: COMPRAS | C9: 43608.69 | D9: 59779.94 | E9: 0 | F9: =IF(C9>0,C9+D9,D9) -> 103388.63 | G9: =IF(C9<0,0-C9+E9,E9) -> 0 | H9: =IF(F9-G9>0,F9-G9,0) -> 103388.63 | I9: =IF(G9-F9>0,G9-F9,0) -> 0
A10: 60000001 | B10: COMPRAS TRANSPORTE | C10: 1945.41 | D10: 2471.51 | E10: 0 | F10: =IF(C10>0,C10+D10,D10) -> 4416.92 | G10: =IF(C10<0,0-C10+E10,E10) -> 0 | H10: =IF(F10-G10>0,F10-G10,0) -> 4416.92 | I10: =IF(G10-F10>0,G10-F10,0) -> 0
A11: 60000002 | B11: COMPRAS IMPUESTOS | C11: 454.92 | D11: 1426.54 | E11: 0 | F11: =IF(C11>0,C11+D11,D11) -> 1881.46 | G11: =IF(C11<0,0-C11+E11,E11) -> 0 | H11: =IF(F11-G11>0,F11-G11,0) -> 1881.46 | I11: =IF(G11-F11>0,G11-F11,0) -> 0
A12: 62100003 | B12: ALQ.LOCAL C/.ISLOTE FERMIN | C12: 330 | D12: 330 | E12: 0 | F12: =IF(C12>0,C12+D12,D12) -> 660 | G12: =IF(C12<0,0-C12+E12,E12) -> 0 | H12: =IF(F12-G12>0,F12-G12,0) -> 660 | I12: =IF(G12-F12>0,G12-F12,0) -> 0
A13: 62200000 | B13: REPARACIONES Y CONSERVACIÓN | C13: 3989.99 | D13: 5446.96 | E13: 0 | F13: =IF(C13>0,C13+D13,D13) -> 9436.95 | G13: =IF(C13<0,0-C13+E13,E13) -> 0 | H13: =IF(F13-G13>0,F13-G13,0) -> 9436.95 | I13: =IF(G13-F13>0,G13-F13,0) -> 0
A14: 62300000 | B14: SERVICIOS PROFESIONALES INDEP. | C14: 911.88 | D14: 761.88 | E14: 0 | F14: =IF(C14>0,C14+D14,D14) -> 1673.76 | G14: =IF(C14<0,0-C14+E14,E14) -> 0 | H14: =IF(F14-G14>0,F14-G14,0) -> 1673.76 | I14: =IF(G14-F14>0,G14-F14,0) -> 0
A15: 62500000 | B15: PRIMAS DE SEGUROS | C15: 321.28 | D15: 250.86 | E15: 0 | F15: =IF(C15>0,C15+D15,D15) -> 572.14 | G15: =IF(C15<0,0-C15+E15,E15) -> 0 | H15: =IF(F15-G15>0,F15-G15,0) -> 572.14 | I15: =IF(G15-F15>0,G15-F15,0) -> 0
A16: 62600002 | B16: SERV.BANCARIOS BANKIA | C16: -7.2 | D16: 489.1 | E16: 0 | F16: =IF(C16>0,C16+D16,D16) -> 489.1 | G16: =IF(C16<0,0-C16+E16,E16) -> 7.2 | H16: =IF(F16-G16>0,F16-G16,0) -> 481.9 | I16: =IF(G16-F16>0,G16-F16,0) -> 0
A17: 62600003 | B17: SERV.BANCARIOS C.SIETE | C17: 52.64 | D17: 44.22 | E17: 0 | F17: =IF(C17>0,C17+D17,D17) -> 96.86 | G17: =IF(C17<0,0-C17+E17,E17) -> 0 | H17: =IF(F17-G17>0,F17-G17,0) -> 96.86 | I17: =IF(G17-F17>0,G17-F17,0) -> 0
