Workbook

Sheet Sumar.Si.Conjunto
A1: Tienda | B1: Producto | C1: Vendidos | E1: Producto | F1: Camisas | I1: Zapatos
A2: Madrid | B2: Zapatos | C2: 5 | E2: Vendidos | F2: =SUMIFS(C2:C11,B2:B11,F1) -> 10 | I2: Bolsos
A3: Madrid | B3: Bolsos | C3: 10 | I3: Camisas
A4: Barcelona | B4: Zapatos | C4: 15
A5: Avila | B5: Zapatos | C5: 25
A6: Las palmas | B6: Camisas | C6: 5
A7: Jerez | B7: Bolsos | C7: 15
A8: Fuerteventura | B8: Zapatos | C8: 25
A9: Las palmas | B9: Zapatos | C9: 20
A10: Jerez | B10: Camisas | C10: 5
A11: Madrid | B11: Bolsos | C11: 10

Sheet Mapa de calor e iconos
B1: Enero | C1: Febrero | D1: Marzo | E1: Abril | F1: Mayo | G1: Junio
A2: Formacion Online | B2: 1000 | C2: 2500 | D2: 3500 | E2: 2500 | F2: 1200 | G2: 500
A3: Formacion Presencial | B3: 5000 | C3: 4500 | D3: 7000 | E3: 5000 | F3: 8000 | G3: 3500
A4: Consultoria | B4: 10000 | C4: 12000 | D4: 15000 | E4: 12500 | F4: 11000 | G4: 15500

Sheet Hoja Destino
A1: Nombre | B1: DNI | C1: Teléfono
A2: LOPEZ MARTIN, MARIO | B2: 48901193L
A3: Torres Moral, Alejandra | B3: 15375013L
A4: Huarte Alargunsoro, Luis | B4: 16552185M
A5: Mateos Mateos, Juana | B5: 48901193L
A6: Angel Garcia, Vega | B6: 10192712D
A7: PEREZ PEREZ, ENCARNA | B7: X7571441W

Sheet Hoja Origen
A1: Nombre | B1: DNI | C1: Teléfono
A2: GARCÍA MASA, SONIA | B2: 09329536T | C2: 667858932
A3: Stewart Balbás, Lorena | B3: 78978541Z | C3: 321325123
A4: LOPEZ MARTIN, MARIO | B4: 50465081E | C4: 658458456
A5: Angel Garcia, Vega | B5: 10192712D | C5: 697451951
A6: MARTINEZ LOPEZ, M FRANCISCA | B6: 16541721Y | C6: 125874753
A7: Moreno Calonge, Mª Mercedes | B7: 16572170A | C7: 125451753
A8: Gonzalez Quintana, Pedro | B8: 16575425S | C8: 321458123
A9: GOMEZ SORIANO, REMEDIOS | B9: 16585618L | C9: 658698456
A10: Martinez Diaz-Maroto, Susana | B10: 35774536Z | C10: 254451789
A11: LOPEZ MARTIN, MARIO | B11: 48901193L | C11: 697874951
A12: Torres Moral, Alejandra | B12: 15375013L | C12: 254325789
A13: Huarte Alargunsoro, Luis | B13: 16552185M | C13: 697458951
A14: Mateos Mateos, Juana | B14: 48901193L | C14: 125698753

Sheet COINCIDIR
A1: Oficina | B1: 2018 | C1: 2019 | D1: 2020
A2: Lugo | B2: 200000 | C2: 225000 | D2: 275000
A3: Madrid | B3: 500000 | C3: 350000 | D3: 375000
A4: Barcelona | B4: 600000 | C4: 690000 | D4: 650000
A5: Gran Canaria | B5: 300000 | C5: 380000 | D5: 850000
C7: Oficina | D7: Lugo
C8: Año | D8: 2019
C10: Ventas | D10: =VLOOKUP(D7,A2:D5,MATCH(D8,A1:D1,0),0) -> 225000

Sheet SumaProducto
B1: =IF(Acumulados!$B$1<B2,0,1) -> 1 | C1: =IF(Acumulados!$B$1<C2,0,1) -> 1 | D1: =IF(Acumulados!$B$1<D2,0,1) -> 1 | E1: =IF(Acumulados!$B$1<E2,0,1) -> 1 | F1: =IF(Acumulados!$B$1<F2,0,1) -> 1 | G1: =IF(Acumulados!$B$1<G2,0,1) -> 1 | H1: =IF(Acumulados!$B$1<H2,0,1) -> 1 | I1: =IF(Acumulados!$B$1<I2,0,1) -> 1 | ... M1: =IF(Acumulados!$B$1<M2,0,1) -> 0
A2: Cliente | B2: 44227 | C2: 44255 | D2: 44286 | E2: 44316 | F2: 44347 | G2: 44377 | H2: 44408 | I2: 44439 | J2: 44469 | K2: 44500 | L2: 44530 | M2: 44561 | N2: Total | P2: Acumulado
A3: Cliente 1 | B3: 1000 | C3: 5000 | D3: 549 | E3: 5464 | F3: 24555 | G3: 8877 | H3: 24543 | I3: 5456 | J3: 33544 | K3: 6654 | L3: 6500 | M3: 5454 | N3: =SUM(B3:M3) -> 127596 | P3: =SUMPRODUCT(B3:M3,$B$1:$M$1) -> 108988
A4: Cliente 2 | B4: 2000 | C4: 6500 | D4: 55432 | E4: 6654 | F4: 55432 | G4: 54544 | H4: 5456 | I4: 8876 | J4: 6654 | K4: 84665 | L4: 549 | M4: 6654 | N4: =SUM(B4:M4) -> 293416 | P4: =SUMPRODUCT(B4:M4,$B$1:$M$1) -> 201548
A5: Cliente 3 | B5: 35000 | C5: 549 | D5: 84665 | E5: 84665 | F5: 65354 | G5: 6654 | H5: 8876 | I5: 210 | J5: 84665 | K5: 6500 | L5: 55432 | M5: 84665 | N5: =SUM(B5:M5) -> 517235 | P5: =SUMPRODUCT(B5:M5,$B$1:$M$1) -> 370638
A6: Cliente 4 | B6: 6555 | C6: 55432 | D6: 5545 | E6: 35000 | F6: 549 | G6: 84665 | H6: 210 | I6: 35000 | J6: 5545 | K6: 549 | L6: 6654 | M6: 5456 | N6: =SUM(B6:M6) -> 241160 | P6: =SUMPRODUCT(B6:M6,$B$1:$M$1) -> 228501
A7: Cliente 5 | B7: 15587 | C7: 65354 | D7: 2487 | E7: 6555 | F7: 55432 | G7: 33546 | H7: 5454 | I7: 5456 | J7: 5456 | K7: 55432 | L7: 84665 | M7: 8876 | N7: =SUM(B7:M7) -> 344300 | P7: =SUMPRODUCT(B7:M7,$B$1:$M$1) -> 195327
A8: Cliente 6 | B8: 6654 | C8: 24543 | D8: 1000 | E8: 15587 | F8: 65354 | G8: 55432 | H8: 549 | I8: 8876 | J8: 8876 | K8: 35000 | L8: 5545 | M8: 210 | N8: =SUM(B8:M8) -> 227626 | P8: =SUMPRODUCT(B8:M8,$B$1:$M$1) -> 186871
A9: Cliente 7 | B9: 84665 | C9: 5456 | D9: 24543 | E9: 549 | F9: 8876 | G9: 6656 | H9: 55432 | I9: 210 | J9: 210 | K9: 6555 | L9: 6500 | M9: 24543 | N9: =SUM(B9:M9) -> 224195 | P9: =SUMPRODUCT(B9:M9,$B$1:$M$1) -> 186597
A10: Cliente 8 | B10: 5545 | C10: 8876 | D10: 5456 | E10: 55432 | F10: 210 | G10: 6654 | H10: 210 | I10: 35000 | J10: 84665 | K10: 549 | L10: 549 | M10: 5456 | N10: =SUM(B10:M10) -> 208602 | P10: =SUMPRODUCT(B10:M10,$B$1:$M$1) -> 202048
A11: Cliente 9 | B11: 2487 | C11: 210 | D11: 8876 | E11: 1580 | F11: 5456 | G11: 84665 | H11: 6555 | I11: 6555 | J11: 5545 | K11: 55432 | L11: 55432 | M11: 8876 | N11: =SUM(B11:M11) -> 241669 | P11: =SUMPRODUCT(B11:M11,$B$1:$M$1) -> 121929
A12: Cliente 10 | B12: 58989 | C12: 8887 | D12: 210 | E12: 25545 | F12: 8876 | G12: 5545 | H12: 15587 | I12: 15587 | J12: 2487 | K12: 54545 | L12: 54547 | M12: 210 | N12: =SUM(B12:M12) -> 251015 | P12: =SUMPRODUCT(B12:M12,$B$1:$M$1) -> 141713
A13: Total Ventas | B13: =SUM(B3:B12) -> 218482 | C13: =SUM(C3:C12) -> 180807 | D13: =SUM(D3:D12) -> 188763 | E13: =SUM(E3:E12) -> 237031 | F13: =SUM(F3:F12) -> 290094 | G13: =SUM(G3:G12) -> 347238 | H13: =SUM(H3:H12) -> 122872 | I13: =SUM(I3:I12) -> 121226 | ... M13: =SUM(M3:M12) -> 150400 | N13: =SUM(B13:M13) -> 2676814 | P13: =SUMPRODUCT(B13:M13,$B$1:$M$1) -> 1944160

Sheet Acumulados
A1: Mes | B1: 44469
B3: Mes | C3: Acumulado
A4: Total Ventas | B4: =VLOOKUP(A4,SumaProducto!A13:M13,MATCH(Acumulados!B1,SumaProducto!A2:M2,0),0) -> 237647 | C4: =SumaProducto!P13 -> 1944160

Sheet Aleatorio.entre
A1: Miguel Antúnez | C1: Nombre Ganador
A2: Francisco Alvarado | C2: {=INDEX(A1:A17,RANDBETWEEN(1,17))} -> Jose Remoto
A3: Lucía Álvarez
A4: Felicia Do Santos
A5: Guillermo Rios
A6: Angel Martín
A7: Francisco Alegre
A8: Peter Parker
A9: María García
A10: Sergio Illescas
A11: Lucas Oangel
A12: Martín Lopez
A13: Fernando García
A14: Manuel González
... A17: David Montoro
