Workbook

Sheet Análisis Datos
F5: =CONCATENATE("Ventas totales ",G9) -> Ventas totales Enero | O5: =CONCATENATE("Ventas acumuladas ") -> Ventas acumuladas
J7: Mes | K7: Enero
G9: =K7 -> Enero | H9: Acum | J9: =CONCATENATE(G9," ","19") -> Enero 19 | K9: % | L9: Acum 19 | M9: % | O9: =CONCATENATE(G9," ","BG") -> Enero BG | P9: % | Q9: Acum BG | R9: %
F10: Ingresos | G10: =VLOOKUP($F$10,'Cta Resultados'!P3:AB3,MATCH('Análisis Datos'!$G$9,'Cta Resultados'!P2:AB2,0),0) -> 24328.87 | H10: =SUMPRODUCT('Cta Resultados'!$Q$1:$AB$1,'Cta Resultados'!Q3:AB3) -> 24328.87 | J10: =VLOOKUP($F$10,'Cta Resultados'!A3:N3,MATCH('Análisis Datos'!$G$9,'Cta Resultados'!A2:N2,0),0) -> 3982.35 | K10: =G10/J10-1 -> 5.1091742 | L10: =SUMPRODUCT('Cta Resultados'!$Q$1:$AB$1,'Cta Resultados'!B3:M3) -> 3982.35 | M10: =H10/L10-1 -> 5.1091742 | O10: =VLOOKUP($F$10,'Cta Resultados'!AE3:AR3,MATCH('Análisis Datos'!$G$9,'Cta Resultados'!AE2:AR2,0),0) -> 3982.35 | P10: =IFERROR(H10/O10-1,"") -> 5.1091742 | Q10: =SUMPRODUCT('Cta Resultados'!$Q$1:$AB$1,'Cta Resultados'!AF3:AQ3) -> 3982.35 | R10: =IFERROR(J10/Q10-1,"") -> 0
F12: Compras | G12: =VLOOKUP($F$12,'Cta Resultados'!P5:AB5,MATCH('Análisis Datos'!$G$9,'Cta Resultados'!P2:AB2,0),0) -> 206.94 | H12: =SUMPRODUCT('Cta Resultados'!$Q$1:$AB$1,'Cta Resultados'!Q5:AB5) -> 206.94 | J12: =VLOOKUP($F$12,'Cta Resultados'!A5:N5,MATCH('Análisis Datos'!$G$9,'Cta Resultados'!A2:N2,0),0) -> 0 | K12: =G12/J12-1 -> #DIV/0! | L12: =SUMPRODUCT('Cta Resultados'!$Q$1:$AB$1,'Cta Resultados'!B5:M5) -> 0 | M12: =H12/L12-1 -> #DIV/0! | O12: =VLOOKUP($F$12,'Cta Resultados'!AE5:AR5,MATCH('Análisis Datos'!$G$9,'Cta Resultados'!AE2:AR2,0),0) -> 0 | P12: =L12/O12-1 -> #DIV/0! | Q12: =SUMPRODUCT('Cta Resultados'!$Q$1:$AB$1,'Cta Resultados'!AF5:AQ5) -> 0 | R12: =N12/Q12-1 -> #DIV/0!
F14: Salarios | G14: =VLOOKUP($F$14,'Cta Resultados'!P7:AB7,MATCH('Análisis Datos'!$G$9,'Cta Resultados'!P2:AB2,0),0) -> 0 | H14: =SUMPRODUCT('Cta Resultados'!$Q$1:$AB$1,'Cta Resultados'!Q7:AB7) -> 0 | J14: =VLOOKUP($F$14,'Cta Resultados'!A7:N7,MATCH('Análisis Datos'!$G$9,'Cta Resultados'!A2:N2,0),0) -> 1054.18 | K14: =G14/J14-1 -> -1 | L14: =SUMPRODUCT('Cta Resultados'!$Q$1:$AB$1,'Cta Resultados'!B7:M7) -> 1054.18 | M14: =H14/L14-1 -> -1 | O14: =VLOOKUP($F$14,'Cta Resultados'!AE7:AR7,MATCH('Análisis Datos'!$G$9,'Cta Resultados'!AE2:AR2,0),0) -> 0 | P14: =L14/O14-1 -> #DIV/0! | Q14: =SUMPRODUCT('Cta Resultados'!$Q$1:$AB$1,'Cta Resultados'!AF7:AQ7) -> 0 | R14: =N14/Q14-1 -> #DIV/0!
F16: Gastos Indirectos | G16: =VLOOKUP($F$16,'Cta Resultados'!P12:AB12,MATCH('Análisis Datos'!$G$9,'Cta Resultados'!P2:AB2,0),0) -> 1523.68 | H16: =SUMPRODUCT('Cta Resultados'!Q12:AB12,'Cta Resultados'!$Q$1:$AB$1) -> 1523.68 | J16: =VLOOKUP($F$16,'Cta Resultados'!A12:N12,MATCH('Análisis Datos'!$G$9,'Cta Resultados'!A2:N2,0),0) -> 890.1 | K16: =G16/J16-1 -> 0.71180766 | L16: =SUMPRODUCT('Cta Resultados'!B12:M12,'Cta Resultados'!$Q$1:$AB$1) -> 890.1 | M16: =H16/L16-1 -> 0.71180766 | O16: =VLOOKUP($F$16,'Cta Resultados'!AE12:AR12,MATCH('Análisis Datos'!$G$9,'Cta Resultados'!AE2:AR2,0),0) -> 0 | P16: =L16/O16-1 -> #DIV/0! | Q16: =SUMPRODUCT('Cta Resultados'!AF12:AQ12,'Cta Resultados'!$Q$1:$AB$1) -> 0 | R16: =N16/Q16-1 -> #DIV/0!
F18: Resultado | G18: =VLOOKUP("Resultado Neto antes de I.S.",'Cta Resultados'!P30:AB30,MATCH('Análisis Datos'!$G$9,'Cta Resultados'!P2:AB2,0),0) -> 22598.25 | H18: =SUMPRODUCT('Cta Resultados'!Q30:AB30,'Cta Resultados'!$Q$1:$AB$1) -> 22598.25 | J18: =VLOOKUP("Resultado Neto antes de I.S.",'Cta Resultados'!A30:N30,MATCH('Análisis Datos'!$G$9,'Cta Resultados'!A2:N2,0),0) -> 2038.07 | K18: =G18/J18-1 -> 10.088064 | L18: =SUMPRODUCT('Cta Resultados'!B30:M30,'Cta Resultados'!$Q$1:$AB$1) -> 2038.07 | M18: =H18/L18-1 -> 10.088064 | O18: =VLOOKUP("Resultado Neto antes de I.S.",'Cta Resultados'!AE30:AR30,MATCH('Análisis Datos'!$G$9,'Cta Resultados'!AE2:AR2,0),0) -> 3982.35 | P18: =IFERROR(H18/O18-1,"") -> 4.6746017 | Q18: =SUMPRODUCT('Cta Resultados'!AF30:AQ30,'Cta Resultados'!$Q$1:$AB$1) -> 3982.35 | R18: =IFERROR(J18/Q18-1,"") -> -0.48822429

Sheet Cta Resultados
Q1: =IF('Análisis Datos'!$G$9="Enero",1,IF('Análisis Datos'!$G$9="Febrero",1,IF('Análisis Datos'!$G$9="Marzo",1,IF('Análisis Datos'!$G$9="Abril",1,IF('Análisis Datos'!$G$9="Mayo",1,IF('Análisis Datos'!$G$9="Junio",1,IF('Análisis Datos'!$G$9="Julio",1,IF('Análisis Datos'!$G$9="Agosto",1,IF('Análisis Datos'!$G$9="Septiembre",1,IF('Análisis Datos'!$G$9="Octubre",1,IF('Análisis Datos'!$G$9="Noviembre",1,IF('Análisis Datos'!$G$9="Diciembre",1,0)))))))))))) -> 1 | R1: =IF('Análisis Datos'!$G$9="Febrero",1,IF('Análisis Datos'!$G$9="Marzo",1,IF('Análisis Datos'!$G$9="Abril",1,IF('Análisis Datos'!$G$9="Mayo",1,IF('Análisis Datos'!$G$9="Junio",1,IF('Análisis Datos'!$G$9="Julio",1,IF('Análisis Datos'!$G$9="Agosto",1,IF('Análisis Datos'!$G$9="Septiembre",1,IF('Análisis Datos'!$G$9="Octubre",1,IF('Análisis Datos'!$G$9="Noviembre",1,IF('Análisis Datos'!$G$9="Diciembre",1,0))))))))))) -> 0 | S1: =IF('Análisis Datos'!$G$9="Marzo",1,IF('Análisis Datos'!$G$9="Abril",1,IF('Análisis Datos'!$G$9="Mayo",1,IF('Análisis Datos'!$G$9="Junio",1,IF('Análisis Datos'!$G$9="Julio",1,IF('Análisis Datos'!$G$9="Agosto",1,IF('Análisis Datos'!$G$9="Septiembre",1,IF('Análisis Datos'!$G$9="Octubre",1,IF('Análisis Datos'!$G$9="Noviembre",1,IF('Análisis Datos'!$G$9="Diciembre",1,0)))))))))) -> 0 | T1: =IF('Análisis Datos'!$G$9="Abril",1,IF('Análisis Datos'!$G$9="Mayo",1,IF('Análisis Datos'!$G$9="Junio",1,IF('Análisis Datos'!$G$9="Julio",1,IF('Análisis Datos'!$G$9="Agosto",1,IF('Análisis Datos'!$G$9="Septiembre",1,IF('Análisis Datos'!$G$9="Octubre",1,IF('Análisis Datos'!$G$9="Noviembre",1,IF('Análisis Datos'!$G$9="Diciembre",1,0))))))))) -> 0 | U1: =IF('Análisis Datos'!$G$9="Mayo",1,IF('Análisis Datos'!$G$9="Junio",1,IF('Análisis Datos'!$G$9="Julio",1,IF('Análisis Datos'!$G$9="Agosto",1,IF('Análisis Datos'!$G$9="Septiembre",1,IF('Análisis Datos'!$G$9="Octubre",1,IF('Análisis Datos'!$G$9="Noviembre",1,IF('Análisis Datos'!$G$9="Diciembre",1,0)))))))) -> 0 | V1: =IF('Análisis Datos'!$G$9="Junio",1,IF('Análisis Datos'!$G$9="Julio",1,IF('Análisis Datos'!$G$9="Agosto",1,IF('Análisis Datos'!$G$9="Septiembre",1,IF('Análisis Datos'!$G$9="Octubre",1,IF('Análisis Datos'!$G$9="Noviembre",1,IF('Análisis Datos'!$G$9="Diciembre",1,0))))))) -> 0 | W1: =IF('Análisis Datos'!$G$9="Julio",1,IF('Análisis Datos'!$G$9="Agosto",1,IF('Análisis Datos'!$G$9="Septiembre",1,IF('Análisis Datos'!$G$9="Octubre",1,IF('Análisis Datos'!$G$9="Noviembre",1,IF('Análisis Datos'!$G$9="Diciembre",1,0)))))) -> 0 | X1: =IF('Análisis Datos'!$G$9="Agosto",1,IF('Análisis Datos'!$G$9="Septiembre",1,IF('Análisis Datos'!$G$9="Octubre",1,IF('Análisis Datos'!$G$9="Noviembre",1,IF('Análisis Datos'!$G$9="Diciembre",1,0))))) -> 0 | Y1: =IF('Análisis Datos'!$G$9="Septiembre",1,IF('Análisis Datos'!$G$9="Octubre",1,IF('Análisis Datos'!$G$9="Noviembre",1,IF('Análisis Datos'!$G$9="Diciembre",1,0)))) -> 0 | Z1: =IF('Análisis Datos'!$G$9="Octubre",1,IF('Análisis Datos'!$G$9="Noviembre",1,IF('Análisis Datos'!$G$9="Diciembre",1,0))) -> 0 | AA1: =IF('Análisis Datos'!$G$9="Noviembre",1,IF('Análisis Datos'!$G$9="Diciembre",1,0)) -> 0 | AB1: =IF('Análisis Datos'!$G$9="Noviembre",1,IF('Análisis Datos'!$G$9="Diciembre",1,0)) -> 0 | AT1: Ingresos
A2: 2019 | B2: Enero | C2: Febrero | D2: Marzo | E2: Abril | F2: Mayo | G2: Junio | H2: Julio | I2: Agosto | J2: Septiembre | K2: Octubre | L2: Noviembre | M2: Diciembre | N2: Total | P2: 2020 | Q2: Enero | R2: Febrero | S2: Marzo | T2: Abril | U2: Mayo | V2: Junio | W2: Julio | X2: Agosto | Y2: Septiembre | Z2: Octubre | AA2: Noviembre | AB2: Diciembre | AC2: Total | AE2: 2020 Budget | AF2: Enero | AG2: Febrero | AH2: Marzo | AI2: Abril | AJ2: Mayo | AK2: Junio | AL2: Julio | AM2: Agosto | AN2: Septiembre | AO2: Octubre | AP2: Noviembre | AQ2: Diciembre | AR2: Total | AT2: Inferior | AU2: Superior
A3: Ingresos | B3: =SUMIFS('Facturas 2019'!$F:$F,'Facturas 2019'!$H:$H,'Cta Resultados'!B2) -> 3982.35 | C3: =SUMIFS('Facturas 2019'!$F:$F,'Facturas 2019'!$H:$H,'Cta Resultados'!C2) -> 3703.22 | D3: =SUMIFS('Facturas 2019'!$F:$F,'Facturas 2019'!$H:$H,'Cta Resultados'!D2) -> 3233.9 | E3: =SUMIFS('Facturas 2019'!$F:$F,'Facturas 2019'!$H:$H,'Cta Resultados'!E2) -> 4073.92 | F3: =SUMIFS('Facturas 2019'!$F:$F,'Facturas 2019'!$H:$H,'Cta Resultados'!F2) -> 3482.79 | G3: =SUMIFS('Facturas 2019'!$F:$F,'Facturas 2019'!$H:$H,'Cta Resultados'!G2) -> 7434.74 | H3: =SUMIFS('Facturas 2019'!$F:$F,'Facturas 2019'!$H:$H,'Cta Resultados'!H2) -> 4898.8 | I3: =SUMIFS('Facturas 2019'!$F:$F,'Facturas 2019'!$H:$H,'Cta Resultados'!I2) -> 2982.6 | ... M3: =SUMIFS('Facturas 2019'!$F:$F,'Facturas 2019'!$H:$H,'Cta Resultados'!M2) -> 0 | N3: =SUM(B3:M3) -> 46181.57 | P3: Ingresos | Q3: =SUMIFS('Facturas 2020'!$F:$F,'Facturas 2020'!$H:$H,'Cta Resultados'!Q2) -> 24328.87 | R3: =SUMIFS('Facturas 2020'!$F:$F,'Facturas 2020'!$H:$H,'Cta Resultados'!R2) -> 4492.82 | S3: =SUMIFS('Facturas 2020'!$F:$F,'Facturas 2020'!$H:$H,'Cta Resultados'!S2) -> 0 | T3: =SUMIFS('Facturas 2020'!$F:$F,'Facturas 2020'!$H:$H,'Cta Resultados'!T2) -> 0 | U3: =SUMIFS('Facturas 2020'!$F:$F,'Facturas 2020'!$H:$H,'Cta Resultados'!U2) -> 0 | V3: =SUMIFS('Facturas 2020'!$F:$F,'Facturas 2020'!$H:$H,'Cta Resultados'!V2) -> 0 | W3: =SUMIFS('Facturas 2020'!$F:$F,'Facturas 2020'!$H:$H,'Cta Resultados'!W2) -> 0 | X3: =SUMIFS('Facturas 2020'!$F:$F,'Facturas 2020'!$H:$H,'Cta Resultados'!X2) -> 0 | ... AB3: =SUMIFS('Facturas 2020'!$F:$F,'Facturas 2020'!$H:$H,'Cta Resultados'!AB2) -> 0 | AC3: =SUM(Q3:AB3) -> 28821.69 | AE3: Ingresos | AF3: =((RANDBETWEEN($AT$3,$AU$3)*B3)/100)+B3 -> 3982.35 | AG3: =((RANDBETWEEN($AT$3,$AU$3)*C3)/100)+C3 -> 3888.381 | AH3: =((RANDBETWEEN($AT$3,$AU$3)*D3)/100)+D3 -> 3363.256 | AI3: =((RANDBETWEEN($AT$3,$AU$3)*E3)/100)+E3 -> 4481.312 | AJ3: =((RANDBETWEEN($AT$3,$AU$3)*F3)/100)+F3 -> 3726.5853 | AK3: =((RANDBETWEEN($AT$3,$AU$3)*G3)/100)+G3 -> 7955.1718 | AL3: =((RANDBETWEEN($AT$3,$AU$3)*H3)/100)+H3 -> 4898.8 | AM3: =((RANDBETWEEN($AT$3,$AU$3)*I3)/100)+I3 -> 3221.208 | ... AQ3: =((RANDBETWEEN($AT$3,$AU$3)*M3)/100)+M3 -> 0 | AR3: =SUM(AF3:AQ3) -> 48335.546 | AT3: 0 | AU3: 10
A5: Compras | B5: =SUMIFS('Gastos 2019'!$D:$D,'Gastos 2019'!$F:$F,'Cta Resultados'!B2,'Gastos 2019'!$G:$G,'Cta Resultados'!$A$5) -> 0 | C5: =SUMIFS('Gastos 2019'!$D:$D,'Gastos 2019'!$F:$F,'Cta Resultados'!C2,'Gastos 2019'!$G:$G,'Cta Resultados'!$A$5) -> 0 | D5: =SUMIFS('Gastos 2019'!$D:$D,'Gastos 2019'!$F:$F,'Cta Resultados'!D2,'Gastos 2019'!$G:$G,'Cta Resultados'!$A$5) -> 0 | E5: =SUMIFS('Gastos 2019'!$D:$D,'Gastos 2019'!$F:$F,'Cta Resultados'!E2,'Gastos 2019'!$G:$G,'Cta Resultados'!$A$5) -> 0 | F5: =SUMIFS('Gastos 2019'!$D:$D,'Gastos 2019'!$F:$F,'Cta Resultados'!F2,'Gastos 2019'!$G:$G,'Cta Resultados'!$A$5) -> 0 | G5: =SUMIFS('Gastos 2019'!$D:$D,'Gastos 2019'!$F:$F,'Cta Resultados'!G2,'Gastos 2019'!$G:$G,'Cta Resultados'!$A$5) -> 0 | H5: =SUMIFS('Gastos 2019'!$D:$D,'Gastos 2019'!$F:$F,'Cta Resultados'!H2,'Gastos 2019'!$G:$G,'Cta Resultados'!$A$5) -> 0 | I5: =SUMIFS('Gastos 2019'!$D:$D,'Gastos 2019'!$F:$F,'Cta Resultados'!I2,'Gastos 2019'!$G:$G,'Cta Resultados'!$A$5) -> 0 | ... M5: =SUMIFS('Gastos 2019'!$D:$D,'Gastos 2019'!$F:$F,'Cta Resultados'!M2,'Gastos 2019'!$G:$G,'Cta Resultados'!$A$5) -> 0 | N5: =SUM(B5:M5) -> 206.94 | P5: Compras | Q5: =SUMIFS('Gastos 2020'!$D:$D,'Gastos 2020'!$F:$F,'Cta Resultados'!Q2,'Gastos 2020'!$G:$G,'Cta Resultados'!$A$5) -> 206.94 | R5: =SUMIFS('Gastos 2020'!$D:$D,'Gastos 2020'!$F:$F,'Cta Resultados'!R2,'Gastos 2020'!$G:$G,'Cta Resultados'!$A$5) -> 0 | S5: =SUMIFS('Gastos 2020'!$D:$D,'Gastos 2020'!$F:$F,'Cta Resultados'!S2,'Gastos 2020'!$G:$G,'Cta Resultados'!$A$5) -> 0 | T5: =SUMIFS('Gastos 2020'!$D:$D,'Gastos 2020'!$F:$F,'Cta Resultados'!T2,'Gastos 2020'!$G:$G,'Cta Resultados'!$A$5) -> 0 | U5: =SUMIFS('Gastos 2020'!$D:$D,'Gastos 2020'!$F:$F,'Cta Resultados'!U2,'Gastos 2020'!$G:$G,'Cta Resultados'!$A$5) -> 0 | V5: =SUMIFS('Gastos 2020'!$D:$D,'Gastos 2020'!$F:$F,'Cta Resultados'!V2,'Gastos 2020'!$G:$G,'Cta Resultados'!$A$5) -> 0 | W5: =SUMIFS('Gastos 2020'!$D:$D,'Gastos 2020'!$F:$F,'Cta Resultados'!W2,'Gastos 2020'!$G:$G,'Cta Resultados'!$A$5) -> 0 | X5: =SUMIFS('Gastos 2020'!$D:$D,'Gastos 2020'!$F:$F,'Cta Resultados'!X2,'Gastos 2020'!$G:$G,'Cta Resultados'!$A$5) -> 0 | ... AB5: =SUMIFS('Gastos 2020'!$D:$D,'Gastos 2020'!$F:$F,'Cta Resultados'!AB2,'Gastos 2020'!$G:$G,'Cta Resultados'!$A$5) -> 0 | AC5: =SUM(Q5:AB5) -> 206.94 | AE5: Compras | AR5: =SUM(AF5:AQ5) -> 0 | AT5: Gastos
A6: Margen Bruto | B6: =B5/B3 -> 0 | C6: =C5/C3 -> 0 | D6: =D5/D3 -> 0 | E6: =E5/E3 -> 0 | F6: =F5/F3 -> 0 | G6: =G5/G3 -> 0 | H6: =H5/H3 -> 0 | I6: =I5/I3 -> 0 | ... N6: =N5/N3 -> 0.0044810083 | P6: Margen bruto | Q6: =Q5/Q3 -> 0.0085059438 | R6: =R5/R3 -> 0 | S6: =S5/S3 -> #DIV/0! | T6: =T5/T3 -> #DIV/0! | U6: =U5/U3 -> #DIV/0! | V6: =V5/V3 -> #DIV/0! | W6: =W5/W3 -> #DIV/0! | X6: =X5/X3 -> #DIV/0! | ... AB6: =AB5/AB3 -> #DIV/0! | AT6: Inferior | AU6: Superior
A7: Salarios | B7: =SUM(B8:B9) -> 1054.18 | C7: =SUM(C8:C9) -> 1054.18 | D7: =SUM(D8:D9) -> 1054.18 | E7: =SUM(E8:E9) -> 1886.07 | F7: =SUM(F8:F9) -> 1054.18 | G7: =SUM(G8:G9) -> 1054.18 | H7: =SUM(H8:H9) -> 2108.36 | I7: =SUM(I8:I9) -> 1054 | ... M7: =SUM(M8:M9) -> 0 | N7: =SUM(B7:M7) -> 16102.65 | P7: =A7 -> Salarios | Q7: =SUM(Q8:Q9) -> 0 | R7: =SUM(R8:R9) -> 0 | S7: =SUM(S8:S9) -> 0 | T7: =SUM(T8:T9) -> 0 | U7: =SUM(U8:U9) -> 0 | V7: =SUM(V8:V9) -> 0 | W7: =SUM(W8:W9) -> 0 | X7: =SUM(X8:X9) -> 0 | ... AB7: =SUM(AB8:AB9) -> 0 | AC7: =SUM(Q7:AB7) -> 0 | AE7: =P7 -> Salarios | AR7: =SUM(AF7:AQ7) -> 0 | AT7: 3 | AU7: 5
A8: Sueldo CEO | B8: =SUMIFS('Gastos 2019'!$D:$D,'Gastos 2019'!$F:$F,'Cta Resultados'!B2,'Gastos 2019'!$G:$G,'Cta Resultados'!$A$8) -> 1054.18 | C8: =SUMIFS('Gastos 2019'!$D:$D,'Gastos 2019'!$F:$F,'Cta Resultados'!C2,'Gastos 2019'!$G:$G,'Cta Resultados'!$A$8) -> 1054.18 | D8: =SUMIFS('Gastos 2019'!$D:$D,'Gastos 2019'!$F:$F,'Cta Resultados'!D2,'Gastos 2019'!$G:$G,'Cta Resultados'!$A$8) -> 1054.18 | E8: =SUMIFS('Gastos 2019'!$D:$D,'Gastos 2019'!$F:$F,'Cta Resultados'!E2,'Gastos 2019'!$G:$G,'Cta Resultados'!$A$8) -> 1886.07 | F8: =SUMIFS('Gastos 2019'!$D:$D,'Gastos 2019'!$F:$F,'Cta Resultados'!F2,'Gastos 2019'!$G:$G,'Cta Resultados'!$A$8) -> 1054.18 | G8: =SUMIFS('Gastos 2019'!$D:$D,'Gastos 2019'!$F:$F,'Cta Resultados'!G2,'Gastos 2019'!$G:$G,'Cta Resultados'!$A$8) -> 1054.18 | H8: =SUMIFS('Gastos 2019'!$D:$D,'Gastos 2019'!$F:$F,'Cta Resultados'!H2,'Gastos 2019'!$G:$G,'Cta Resultados'!$A$8) -> 2108.36 | I8: =SUMIFS('Gastos 2019'!$D:$D,'Gastos 2019'!$F:$F,'Cta Resultados'!I2,'Gastos 2019'!$G:$G,'Cta Resultados'!$A$8) -> 1054 | ... M8: =SUMIFS('Gastos 2019'!$D:$D,'Gastos 2019'!$F:$F,'Cta Resultados'!M2,'Gastos 2019'!$G:$G,'Cta Resultados'!$A$8) -> 0 | N8: =SUM(B8:M8) -> 16102.65 | P8: =A8 -> Sueldo CEO | Q8: =SUMIFS('Gastos 2020'!$D:$D,'Gastos 2020'!$F:$F,'Cta Resultados'!Q2,'Gastos 2020'!$G:$G,'Cta Resultados'!$A$8) -> 0 | R8: =SUMIFS('Gastos 2020'!$D:$D,'Gastos 2020'!$F:$F,'Cta Resultados'!R2,'Gastos 2020'!$G:$G,'Cta Resultados'!$A$8) -> 0 | S8: =SUMIFS('Gastos 2020'!$D:$D,'Gastos 2020'!$F:$F,'Cta Resultados'!S2,'Gastos 2020'!$G:$G,'Cta Resultados'!$A$8) -> 0 | T8: =SUMIFS('Gastos 2020'!$D:$D,'Gastos 2020'!$F:$F,'Cta Resultados'!T2,'Gastos 2020'!$G:$G,'Cta Resultados'!$A$8) -> 0 | U8: =SUMIFS('Gastos 2020'!$D:$D,'Gastos 2020'!$F:$F,'Cta Resultados'!U2,'Gastos 2020'!$G:$G,'Cta Resultados'!$A$8) -> 0 | V8: =SUMIFS('Gastos 2020'!$D:$D,'Gastos 2020'!$F:$F,'Cta Resultados'!V2,'Gastos 2020'!$G:$G,'Cta Resultados'!$A$8) -> 0 | W8: =SUMIFS('Gastos 2020'!$D:$D,'Gastos 2020'!$F:$F,'Cta Resultados'!W2,'Gastos 2020'!$G:$G,'Cta Resultados'!$A$8) -> 0 | X8: =SUMIFS('Gastos 2020'!$D:$D,'Gastos 2020'!$F:$F,'Cta Resultados'!X2,'Gastos 2020'!$G:$G,'Cta Resultados'!$A$8) -> 0 | ... AB8: =SUMIFS('Gastos 2020'!$D:$D,'Gastos 2020'!$F:$F,'Cta Resultados'!AB2,'Gastos 2020'!$G:$G,'Cta Resultados'!$A$8) -> 0 | AC8: =SUM(Q8:AB8) -> 0 | AE8: =P8 -> Sueldo CEO | AR8: =SUM(AF8:AQ8) -> 0
A9: Coste de Personal | B9: =SUMIFS('Gastos 2019'!$D:$D,'Gastos 2019'!$F:$F,'Cta Resultados'!B2,'Gastos 2019'!$G:$G,'Cta Resultados'!$A$9) -> 0 | C9: =SUMIFS('Gastos 2019'!$D:$D,'Gastos 2019'!$F:$F,'Cta Resultados'!C2,'Gastos 2019'!$G:$G,'Cta Resultados'!$A$9) -> 0 | D9: =SUMIFS('Gastos 2019'!$D:$D,'Gastos 2019'!$F:$F,'Cta Resultados'!D2,'Gastos 2019'!$G:$G,'Cta Resultados'!$A$9) -> 0 | E9: =SUMIFS('Gastos 2019'!$D:$D,'Gastos 2019'!$F:$F,'Cta Resultados'!E2,'Gastos 2019'!$G:$G,'Cta Resultados'!$A$9) -> 0 | F9: =SUMIFS('Gastos 2019'!$D:$D,'Gastos 2019'!$F:$F,'Cta Resultados'!F2,'Gastos 2019'!$G:$G,'Cta Resultados'!$A$9) -> 0 | G9: =SUMIFS('Gastos 2019'!$D:$D,'Gastos 2019'!$F:$F,'Cta Resultados'!G2,'Gastos 2019'!$G:$G,'Cta Resultados'!$A$9) -> 0 | H9: =SUMIFS('Gastos 2019'!$D:$D,'Gastos 2019'!$F:$F,'Cta Resultados'!H2,'Gastos 2019'!$G:$G,'Cta Resultados'!$A$9) -> 0 | I9: =SUMIFS('Gastos 2019'!$D:$D,'Gastos 2019'!$F:$F,'Cta Resultados'!I2,'Gastos 2019'!$G:$G,'Cta Resultados'!$A$9) -> 0 | ... M9: =SUMIFS('Gastos 2019'!$D:$D,'Gastos 2019'!$F:$F,'Cta Resultados'!M2,'Gastos 2019'!$G:$G,'Cta Resultados'!$A$9) -> 0 | N9: =SUM(B9:M9) -> 0 | P9: =A9 -> Coste de Personal | Q9: =SUMIFS('Gastos 2020'!$D:$D,'Gastos 2020'!$F:$F,'Cta Resultados'!Q2,'Gastos 2020'!$G:$G,'Cta Resultados'!$A$9) -> 0 | R9: =SUMIFS('Gastos 2020'!$D:$D,'Gastos 2020'!$F:$F,'Cta Resultados'!R2,'Gastos 2020'!$G:$G,'Cta Resultados'!$A$9) -> 0 | S9: =SUMIFS('Gastos 2020'!$D:$D,'Gastos 2020'!$F:$F,'Cta Resultados'!S2,'Gastos 2020'!$G:$G,'Cta Resultados'!$A$9) -> 0 | T9: =SUMIFS('Gastos 2020'!$D:$D,'Gastos 2020'!$F:$F,'Cta Resultados'!T2,'Gastos 2020'!$G:$G,'Cta Resultados'!$A$9) -> 0 | U9: =SUMIFS('Gastos 2020'!$D:$D,'Gastos 2020'!$F:$F,'Cta Resultados'!U2,'Gastos 2020'!$G:$G,'Cta Resultados'!$A$9) -> 0 | V9: =SUMIFS('Gastos 2020'!$D:$D,'Gastos 2020'!$F:$F,'Cta Resultados'!V2,'Gastos 2020'!$G:$G,'Cta Resultados'!$A$9) -> 0 | W9: =SUMIFS('Gastos 2020'!$D:$D,'Gastos 2020'!$F:$F,'Cta Resultados'!W2,'Gastos 2020'!$G:$G,'Cta Resultados'!$A$9) -> 0 | X9: =SUMIFS('Gastos 2020'!$D:$D,'Gastos 2020'!$F:$F,'Cta Resultados'!X2,'Gastos 2020'!$G:$G,'Cta Resultados'!$A$9) -> 0 | ... AB9: =SUMIFS('Gastos 2020'!$D:$D,'Gastos 2020'!$F:$F,'Cta Resultados'!AB2,'Gastos 2020'!$G:$G,'Cta Resultados'!$A$9) -> 0 | AC9: =SUM(Q9:AB9) -> 0 | AE9: =P9 -> Coste de Personal | AR9: =SUM(AF9:AQ9) -> 0
A10: Ratio Personal | B10: =B7/B3 -> 0.26471305 | C10: =C7/C3 -> 0.28466578 | D10: =D7/D3 -> 0.32597792 | E10: =E7/E3 -> 0.46296196 | F10: =F7/F3 -> 0.30268262 | G10: =G7/G3 -> 0.14179111 | H10: =H7/H3 -> 0.43038295 | I10: =I7/I3 -> 0.35338295 | ... N10: =N7/N3 -> 0.3486813 | P10: Ratio Personal | Q10: =Q7/Q3 -> 0 | R10: =R7/R3 -> 0 | S10: =S7/S3 -> #DIV/0! | T10: =T7/T3 -> #DIV/0! | U10: =U7/U3 -> #DIV/0! | V10: =V7/V3 -> #DIV/0! | W10: =W7/W3 -> #DIV/0! | X10: =X7/X3 -> #DIV/0! | ... AC10: =AC7/AC3 -> 0 | AE10: Ratio Personal | AF10: =AF7/AF3 -> 0 | AG10: =AG7/AG3 -> 0 | AH10: =AH7/AH3 -> 0 | AI10: =AI7/AI3 -> 0 | AJ10: =AJ7/AJ3 -> 0 | AK10: =AK7/AK3 -> 0 | AL10: =AL7/AL3 -> 0 | AM10: =AM7/AM3 -> 0 | ... AR10: =AR7/AR3 -> 0
A12: Gastos Indirectos | B12: =SUM(B13:B19) -> 890.1 | C12: =SUM(C13:C19) -> 1192.16 | D12: =SUM(D13:D19) -> 849.65 | E12: =SUM(E13:E19) -> 1036.16 | F12: =SUM(F13:F19) -> 1341.48 | G12: =SUM(G13:G19) -> 1345.45 | H12: =SUM(H13:H19) -> 1577.84 | I12: =SUM(I13:I19) -> 1575.28 | ... M12: =SUM(M13:M19) -> 0 | N12: =SUM(B12:M12) -> 14197.66 | P12: Gastos Indirectos | Q12: =SUM(Q13:Q19) -> 1523.68 | R12: =SUM(R13:R19) -> 3118.2 | S12: =SUM(S13:S19) -> 0 | T12: =SUM(T13:T19) -> 0 | U12: =SUM(U13:U19) -> 0 | V12: =SUM(V13:V19) -> 0 | W12: =SUM(W13:W19) -> 0 | X12: =SUM(X13:X19) -> 0 | ... AB12: =SUM(AB13:AB19) -> 0 | AC12: =SUM(Q12:AB12) -> 4641.88 | AE12: Gastos Indirectos | AF12: =SUM(AF13:AF19) -> 0 | AG12: =SUM(AG13:AG19) -> 0 | AH12: =SUM(AH13:AH19) -> 0 | AI12: =SUM(AI13:AI19) -> 0 | AJ12: =SUM(AJ13:AJ19) -> 0 | AK12: =SUM(AK13:AK19) -> 0 | AL12: =SUM(AL13:AL19) -> 0 | AM12: =SUM(AM13:AM19) -> 0 | ... AQ12: =SUM(AQ13:AQ19) -> 0 | AR12: =SUM(AF12:AQ12) -> 0
A13: =P13 -> Formación | B13: =SUMIFS('Gastos 2019'!$D:$D,'Gastos 2019'!$F:$F,'Cta Resultados'!B2,'Gastos 2019'!$G:$G,'Cta Resultados'!$A$13) -> 185.19 | C13: =SUMIFS('Gastos 2019'!$D:$D,'Gastos 2019'!$F:$F,'Cta Resultados'!C2,'Gastos 2019'!$G:$G,'Cta Resultados'!$A$13) -> 50 | D13: =SUMIFS('Gastos 2019'!$D:$D,'Gastos 2019'!$F:$F,'Cta Resultados'!D2,'Gastos 2019'!$G:$G,'Cta Resultados'!$A$13) -> 13.66 | E13: =SUMIFS('Gastos 2019'!$D:$D,'Gastos 2019'!$F:$F,'Cta Resultados'!E2,'Gastos 2019'!$G:$G,'Cta Resultados'!$A$13) -> 86.12 | F13: =SUMIFS('Gastos 2019'!$D:$D,'Gastos 2019'!$F:$F,'Cta Resultados'!F2,'Gastos 2019'!$G:$G,'Cta Resultados'!$A$13) -> 97.67 | G13: =SUMIFS('Gastos 2019'!$D:$D,'Gastos 2019'!$F:$F,'Cta Resultados'!G2,'Gastos 2019'!$G:$G,'Cta Resultados'!$A$13) -> 60.5 | H13: =SUMIFS('Gastos 2019'!$D:$D,'Gastos 2019'!$F:$F,'Cta Resultados'!H2,'Gastos 2019'!$G:$G,'Cta Resultados'!$A$13) -> 38.02 | I13: =SUMIFS('Gastos 2019'!$D:$D,'Gastos 2019'!$F:$F,'Cta Resultados'!I2,'Gastos 2019'!$G:$G,'Cta Resultados'!$A$13) -> 45.03 | ... M13: =SUMIFS('Gastos 2019'!$D:$D,'Gastos 2019'!$F:$F,'Cta Resultados'!M2,'Gastos 2019'!$G:$G,'Cta Resultados'!$A$13) -> 0 | N13: =SUM(B13:M13) -> 1526.77 | P13: Formación | Q13: =SUMIFS('Gastos 2020'!$D:$D,'Gastos 2020'!$F:$F,'Cta Resultados'!Q2,'Gastos 2020'!$G:$G,'Cta Resultados'!$A$13) -> 419.59 | R13: =SUMIFS('Gastos 2020'!$D:$D,'Gastos 2020'!$F:$F,'Cta Resultados'!R2,'Gastos 2020'!$G:$G,'Cta Resultados'!$A$13) -> 79.12 | S13: =SUMIFS('Gastos 2020'!$D:$D,'Gastos 2020'!$F:$F,'Cta Resultados'!S2,'Gastos 2020'!$G:$G,'Cta Resultados'!$A$13) -> 0 | T13: =SUMIFS('Gastos 2020'!$D:$D,'Gastos 2020'!$F:$F,'Cta Resultados'!T2,'Gastos 2020'!$G:$G,'Cta Resultados'!$A$13) -> 0 | U13: =SUMIFS('Gastos 2020'!$D:$D,'Gastos 2020'!$F:$F,'Cta Resultados'!U2,'Gastos 2020'!$G:$G,'Cta Resultados'!$A$13) -> 0 | V13: =SUMIFS('Gastos 2020'!$D:$D,'Gastos 2020'!$F:$F,'Cta Resultados'!V2,'Gastos 2020'!$G:$G,'Cta Resultados'!$A$13) -> 0 | W13: =SUMIFS('Gastos 2020'!$D:$D,'Gastos 2020'!$F:$F,'Cta Resultados'!W2,'Gastos 2020'!$G:$G,'Cta Resultados'!$A$13) -> 0 | X13: =SUMIFS('Gastos 2020'!$D:$D,'Gastos 2020'!$F:$F,'Cta Resultados'!X2,'Gastos 2020'!$G:$G,'Cta Resultados'!$A$13) -> 0 | ... AB13: =SUMIFS('Gastos 2020'!$D:$D,'Gastos 2020'!$F:$F,'Cta Resultados'!AB2,'Gastos 2020'!$G:$G,'Cta Resultados'!$A$13) -> 0 | AC13: =SUM(Q13:AB13) -> 498.71 | AE13: =P13 -> Formación | AR13: =SUM(AF13:AQ13) -> 0
A14: =P14 -> Suministros | B14: =SUMIFS('Gastos 2019'!$D:$D,'Gastos 2019'!$F:$F,'Cta Resultados'!B2,'Gastos 2019'!$G:$G,'Cta Resultados'!$A$14) -> 149.11 | C14: =SUMIFS('Gastos 2019'!$D:$D,'Gastos 2019'!$F:$F,'Cta Resultados'!C2,'Gastos 2019'!$G:$G,'Cta Resultados'!$A$14) -> 313.8 | D14: =SUMIFS('Gastos 2019'!$D:$D,'Gastos 2019'!$F:$F,'Cta Resultados'!D2,'Gastos 2019'!$G:$G,'Cta Resultados'!$A$14) -> 333.41 | E14: =SUMIFS('Gastos 2019'!$D:$D,'Gastos 2019'!$F:$F,'Cta Resultados'!E2,'Gastos 2019'!$G:$G,'Cta Resultados'!$A$14) -> 51.13 | F14: =SUMIFS('Gastos 2019'!$D:$D,'Gastos 2019'!$F:$F,'Cta Resultados'!F2,'Gastos 2019'!$G:$G,'Cta Resultados'!$A$14) -> 382.47 | G14: =SUMIFS('Gastos 2019'!$D:$D,'Gastos 2019'!$F:$F,'Cta Resultados'!G2,'Gastos 2019'!$G:$G,'Cta Resultados'!$A$14) -> 231.32 | H14: =SUMIFS('Gastos 2019'!$D:$D,'Gastos 2019'!$F:$F,'Cta Resultados'!H2,'Gastos 2019'!$G:$G,'Cta Resultados'!$A$14) -> 296.98 | I14: =SUMIFS('Gastos 2019'!$D:$D,'Gastos 2019'!$F:$F,'Cta Resultados'!I2,'Gastos 2019'!$G:$G,'Cta Resultados'!$A$14) -> 343.82 | ... M14: =SUMIFS('Gastos 2019'!$D:$D,'Gastos 2019'!$F:$F,'Cta Resultados'!M2,'Gastos 2019'!$G:$G,'Cta Resultados'!$A$14) -> 0 | N14: =SUM(B14:M14) -> 2684.11 | P14: Suministros | Q14: =SUMIFS('Gastos 2020'!$D:$D,'Gastos 2020'!$F:$F,'Cta Resultados'!Q2,'Gastos 2020'!$G:$G,'Cta Resultados'!$A$14) -> 97.73 | R14: =SUMIFS('Gastos 2020'!$D:$D,'Gastos 2020'!$F:$F,'Cta Resultados'!R2,'Gastos 2020'!$G:$G,'Cta Resultados'!$A$14) -> 227.3 | S14: =SUMIFS('Gastos 2020'!$D:$D,'Gastos 2020'!$F:$F,'Cta Resultados'!S2,'Gastos 2020'!$G:$G,'Cta Resultados'!$A$14) -> 0 | T14: =SUMIFS('Gastos 2020'!$D:$D,'Gastos 2020'!$F:$F,'Cta Resultados'!T2,'Gastos 2020'!$G:$G,'Cta Resultados'!$A$14) -> 0 | U14: =SUMIFS('Gastos 2020'!$D:$D,'Gastos 2020'!$F:$F,'Cta Resultados'!U2,'Gastos 2020'!$G:$G,'Cta Resultados'!$A$14) -> 0 | V14: =SUMIFS('Gastos 2020'!$D:$D,'Gastos 2020'!$F:$F,'Cta Resultados'!V2,'Gastos 2020'!$G:$G,'Cta Resultados'!$A$14) -> 0 | W14: =SUMIFS('Gastos 2020'!$D:$D,'Gastos 2020'!$F:$F,'Cta Resultados'!W2,'Gastos 2020'!$G:$G,'Cta Resultados'!$A$14) -> 0 | X14: =SUMIFS('Gastos 2020'!$D:$D,'Gastos 2020'!$F:$F,'Cta Resultados'!X2,'Gastos 2020'!$G:$G,'Cta Resultados'!$A$14) -> 0 | ... AB14: =SUMIFS('Gastos 2020'!$D:$D,'Gastos 2020'!$F:$F,'Cta Resultados'!AB2,'Gastos 2020'!$G:$G,'Cta Resultados'!$A$14) -> 0 | AC14: =SUM(Q14:AB14) -> 325.03 | AE14: =P14 -> Suministros | AR14: =SUM(AF14:AQ14) -> 0
A15: =P15 -> Servicios Profesionales | B15: =SUMIFS('Gastos 2019'!$D:$D,'Gastos 2019'!$F:$F,'Cta Resultados'!B2,'Gastos 2019'!$G:$G,'Cta Resultados'!$A$15) -> 381.96 | C15: =SUMIFS('Gastos 2019'!$D:$D,'Gastos 2019'!$F:$F,'Cta Resultados'!C2,'Gastos 2019'!$G:$G,'Cta Resultados'!$A$15) -> 232.69 | D15: =SUMIFS('Gastos 2019'!$D:$D,'Gastos 2019'!$F:$F,'Cta Resultados'!D2,'Gastos 2019'!$G:$G,'Cta Resultados'!$A$15) -> 426.89 | E15: =SUMIFS('Gastos 2019'!$D:$D,'Gastos 2019'!$F:$F,'Cta Resultados'!E2,'Gastos 2019'!$G:$G,'Cta Resultados'!$A$15) -> 384.38 | F15: =SUMIFS('Gastos 2019'!$D:$D,'Gastos 2019'!$F:$F,'Cta Resultados'!F2,'Gastos 2019'!$G:$G,'Cta Resultados'!$A$15) -> 423.56 | G15: =SUMIFS('Gastos 2019'!$D:$D,'Gastos 2019'!$F:$F,'Cta Resultados'!G2,'Gastos 2019'!$G:$G,'Cta Resultados'!$A$15) -> 342.37 | H15: =SUMIFS('Gastos 2019'!$D:$D,'Gastos 2019'!$F:$F,'Cta Resultados'!H2,'Gastos 2019'!$G:$G,'Cta Resultados'!$A$15) -> 419.43 | I15: =SUMIFS('Gastos 2019'!$D:$D,'Gastos 2019'!$F:$F,'Cta Resultados'!I2,'Gastos 2019'!$G:$G,'Cta Resultados'!$A$15) -> 1078.44 | ... M15: =SUMIFS('Gastos 2019'!$D:$D,'Gastos 2019'!$F:$F,'Cta Resultados'!M2,'Gastos 2019'!$G:$G,'Cta Resultados'!$A$15) -> 0 | N15: =SUM(B15:M15) -> 5346.05 | P15: Servicios Profesionales | Q15: =SUMIFS('Gastos 2020'!$D:$D,'Gastos 2020'!$F:$F,'Cta Resultados'!Q2,'Gastos 2020'!$G:$G,'Cta Resultados'!$A$15) -> 461.61 | R15: =SUMIFS('Gastos 2020'!$D:$D,'Gastos 2020'!$F:$F,'Cta Resultados'!R2,'Gastos 2020'!$G:$G,'Cta Resultados'!$A$15) -> 452.14 | S15: =SUMIFS('Gastos 2020'!$D:$D,'Gastos 2020'!$F:$F,'Cta Resultados'!S2,'Gastos 2020'!$G:$G,'Cta Resultados'!$A$15) -> 0 | T15: =SUMIFS('Gastos 2020'!$D:$D,'Gastos 2020'!$F:$F,'Cta Resultados'!T2,'Gastos 2020'!$G:$G,'Cta Resultados'!$A$15) -> 0 | U15: =SUMIFS('Gastos 2020'!$D:$D,'Gastos 2020'!$F:$F,'Cta Resultados'!U2,'Gastos 2020'!$G:$G,'Cta Resultados'!$A$15) -> 0 | V15: =SUMIFS('Gastos 2020'!$D:$D,'Gastos 2020'!$F:$F,'Cta Resultados'!V2,'Gastos 2020'!$G:$G,'Cta Resultados'!$A$15) -> 0 | W15: =SUMIFS('Gastos 2020'!$D:$D,'Gastos 2020'!$F:$F,'Cta Resultados'!W2,'Gastos 2020'!$G:$G,'Cta Resultados'!$A$15) -> 0 | X15: =SUMIFS('Gastos 2020'!$D:$D,'Gastos 2020'!$F:$F,'Cta Resultados'!X2,'Gastos 2020'!$G:$G,'Cta Resultados'!$A$15) -> 0 | ... AB15: =SUMIFS('Gastos 2020'!$D:$D,'Gastos 2020'!$F:$F,'Cta Resultados'!AB2,'Gastos 2020'!$G:$G,'Cta Resultados'!$A$15) -> 0 | AC15: =SUM(Q15:AB15) -> 913.75 | AE15: =P15 -> Servicios Profesionales | AR15: =SUM(AF15:AQ15) -> 0
A16: =P16 -> Seguros | B16: =SUMIFS('Gastos 2019'!$D:$D,'Gastos 2019'!$F:$F,'Cta Resultados'!B2,'Gastos 2019'!$G:$G,'Cta Resultados'!$A$16) -> 135.49 | C16: =SUMIFS('Gastos 2019'!$D:$D,'Gastos 2019'!$F:$F,'Cta Resultados'!C2,'Gastos 2019'!$G:$G,'Cta Resultados'!$A$16) -> 508.07 | D16: =SUMIFS('Gastos 2019'!$D:$D,'Gastos 2019'!$F:$F,'Cta Resultados'!D2,'Gastos 2019'!$G:$G,'Cta Resultados'!$A$16) -> 65.69 | E16: =SUMIFS('Gastos 2019'!$D:$D,'Gastos 2019'!$F:$F,'Cta Resultados'!E2,'Gastos 2019'!$G:$G,'Cta Resultados'!$A$16) -> 472.27 | F16: =SUMIFS('Gastos 2019'!$D:$D,'Gastos 2019'!$F:$F,'Cta Resultados'!F2,'Gastos 2019'!$G:$G,'Cta Resultados'!$A$16) -> 310.14 | G16: =SUMIFS('Gastos 2019'!$D:$D,'Gastos 2019'!$F:$F,'Cta Resultados'!G2,'Gastos 2019'!$G:$G,'Cta Resultados'!$A$16) -> 688.57 | H16: =SUMIFS('Gastos 2019'!$D:$D,'Gastos 2019'!$F:$F,'Cta Resultados'!H2,'Gastos 2019'!$G:$G,'Cta Resultados'!$A$16) -> 813.41 | I16: =SUMIFS('Gastos 2019'!$D:$D,'Gastos 2019'!$F:$F,'Cta Resultados'!I2,'Gastos 2019'!$G:$G,'Cta Resultados'!$A$16) -> 73.01 | ... M16: =SUMIFS('Gastos 2019'!$D:$D,'Gastos 2019'!$F:$F,'Cta Resultados'!M2,'Gastos 2019'!$G:$G,'Cta Resultados'!$A$16) -> 0 | N16: =SUM(B16:M16) -> 3719.96 | P16: Seguros | Q16: =SUMIFS('Gastos 2020'!$D:$D,'Gastos 2020'!$F:$F,'Cta Resultados'!Q2,'Gastos 2020'!$G:$G,'Cta Resultados'!$A$16) -> 280 | R16: =SUMIFS('Gastos 2020'!$D:$D,'Gastos 2020'!$F:$F,'Cta Resultados'!R2,'Gastos 2020'!$G:$G,'Cta Resultados'!$A$16) -> 293 | S16: =SUMIFS('Gastos 2020'!$D:$D,'Gastos 2020'!$F:$F,'Cta Resultados'!S2,'Gastos 2020'!$G:$G,'Cta Resultados'!$A$16) -> 0 | T16: =SUMIFS('Gastos 2020'!$D:$D,'Gastos 2020'!$F:$F,'Cta Resultados'!T2,'Gastos 2020'!$G:$G,'Cta Resultados'!$A$16) -> 0 | U16: =SUMIFS('Gastos 2020'!$D:$D,'Gastos 2020'!$F:$F,'Cta Resultados'!U2,'Gastos 2020'!$G:$G,'Cta Resultados'!$A$16) -> 0 | V16: =SUMIFS('Gastos 2020'!$D:$D,'Gastos 2020'!$F:$F,'Cta Resultados'!V2,'Gastos 2020'!$G:$G,'Cta Resultados'!$A$16) -> 0 | W16: =SUMIFS('Gastos 2020'!$D:$D,'Gastos 2020'!$F:$F,'Cta Resultados'!W2,'Gastos 2020'!$G:$G,'Cta Resultados'!$A$16) -> 0 | X16: =SUMIFS('Gastos 2020'!$D:$D,'Gastos 2020'!$F:$F,'Cta Resultados'!X2,'Gastos 2020'!$G:$G,'Cta Resultados'!$A$16) -> 0 | ... AB16: =SUMIFS('Gastos 2020'!$D:$D,'Gastos 2020'!$F:$F,'Cta Resultados'!AB2,'Gastos 2020'!$G:$G,'Cta Resultados'!$A$16) -> 0 | AC16: =SUM(Q16:AB16) -> 573 | AE16: =P16 -> Seguros | AR16: =SUM(AF16:AQ16) -> 0
A17: =P17 -> Varios | B17: =SUMIFS('Gastos 2019'!$D:$D,'Gastos 2019'!$F:$F,'Cta Resultados'!B2,'Gastos 2019'!$G:$G,'Cta Resultados'!$A$17) -> 38.35 | C17: =SUMIFS('Gastos 2019'!$D:$D,'Gastos 2019'!$F:$F,'Cta Resultados'!C2,'Gastos 2019'!$G:$G,'Cta Resultados'!$A$17) -> 87.6 | D17: =SUMIFS('Gastos 2019'!$D:$D,'Gastos 2019'!$F:$F,'Cta Resultados'!D2,'Gastos 2019'!$G:$G,'Cta Resultados'!$A$17) -> 10 | E17: =SUMIFS('Gastos 2019'!$D:$D,'Gastos 2019'!$F:$F,'Cta Resultados'!E2,'Gastos 2019'!$G:$G,'Cta Resultados'!$A$17) -> 42.26 | F17: =SUMIFS('Gastos 2019'!$D:$D,'Gastos 2019'!$F:$F,'Cta Resultados'!F2,'Gastos 2019'!$G:$G,'Cta Resultados'!$A$17) -> 127.64 | G17: =SUMIFS('Gastos 2019'!$D:$D,'Gastos 2019'!$F:$F,'Cta Resultados'!G2,'Gastos 2019'!$G:$G,'Cta Resultados'!$A$17) -> 22.69 | H17: =SUMIFS('Gastos 2019'!$D:$D,'Gastos 2019'!$F:$F,'Cta Resultados'!H2,'Gastos 2019'!$G:$G,'Cta Resultados'!$A$17) -> 10 | I17: =SUMIFS('Gastos 2019'!$D:$D,'Gastos 2019'!$F:$F,'Cta Resultados'!I2,'Gastos 2019'!$G:$G,'Cta Resultados'!$A$17) -> 34.98 | ... M17: =SUMIFS('Gastos 2019'!$D:$D,'Gastos 2019'!$F:$F,'Cta Resultados'!M2,'Gastos 2019'!$G:$G,'Cta Resultados'!$A$17) -> 0 | N17: =SUM(B17:M17) -> 756.52 | P17: Varios | Q17: =SUMIFS('Gastos 2020'!$D:$D,'Gastos 2020'!$F:$F,'Cta Resultados'!Q2,'Gastos 2020'!$G:$G,'Cta Resultados'!$A$17) -> 100.5 | R17: =SUMIFS('Gastos 2020'!$D:$D,'Gastos 2020'!$F:$F,'Cta Resultados'!R2,'Gastos 2020'!$G:$G,'Cta Resultados'!$A$17) -> 2066.64 | S17: =SUMIFS('Gastos 2020'!$D:$D,'Gastos 2020'!$F:$F,'Cta Resultados'!S2,'Gastos 2020'!$G:$G,'Cta Resultados'!$A$17) -> 0 | T17: =SUMIFS('Gastos 2020'!$D:$D,'Gastos 2020'!$F:$F,'Cta Resultados'!T2,'Gastos 2020'!$G:$G,'Cta Resultados'!$A$17) -> 0 | U17: =SUMIFS('Gastos 2020'!$D:$D,'Gastos 2020'!$F:$F,'Cta Resultados'!U2,'Gastos 2020'!$G:$G,'Cta Resultados'!$A$17) -> 0 | V17: =SUMIFS('Gastos 2020'!$D:$D,'Gastos 2020'!$F:$F,'Cta Resultados'!V2,'Gastos 2020'!$G:$G,'Cta Resultados'!$A$17) -> 0 | W17: =SUMIFS('Gastos 2020'!$D:$D,'Gastos 2020'!$F:$F,'Cta Resultados'!W2,'Gastos 2020'!$G:$G,'Cta Resultados'!$A$17) -> 0 | X17: =SUMIFS('Gastos 2020'!$D:$D,'Gastos 2020'!$F:$F,'Cta Resultados'!X2,'Gastos 2020'!$G:$G,'Cta Resultados'!$A$17) -> 0 | ... AB17: =SUMIFS('Gastos 2020'!$D:$D,'Gastos 2020'!$F:$F,'Cta Resultados'!AB2,'Gastos 2020'!$G:$G,'Cta Resultados'!$A$17) -> 0 | AC17: =SUM(Q17:AB17) -> 2167.14 | AE17: =P17 -> Varios | AR17: =SUM(AF17:AQ17) -> 0
A18: =P18 -> Publicidad, RRSS, WEB | B18: =SUMIFS('Gastos 2019'!$D:$D,'Gastos 2019'!$F:$F,'Cta Resultados'!B2,'Gastos 2019'!$G:$G,'Cta Resultados'!$A$18) -> 0 | C18: =SUMIFS('Gastos 2019'!$D:$D,'Gastos 2019'!$F:$F,'Cta Resultados'!C2,'Gastos 2019'!$G:$G,'Cta Resultados'!$A$18) -> 0 | D18: =SUMIFS('Gastos 2019'!$D:$D,'Gastos 2019'!$F:$F,'Cta Resultados'!D2,'Gastos 2019'!$G:$G,'Cta Resultados'!$A$18) -> 0 | E18: =SUMIFS('Gastos 2019'!$D:$D,'Gastos 2019'!$F:$F,'Cta Resultados'!E2,'Gastos 2019'!$G:$G,'Cta Resultados'!$A$18) -> 0 | F18: =SUMIFS('Gastos 2019'!$D:$D,'Gastos 2019'!$F:$F,'Cta Resultados'!F2,'Gastos 2019'!$G:$G,'Cta Resultados'!$A$18) -> 0 | G18: =SUMIFS('Gastos 2019'!$D:$D,'Gastos 2019'!$F:$F,'Cta Resultados'!G2,'Gastos 2019'!$G:$G,'Cta Resultados'!$A$18) -> 0 | H18: =SUMIFS('Gastos 2019'!$D:$D,'Gastos 2019'!$F:$F,'Cta Resultados'!H2,'Gastos 2019'!$G:$G,'Cta Resultados'!$A$18) -> 0 | I18: =SUMIFS('Gastos 2019'!$D:$D,'Gastos 2019'!$F:$F,'Cta Resultados'!I2,'Gastos 2019'!$G:$G,'Cta Resultados'!$A$18) -> 0 | ... M18: =SUMIFS('Gastos 2019'!$D:$D,'Gastos 2019'!$F:$F,'Cta Resultados'!M2,'Gastos 2019'!$G:$G,'Cta Resultados'!$A$18) -> 0 | N18: =SUM(B18:M18) -> 164.25 | P18: Publicidad, RRSS, WEB | Q18: =SUMIFS('Gastos 2020'!$D:$D,'Gastos 2020'!$F:$F,'Cta Resultados'!Q2,'Gastos 2020'!$G:$G,'Cta Resultados'!$A$18) -> 164.25 | R18: =SUMIFS('Gastos 2020'!$D:$D,'Gastos 2020'!$F:$F,'Cta Resultados'!R2,'Gastos 2020'!$G:$G,'Cta Resultados'!$A$18) -> 0 | S18: =SUMIFS('Gastos 2020'!$D:$D,'Gastos 2020'!$F:$F,'Cta Resultados'!S2,'Gastos 2020'!$G:$G,'Cta Resultados'!$A$18) -> 0 | T18: =SUMIFS('Gastos 2020'!$D:$D,'Gastos 2020'!$F:$F,'Cta Resultados'!T2,'Gastos 2020'!$G:$G,'Cta Resultados'!$A$18) -> 0 | U18: =SUMIFS('Gastos 2020'!$D:$D,'Gastos 2020'!$F:$F,'Cta Resultados'!U2,'Gastos 2020'!$G:$G,'Cta Resultados'!$A$18) -> 0 | V18: =SUMIFS('Gastos 2020'!$D:$D,'Gastos 2020'!$F:$F,'Cta Resultados'!V2,'Gastos 2020'!$G:$G,'Cta Resultados'!$A$18) -> 0 | W18: =SUMIFS('Gastos 2020'!$D:$D,'Gastos 2020'!$F:$F,'Cta Resultados'!W2,'Gastos 2020'!$G:$G,'Cta Resultados'!$A$18) -> 0 | X18: =SUMIFS('Gastos 2020'!$D:$D,'Gastos 2020'!$F:$F,'Cta Resultados'!X2,'Gastos 2020'!$G:$G,'Cta Resultados'!$A$18) -> 0 | ... AB18: =SUMIFS('Gastos 2020'!$D:$D,'Gastos 2020'!$F:$F,'Cta Resultados'!AB2,'Gastos 2020'!$G:$G,'Cta Resultados'!$A$18) -> 0 | AC18: =SUM(Q18:AB18) -> 164.25 | AE18: =P18 -> Publicidad, RRSS, WEB | AR18: =SUM(AF18:AQ18) -> 0
A19: =P19 -> Software | B19: =SUMIFS('Gastos 2019'!D:D,'Gastos 2019'!F:F,'Cta Resultados'!$B$2,'Gastos 2019'!G:G,'Cta Resultados'!A19) -> 0 | C19: =SUMIFS('Gastos 2019'!E:E,'Gastos 2019'!G:G,'Cta Resultados'!$B$2,'Gastos 2019'!H:H,'Cta Resultados'!B19) -> 0 | D19: =SUMIFS('Gastos 2019'!F:F,'Gastos 2019'!H:H,'Cta Resultados'!$B$2,'Gastos 2019'!I:I,'Cta Resultados'!C19) -> 0 | E19: =SUMIFS('Gastos 2019'!G:G,'Gastos 2019'!I:I,'Cta Resultados'!$B$2,'Gastos 2019'!J:J,'Cta Resultados'!D19) -> 0 | F19: =SUMIFS('Gastos 2019'!H:H,'Gastos 2019'!J:J,'Cta Resultados'!$B$2,'Gastos 2019'!K:K,'Cta Resultados'!E19) -> 0 | G19: =SUMIFS('Gastos 2019'!I:I,'Gastos 2019'!K:K,'Cta Resultados'!$B$2,'Gastos 2019'!L:L,'Cta Resultados'!F19) -> 0 | H19: =SUMIFS('Gastos 2019'!J:J,'Gastos 2019'!L:L,'Cta Resultados'!$B$2,'Gastos 2019'!M:M,'Cta Resultados'!G19) -> 0 | I19: =SUMIFS('Gastos 2019'!K:K,'Gastos 2019'!M:M,'Cta Resultados'!$B$2,'Gastos 2019'!N:N,'Cta Resultados'!H19) -> 0 | J19: =SUMIFS('Gastos 2019'!L:L,'Gastos 2019'!N:N,'Cta Resultados'!$B$2,'Gastos 2019'!O:O,'Cta Resultados'!I19) -> 0 | K19: =SUMIFS('Gastos 2019'!M:M,'Gastos 2019'!O:O,'Cta Resultados'!$B$2,'Gastos 2019'!P:P,'Cta Resultados'!J19) -> 0 | L19: =SUMIFS('Gastos 2019'!N:N,'Gastos 2019'!P:P,'Cta Resultados'!$B$2,'Gastos 2019'!Q:Q,'Cta Resultados'!K19) -> 0 | M19: =SUMIFS('Gastos 2019'!O:O,'Gastos 2019'!Q:Q,'Cta Resultados'!$B$2,'Gastos 2019'!R:R,'Cta Resultados'!L19) -> 0 | N19: =SUM(B19:M19) -> 0 | P19: Software | Q19: =SUMIFS('Gastos 2020'!S:S,'Gastos 2020'!U:U,'Cta Resultados'!$B$2,'Gastos 2020'!V:V,'Cta Resultados'!P19) -> 0 | R19: =SUMIFS('Gastos 2020'!T:T,'Gastos 2020'!V:V,'Cta Resultados'!$B$2,'Gastos 2020'!W:W,'Cta Resultados'!Q19) -> 0 | S19: =SUMIFS('Gastos 2020'!U:U,'Gastos 2020'!W:W,'Cta Resultados'!$B$2,'Gastos 2020'!X:X,'Cta Resultados'!R19) -> 0 | T19: =SUMIFS('Gastos 2020'!V:V,'Gastos 2020'!X:X,'Cta Resultados'!$B$2,'Gastos 2020'!Y:Y,'Cta Resultados'!S19) -> 0 | U19: =SUMIFS('Gastos 2020'!W:W,'Gastos 2020'!Y:Y,'Cta Resultados'!$B$2,'Gastos 2020'!Z:Z,'Cta Resultados'!T19) -> 0 | V19: =SUMIFS('Gastos 2020'!X:X,'Gastos 2020'!Z:Z,'Cta Resultados'!$B$2,'Gastos 2020'!AA:AA,'Cta Resultados'!U19) -> 0 | W19: =SUMIFS('Gastos 2020'!Y:Y,'Gastos 2020'!AA:AA,'Cta Resultados'!$B$2,'Gastos 2020'!AB:AB,'Cta Resultados'!V19) -> 0 | X19: =SUMIFS('Gastos 2020'!Z:Z,'Gastos 2020'!AB:AB,'Cta Resultados'!$B$2,'Gastos 2020'!AC:AC,'Cta Resultados'!W19) -> 0 | Y19: =SUMIFS('Gastos 2020'!AA:AA,'Gastos 2020'!AC:AC,'Cta Resultados'!$B$2,'Gastos 2020'!AD:AD,'Cta Resultados'!X19) -> 0 | Z19: =SUMIFS('Gastos 2020'!AB:AB,'Gastos 2020'!AD:AD,'Cta Resultados'!$B$2,'Gastos 2020'!AE:AE,'Cta Resultados'!Y19) -> 0 | AA19: =SUMIFS('Gastos 2020'!AC:AC,'Gastos 2020'!AE:AE,'Cta Resultados'!$B$2,'Gastos 2020'!AF:AF,'Cta Resultados'!Z19) -> 0 | AB19: =SUMIFS('Gastos 2020'!AD:AD,'Gastos 2020'!AF:AF,'Cta Resultados'!$B$2,'Gastos 2020'!AG:AG,'Cta Resultados'!AA19) -> 0 | AC19: =SUM(Q19:AB19) -> 0 | AE19: =P19 -> Software | AR19: =SUM(AF19:AQ19) -> 0
A20: Ratio gastos Indirectos | B20: 0.42717939 | C20: 0.42720797 | D20: 0.3038 | E20: 0.27020818 | F20: 0.49466079 | G20: 0.73485427 | H20: 0.25768746 | I20: 0.66040713 | J20: 0.42116022 | K20: 0.54174809 | L20: 0.51419074 | M20: 0.60487226 | P20: Ratio gastos Indirectos | Q20: =Q12/Q3 -> 0.062628474 | R20: =R12/R3 -> 0.69404071 | S20: =S12/S3 -> #DIV/0! | T20: =T12/T3 -> #DIV/0! | U20: =U12/U3 -> #DIV/0! | V20: =V12/V3 -> #DIV/0! | W20: =W12/W3 -> #DIV/0! | X20: =X12/X3 -> #DIV/0! | ... AB20: =AB12/AB3 -> #DIV/0! | AE20: Ratio gastos Indirectos | AF20: =AF12/AF3 -> 0 | AG20: =AG12/AG3 -> 0 | AH20: =AH12/AH3 -> 0 | AI20: =AI12/AI3 -> 0 | AJ20: =AJ12/AJ3 -> 0 | AK20: =AK12/AK3 -> 0 | AL20: =AL12/AL3 -> 0 | AM20: =AM12/AM3 -> 0 | ... AQ20: =AQ12/AQ3 -> #DIV/0!
A22: Total Gastos | B22: =B7+B12+B5 -> 1944.28 | C22: =C7+C12+C5 -> 2246.34 | D22: =D7+D12+D5 -> 1903.83 | E22: =E7+E12+E5 -> 2922.23 | F22: =F7+F12+F5 -> 2395.66 | G22: =G7+G12+G5 -> 2399.63 | H22: =H7+H12+H5 -> 3686.2 | I22: =I7+I12+I5 -> 2629.28 | ... M22: =M7+M12+M5 -> 0 | N22: =SUM(B22:M22) -> 30507.25 | P22: Total Gastos | Q22: =Q7+Q12+Q5 -> 1730.62 | R22: =R7+R12+R5 -> 3118.2 | S22: =S7+S12+S5 -> 0 | T22: =T7+T12+T5 -> 0 | U22: =U7+U12+U5 -> 0 | V22: =V7+V12+V5 -> 0 | W22: =W7+W12+W5 -> 0 | X22: =X7+X12+X5 -> 0 | ... AB22: =AB7+AB12+AB5 -> 0 | AC22: =SUM(Q22:AB22) -> 4848.82 | AE22: Total Gastos | AF22: =AF7+AF12+AF5 -> 0 | AG22: =AG7+AG12+AG5 -> 0 | AH22: =AH7+AH12+AH5 -> 0 | AI22: =AI7+AI12+AI5 -> 0 | AJ22: =AJ7+AJ12+AJ5 -> 0 | AK22: =AK7+AK12+AK5 -> 0 | AL22: =AL7+AL12+AL5 -> 0 | AM22: =AM7+AM12+AM5 -> 0 | ... AQ22: =AQ7+AQ12+AQ5 -> 0 | AR22: =SUM(AF22:AQ22) -> 0
A23: Resultado Operativo | B23: =B3-B7-B12-B5 -> 2038.07 | C23: =C3-C7-C12-C5 -> 1456.88 | D23: =D3-D7-D12-D5 -> 1330.07 | E23: =E3-E7-E12-E5 -> 1151.69 | F23: =F3-F7-F12-F5 -> 1087.13 | G23: =G3-G7-G12-G5 -> 5035.11 | H23: =H3-H7-H12-H5 -> 1212.6 | I23: =I3-I7-I12-I5 -> 353.32 | ... M23: =M3-M7-M12-M5 -> 0 | N23: =SUM(B23:M23) -> 15674.32 | P23: Resultado Operativo | Q23: =Q3-Q7-Q12-Q5 -> 22598.25 | R23: =R3-R7-R12-R5 -> 1374.62 | S23: =S3-S7-S12-S5 -> 0 | T23: =T3-T7-T12-T5 -> 0 | U23: =U3-U7-U12-U5 -> 0 | V23: =V3-V7-V12-V5 -> 0 | W23: =W3-W7-W12-W5 -> 0 | X23: =X3-X7-X12-X5 -> 0 | ... AB23: =AB3-AB7-AB12-AB5 -> 0 | AC23: =SUM(Q23:AB23) -> 23972.87 | AE23: Resultado Operativo | AF23: =AF3-AF7-AF12 -> 3982.35 | AG23: =AG3-AG7-AG12 -> 3888.381 | AH23: =AH3-AH7-AH12 -> 3363.256 | AI23: =AI3-AI7-AI12 -> 4481.312 | AJ23: =AJ3-AJ7-AJ12 -> 3726.5853 | AK23: =AK3-AK7-AK12 -> 7955.1718 | AL23: =AL3-AL7-AL12 -> 4898.8 | AM23: =AM3-AM7-AM12 -> 3221.208 | ... AQ23: =AQ3-AQ7-AQ12 -> 0 | AR23: =SUM(AF23:AQ23) -> 48335.546
B24: =B23/B3 -> 0.51177571 | C24: =C23/C3 -> 0.39340898 | D24: =D23/D3 -> 0.41128977 | E24: =E23/E3 -> 0.28269824 | F24: =F23/F3 -> 0.31214343 | G24: =G23/G3 -> 0.6772409 | H24: =H23/H3 -> 0.24753001 | I24: =I23/I3 -> 0.1184604 | ... M24: =M23/M3 -> #DIV/0! | Q24: =Q23/Q3 -> 0.92886558 | R24: =R23/R3 -> 0.30595929 | S24: =S23/S3 -> #DIV/0! | T24: =T23/T3 -> #DIV/0! | U24: =U23/U3 -> #DIV/0! | V24: =V23/V3 -> #DIV/0! | W24: =W23/W3 -> #DIV/0! | X24: =X23/X3 -> #DIV/0! | ... AB24: =AB23/AB3 -> #DIV/0! | AF24: =AF23/AF3 -> 1 | AG24: =AG23/AG3 -> 1 | AH24: =AH23/AH3 -> 1 | AI24: =AI23/AI3 -> 1 | AJ24: =AJ23/AJ3 -> 1 | AK24: =AK23/AK3 -> 1 | AL24: =AL23/AL3 -> 1 | AM24: =AM23/AM3 -> 1 | ... AQ24: =AQ23/AQ3 -> #DIV/0!
A26: Gasto Extraor / Finan | B26: =SUMIFS('Gastos 2019'!$D:$D,'Gastos 2019'!$F:$F,'Cta Resultados'!B2,'Gastos 2019'!$G:$G,'Cta Resultados'!$A$26) -> 0 | C26: =SUMIFS('Gastos 2019'!$D:$D,'Gastos 2019'!$F:$F,'Cta Resultados'!C2,'Gastos 2019'!$G:$G,'Cta Resultados'!$A$26) -> 0 | D26: =SUMIFS('Gastos 2019'!$D:$D,'Gastos 2019'!$F:$F,'Cta Resultados'!D2,'Gastos 2019'!$G:$G,'Cta Resultados'!$A$26) -> 0 | E26: =SUMIFS('Gastos 2019'!$D:$D,'Gastos 2019'!$F:$F,'Cta Resultados'!E2,'Gastos 2019'!$G:$G,'Cta Resultados'!$A$26) -> 0 | F26: =SUMIFS('Gastos 2019'!$D:$D,'Gastos 2019'!$F:$F,'Cta Resultados'!F2,'Gastos 2019'!$G:$G,'Cta Resultados'!$A$26) -> 0 | G26: =SUMIFS('Gastos 2019'!$D:$D,'Gastos 2019'!$F:$F,'Cta Resultados'!G2,'Gastos 2019'!$G:$G,'Cta Resultados'!$A$26) -> 0 | H26: =SUMIFS('Gastos 2019'!$D:$D,'Gastos 2019'!$F:$F,'Cta Resultados'!H2,'Gastos 2019'!$G:$G,'Cta Resultados'!$A$26) -> 0 | I26: =SUMIFS('Gastos 2019'!$D:$D,'Gastos 2019'!$F:$F,'Cta Resultados'!I2,'Gastos 2019'!$G:$G,'Cta Resultados'!$A$26) -> 0 | ... M26: =SUMIFS('Gastos 2019'!$D:$D,'Gastos 2019'!$F:$F,'Cta Resultados'!M2,'Gastos 2019'!$G:$G,'Cta Resultados'!$A$26) -> 0 | N26: =SUM(B26:M26) -> 0 | P26: Gasto Extraor / Finan | Q26: =SUMIFS('Gastos 2020'!$D:$D,'Gastos 2020'!$F:$F,'Cta Resultados'!Q2,'Gastos 2020'!$G:$G,'Cta Resultados'!$A$26) -> 0 | R26: =SUMIFS('Gastos 2020'!$D:$D,'Gastos 2020'!$F:$F,'Cta Resultados'!R2,'Gastos 2020'!$G:$G,'Cta Resultados'!$A$26) -> 0 | S26: =SUMIFS('Gastos 2020'!$D:$D,'Gastos 2020'!$F:$F,'Cta Resultados'!S2,'Gastos 2020'!$G:$G,'Cta Resultados'!$A$26) -> 0 | T26: =SUMIFS('Gastos 2020'!$D:$D,'Gastos 2020'!$F:$F,'Cta Resultados'!T2,'Gastos 2020'!$G:$G,'Cta Resultados'!$A$26) -> 0 | U26: =SUMIFS('Gastos 2020'!$D:$D,'Gastos 2020'!$F:$F,'Cta Resultados'!U2,'Gastos 2020'!$G:$G,'Cta Resultados'!$A$26) -> 0 | V26: =SUMIFS('Gastos 2020'!$D:$D,'Gastos 2020'!$F:$F,'Cta Resultados'!V2,'Gastos 2020'!$G:$G,'Cta Resultados'!$A$26) -> 0 | W26: =SUMIFS('Gastos 2020'!$D:$D,'Gastos 2020'!$F:$F,'Cta Resultados'!W2,'Gastos 2020'!$G:$G,'Cta Resultados'!$A$26) -> 0 | X26: =SUMIFS('Gastos 2020'!$D:$D,'Gastos 2020'!$F:$F,'Cta Resultados'!X2,'Gastos 2020'!$G:$G,'Cta Resultados'!$A$26) -> 0 | ... AB26: =SUMIFS('Gastos 2020'!$D:$D,'Gastos 2020'!$F:$F,'Cta Resultados'!AB2,'Gastos 2020'!$G:$G,'Cta Resultados'!$A$26) -> 0 | AC26: =SUM(Q26:AB26) -> 0 | AE26: Gasto Extraor / Finan | AR26: =SUM(AF26:AQ26) -> 0
A27: Impuestos trimestrales | N27: =SUM(B27:M27) -> 0 | P27: Impuestos trimestrales | AC27: =SUM(Q27:AB27) -> 0 | AE27: Impuestos trimestrales | AR27: =SUM(AF27:AQ27) -> 0
A28: Resultado de Explotación | B28: =B23-B26-B27 -> 2038.07 | C28: =C23-C26-C27 -> 1456.88 | D28: =D23-D26-D27 -> 1330.07 | E28: =E23-E26-E27 -> 1151.69 | F28: =F23-F26-F27 -> 1087.13 | G28: =G23-G26-G27 -> 5035.11 | H28: =H23-H26-H27 -> 1212.6 | I28: =I23-I26-I27 -> 353.32 | ... M28: =M23-M26-M27 -> 0 | N28: =SUM(B28:M28) -> 15674.32 | P28: Resultado de Explotación | Q28: =Q23-Q26-Q27 -> 22598.25 | R28: =R23-R26-R27 -> 1374.62 | S28: =S23-S26-S27 -> 0 | T28: =T23-T26-T27 -> 0 | U28: =U23-U26-U27 -> 0 | V28: =V23-V26-V27 -> 0 | W28: =W23-W26-W27 -> 0 | X28: =X23-X26-X27 -> 0 | ... AB28: =AB23-AB26-AB27 -> 0 | AC28: =SUM(Q28:AB28) -> 23972.87 | AE28: Resultado de Explotación | AF28: =AF23-AF26-AF27 -> 3982.35 | AG28: =AG23-AG26-AG27 -> 3888.381 | AH28: =AH23-AH26-AH27 -> 3363.256 | AI28: =AI23-AI26-AI27 -> 4481.312 | AJ28: =AJ23-AJ26-AJ27 -> 3726.5853 | AK28: =AK23-AK26-AK27 -> 7955.1718 | AL28: =AL23-AL26-AL27 -> 4898.8 | AM28: =AM23-AM26-AM27 -> 3221.208 | ... AQ28: =AQ23-AQ26-AQ27 -> 0 | AR28: =SUM(AF28:AQ28) -> 48335.546
A30: Resultado Neto antes de I.S. | B30: =B28 -> 2038.07 | C30: =C28 -> 1456.88 | D30: =D28 -> 1330.07 | E30: =E28 -> 1151.69 | F30: =F28 -> 1087.13 | G30: =G28 -> 5035.11 | H30: =H28 -> 1212.6 | I30: =I28 -> 353.32 | ... M30: =M28 -> 0 | N30: =SUM(B30:M30) -> 15674.32 | P30: Resultado Neto antes de I.S. | Q30: =Q28 -> 22598.25 | R30: =R28 -> 1374.62 | S30: =S28 -> 0 | T30: =T28 -> 0 | U30: =U28 -> 0 | V30: =V28 -> 0 | W30: =W28 -> 0 | X30: =X28 -> 0 | ... AB30: =AB28 -> 0 | AC30: =SUM(Q30:AB30) -> 23972.87 | AE30: Resultado Neto antes de I.S. | AF30: =AF28 -> 3982.35 | AG30: =AG28 -> 3888.381 | AH30: =AH28 -> 3363.256 | AI30: =AI28 -> 4481.312 | AJ30: =AJ28 -> 3726.5853 | AK30: =AK28 -> 7955.1718 | AL30: =AL28 -> 4898.8 | AM30: =AM28 -> 3221.208 | ... AQ30: =AQ28 -> 0 | AR30: =SUM(AF30:AQ30) -> 48335.546
B31: =B30/B3 -> 0.51177571 | C31: =C30/C3 -> 0.39340898 | D31: =D30/D3 -> 0.41128977 | E31: =E30/E3 -> 0.28269824 | F31: =F30/F3 -> 0.31214343 | G31: =G30/G3 -> 0.6772409 | H31: =H30/H3 -> 0.24753001 | I31: =I30/I3 -> 0.1184604 | ... N31: =N30/N3 -> 0.33940639 | Q31: =Q30/Q3 -> 0.92886558 | R31: =R30/R3 -> 0.30595929 | S31: =S30/S3 -> #DIV/0! | T31: =T30/T3 -> #DIV/0! | U31: =U30/U3 -> #DIV/0! | V31: =V30/V3 -> #DIV/0! | W31: =W30/W3 -> #DIV/0! | X31: =X30/X3 -> #DIV/0! | ... AC31: =AC30/AC3 -> 0.8317649 | AF31: =AF30/AF3 -> 1 | AG31: =AG30/AG3 -> 1 | AH31: =AH30/AH3 -> 1 | AI31: =AI30/AI3 -> 1 | AJ31: =AJ30/AJ3 -> 1 | AK31: =AK30/AK3 -> 1 | AL31: =AL30/AL3 -> 1 | AM31: =AM30/AM3 -> 1 | ... AR31: =AR30/AR3 -> 1
P49: =P5 -> Compras
P50: =P7 -> Salarios
P51: Sueldo CEO
P52: =P13 -> Formación
P53: =P14 -> Suministros
P54: =P15 -> Servicios Profesionales
P55: =P16 -> Seguros
P56: =P17 -> Varios
P57: =P18 -> Publicidad, RRSS, WEB
P58: =P19 -> Software
P59: =P26 -> Gasto Extraor / Finan

Sheet Facturas 2019
A1: Factura | B1: Fecha | C1: Núm. | D1: Cliente / Detalle | E1: Subtotal | F1: Total | G1: Etiquetas | H1: Mes
A2: Factura | B2: 43782 | E2: 97 | F2: 117.37 | G2: Curso | H2: =TEXT(B2,"mmmmmmmmmmmmmm") -> noviembre
A3: Factura | B3: 43782 | E3: 8.18 | F3: 9.9 | G3: Tripwire | H3: =TEXT(B3,"mmmmmmmmmmmmmm") -> noviembre
A4: Factura | B4: 43780 | E4: 8.18 | F4: 9.9 | G4: Tripwire | H4: =TEXT(B4,"mmmmmmmmmmmmmm") -> noviembre
A5: Factura | B5: 43778 | E5: 8.18 | F5: 9.9 | G5: Tripwire | H5: =TEXT(B5,"mmmmmmmmmmmmmm") -> noviembre
A6: Factura | B6: 43777 | E6: 1000 | F6: 1060 | G6: Stop Revolving | H6: =TEXT(B6,"mmmmmmmmmmmmmm") -> noviembre
A7: Factura | B7: 43775 | E7: 300 | F7: 318 | G7: Campañas Captación de Leads, Gestión Campañas | H7: =TEXT(B7,"mmmmmmmmmmmmmm") -> noviembre
A8: Factura | B8: 43773 | E8: 1485 | F8: 1574.1 | G8: Gestión Campañas | H8: =TEXT(B8,"mmmmmmmmmmmmmm") -> noviembre
A9: Factura | B9: 43768 | E9: 550 | F9: 550 | G9: Gestión Campañas | H9: =TEXT(B9,"mmmmmmmmmmmmmm") -> octubre
A10: Factura | B10: 43767 | E10: 300 | F10: 318 | G10: Gestión Campañas, Campañas Captación de Leads | H10: =TEXT(B10,"mmmmmmmmmmmmmm") -> octubre
A11: Factura | B11: 43767 | E11: 8.18 | F11: 9.9 | G11: Tripwire | H11: =TEXT(B11,"mmmmmmmmmmmmmm") -> octubre
A12: Factura | B12: 43766 | E12: 500 | F12: 530 | G12: Gestión Campañas | H12: =TEXT(B12,"mmmmmmmmmmmmmm") -> octubre
A13: Factura | B13: 43766 | E13: 750 | F13: 795 | G13: Gestión Campañas | H13: =TEXT(B13,"mmmmmmmmmmmmmm") -> octubre
... A49: Factura | B49: 43685 | E49: 10 | F49: 12.1 | G49: Semianrio | H49: =TEXT(B49,"mmmmmmmmmmmmmm") -> agosto
A50: Factura | B50: 43684 | E50: 250 | F50: 265 | H50: =TEXT(B50,"mmmmmmmmmmmmmm") -> agosto
A51: Factura | B51: 43684 | E51: 10 | F51: 12.1 | G51: Semianrio | H51: =TEXT(B51,"mmmmmmmmmmmmmm") -> agosto
A52: Factura | B52: 43678 | E52: 962 | F52: 1019.72 | G52: Gestión Campañas | H52: =TEXT(B52,"mmmmmmmmmmmmmm") -> agosto
A53: Factura | B53: 43678 | E53: 650 | F53: 650 | G53: Gestión Campañas | H53: =TEXT(B53,"mmmmmmmmmmmmmm") -> agosto
A54: Factura | B54: 43677 | E54: 300 | F54: 318 | G54: Gestión Campañas, Set Up | H54: =TEXT(B54,"mmmmmmmmmmmmmm") -> julio
A55: Factura | B55: 43677 | E55: 10 | F55: 12.1 | G55: Semianrio | H55: =TEXT(B55,"mmmmmmmmmmmmmm") -> julio
A56: Factura | B56: 43677 | E56: 10 | F56: 12.1 | G56: Semianrio | H56: =TEXT(B56,"mmmmmmmmmmmmmm") -> julio
A57: Factura | B57: 43677 | E57: 10 | F57: 12.1 | G57: Semianrio | H57: =TEXT(B57,"mmmmmmmmmmmmmm") -> julio
A58: Factura | B58: 43676 | E58: 10 | F58: 12.1 | G58: Semianrio | H58: =TEXT(B58,"mmmmmmmmmmmmmm") -> julio
A59: Factura | B59: 43675 | E59: 500 | F59: 530 | G59: Gestión Campañas | H59: =TEXT(B59,"mmmmmmmmmmmmmm") -> julio
A60: Factura | B60: 43675 | E60: 230 | F60: 243.8 | G60: Campañas Captación de Leads, Gestión Campañas | H60: =TEXT(B60,"mmmmmmmmmmmmmm") -> julio
A61: Factura | B61: 43675 | E61: 230 | F61: 243.8 | G61: Campañas Captación de Leads, Gestión Campañas | H61: =TEXT(B61,"mmmmmmmmmmmmmm") -> julio
A62: Factura | B62: 43675 | E62: 10 | F62: 12.1 | G62: Semianrio | H62: =TEXT(B62,"mmmmmmmmmmmmmm") -> julio
... A209: Factura | B209: 43482 | E209: 86.73 | F209: 104.94 | G209: Consultoría | H209: =TEXT(B209,"mmmmmmmmmmmmmm") -> enero
A210: Factura | B210: 42736 | E210: 206.61 | F210: 250 | H210: =TEXT(B210,"mmmmmmmmmmmmmm") -> enero
A211: Factura | B211: 42736 | E211: 991.74 | F211: 1200 | H211: =TEXT(B211,"mmmmmmmmmmmmmm") -> enero
A212: Factura | B212: 42736 | E212: 132.23 | F212: 160 | H212: =TEXT(B212,"mmmmmmmmmmmmmm") -> enero
H213: =TEXT(B213,"mmmmmmmmmmmmmm") -> enero
H214: =TEXT(B214,"mmmmmmmmmmmmmm") -> enero
H215: =TEXT(B215,"mmmmmmmmmmmmmm") -> enero
H216: =TEXT(B216,"mmmmmmmmmmmmmm") -> enero
H217: =TEXT(B217,"mmmmmmmmmmmmmm") -> enero
H218: =TEXT(B218,"mmmmmmmmmmmmmm") -> enero
H219: =TEXT(B219,"mmmmmmmmmmmmmm") -> enero
H220: =TEXT(B220,"mmmmmmmmmmmmmm") -> enero
H221: =TEXT(B221,"mmmmmmmmmmmmmm") -> enero
...

Sheet Facturas 2020
A1: Factura | B1: Fecha | C1: Núm. | D1: Cliente / Detalle | E1: Subtotal | F1: Total | G1: Etiquetas | H1: Mes
A2: Factura | B2: 43843 | E2: 97 | F2: 117.37 | H2: =TEXT(B2,"mmmmmmmmmmmmmmm") -> enero
A3: Factura | B3: 43843 | E3: 8.18 | F3: 9.9 | H3: =TEXT(B3,"mmmmmmmmmmmmmmm") -> enero
A4: Factura | B4: 43843 | E4: 8.18 | F4: 9.9 | H4: =TEXT(B4,"mmmmmmmmmmmmmmm") -> enero
A5: Factura | B5: 43843 | E5: 8.18 | F5: 9.9 | H5: =TEXT(B5,"mmmmmmmmmmmmmmm") -> enero
A6: Factura | B6: 43843 | E6: 1000 | F6: 1060 | H6: =TEXT(B6,"mmmmmmmmmmmmmmm") -> enero
A7: Factura | B7: 43843 | E7: 300 | F7: 318 | H7: =TEXT(B7,"mmmmmmmmmmmmmmm") -> enero
A8: Factura | B8: 43843 | E8: 1485 | F8: 1574.1 | H8: =TEXT(B8,"mmmmmmmmmmmmmmm") -> enero
A9: Factura | B9: 43843 | E9: 550 | F9: 550 | H9: =TEXT(B9,"mmmmmmmmmmmmmmm") -> enero
A10: Factura | B10: 43843 | E10: 300 | F10: 318 | H10: =TEXT(B10,"mmmmmmmmmmmmmmm") -> enero
A11: Factura | B11: 43843 | E11: 8.18 | F11: 9.9 | H11: =TEXT(B11,"mmmmmmmmmmmmmmm") -> enero
A12: Factura | B12: 43843 | E12: 500 | F12: 530 | H12: =TEXT(B12,"mmmmmmmmmmmmmmm") -> enero
A13: Factura | B13: 43843 | E13: 750 | F13: 795 | H13: =TEXT(B13,"mmmmmmmmmmmmmmm") -> enero
... A50: Factura | B50: 43843 | E50: 250 | F50: 265 | H50: =TEXT(B50,"mmmmmmmmmmmmmmm") -> enero
A51: Factura | B51: 43843 | E51: 10 | F51: 12.1 | G51: Semianrio | H51: =TEXT(B51,"mmmmmmmmmmmmmmm") -> enero
A52: Factura | B52: 43843 | E52: 962 | F52: 1019.72 | G52: Gestión Campañas | H52: =TEXT(B52,"mmmmmmmmmmmmmmm") -> enero
A53: Factura | B53: 43843 | E53: 650 | F53: 650 | G53: Gestión Campañas | H53: =TEXT(B53,"mmmmmmmmmmmmmmm") -> enero
A54: Factura | B54: 43843 | E54: 300 | F54: 318 | G54: Gestión Campañas, Set Up | H54: =TEXT(B54,"mmmmmmmmmmmmmmm") -> enero
A55: Factura | B55: 43843 | E55: 10 | F55: 12.1 | G55: Semianrio | H55: =TEXT(B55,"mmmmmmmmmmmmmmm") -> enero
A56: Factura | B56: 43843 | E56: 10 | F56: 12.1 | G56: Semianrio | H56: =TEXT(B56,"mmmmmmmmmmmmmmm") -> enero
A57: Factura | B57: 43843 | E57: 10 | F57: 12.1 | G57: Semianrio | H57: =TEXT(B57,"mmmmmmmmmmmmmmm") -> enero
A58: Factura | B58: 43843 | E58: 10 | F58: 12.1 | G58: Semianrio | H58: =TEXT(B58,"mmmmmmmmmmmmmmm") -> enero
A59: Factura | B59: 43843 | E59: 500 | F59: 530 | G59: Gestión Campañas | H59: =TEXT(B59,"mmmmmmmmmmmmmmm") -> enero
A60: Factura | B60: 43843 | E60: 230 | F60: 243.8 | G60: Campañas Captación de Leads, Gestión Campañas | H60: =TEXT(B60,"mmmmmmmmmmmmmmm") -> enero
A61: Factura | B61: 43843 | E61: 230 | F61: 243.8 | G61: Campañas Captación de Leads, Gestión Campañas | H61: =TEXT(B61,"mmmmmmmmmmmmmmm") -> enero
A62: Factura | B62: 43843 | E62: 10 | F62: 12.1 | G62: Semianrio | H62: =TEXT(B62,"mmmmmmmmmmmmmmm") -> enero
... A120: Factura | B120: 43874 | E120: -400 | F120: -424 | G120: Gestión Campañas | H120: =TEXT(B120,"mmmmmmmmmmmmmmm") -> febrero
H121: =TEXT(B121,"mmmmmmmmmmmmmmm") -> enero
H122: =TEXT(B122,"mmmmmmmmmmmmmmm") -> enero
H123: =TEXT(B123,"mmmmmmmmmmmmmmm") -> enero
H124: =TEXT(B124,"mmmmmmmmmmmmmmm") -> enero
H125: =TEXT(B125,"mmmmmmmmmmmmmmm") -> enero
H126: =TEXT(B126,"mmmmmmmmmmmmmmm") -> enero
H127: =TEXT(B127,"mmmmmmmmmmmmmmm") -> enero
H128: =TEXT(B128,"mmmmmmmmmmmmmmm") -> enero
H129: =TEXT(B129,"mmmmmmmmmmmmmmm") -> enero
H130: =TEXT(B130,"mmmmmmmmmmmmmmm") -> enero
H131: =TEXT(B131,"mmmmmmmmmmmmmmm") -> enero
H132: =TEXT(B132,"mmmmmmmmmmmmmmm") -> enero
... H587: =TEXT(B587,"mmmmmmmmmmmmmmm") -> enero

Sheet Gastos 2019
A1: Tipo | B1: Fecha | C1: Contacto / Detalle | D1: Total | E1: Estado | F1: Mes | G1: Categoria
A2: Compra | B2: 43784 | D2: 9.99 | E2: Atrasado | F2: =TEXT(B2,"mmmmmmmmmmmmmm") -> noviembre | G2: Compras
A3: Compra | B3: 43780 | D3: 196.95 | E3: Atrasado | F3: =TEXT(B3,"mmmmmmmmmmmmmm") -> noviembre | G3: Compras
A4: Compra | B4: 43779 | D4: 91.07 | E4: Atrasado | F4: =TEXT(B4,"mmmmmmmmmmmmmm") -> noviembre | G4: Formación
A5: Compra | B5: 43779 | D5: 65 | E5: Pagado | F5: =TEXT(B5,"mmmmmmmmmmmmmm") -> noviembre | G5: Suministros
A6: Compra | B6: 43779 | D6: 127.3 | E6: Pagado | F6: =TEXT(B6,"mmmmmmmmmmmmmm") -> noviembre | G6: Servicios Profesionales
A7: Compra | B7: 43776 | D7: 180 | E7: Pagado | F7: =TEXT(B7,"mmmmmmmmmmmmmm") -> noviembre | G7: Seguros
A8: Compra | B8: 43775 | D8: 232.5 | E8: Atrasado | F8: =TEXT(B8,"mmmmmmmmmmmmmm") -> noviembre | G8: Servicios Profesionales
A9: Gasto/Tíquet | B9: 43770 | D9: 40 | E9: Pagado | F9: =TEXT(B9,"mmmmmmmmmmmmmm") -> noviembre | G9: Varios
A10: Nómina | B10: 43770 | D10: 1783.32 | E10: Pagado | F10: =TEXT(B10,"mmmmmmmmmmmmmm") -> noviembre | G10: Sueldo CEO
A11: Gasto/Tíquet | B11: 43770 | D11: 164.25 | E11: Pagado | F11: =TEXT(B11,"mmmmmmmmmmmmmm") -> noviembre | G11: Publicidad, RRSS, WEB
A12: Gasto/Tíquet | B12: 43769 | D12: 283.32 | E12: Pagado | F12: =TEXT(B12,"mmmmmmmmmmmmmm") -> octubre | G12: Formación
A13: Compra | B13: 43769 | D13: 32.73 | E13: Pagado | F13: =TEXT(B13,"mmmmmmmmmmmmmm") -> octubre | G13: Suministros
... A164: Gasto/Tíquet | B164: 43466 | D164: 40 | E164: Pagado | F164: =TEXT(B164,"mmmmmmmmmmmmmm") -> enero | G164: Suministros
F165: =TEXT(B165,"mmmmmmmmmmmmmm") -> enero
F166: =TEXT(B166,"mmmmmmmmmmmmmm") -> enero
F167: =TEXT(B167,"mmmmmmmmmmmmmm") -> enero
F168: =TEXT(B168,"mmmmmmmmmmmmmm") -> enero
F169: =TEXT(B169,"mmmmmmmmmmmmmm") -> enero
F170: =TEXT(B170,"mmmmmmmmmmmmmm") -> enero
F171: =TEXT(B171,"mmmmmmmmmmmmmm") -> enero
F172: =TEXT(B172,"mmmmmmmmmmmmmm") -> enero
F173: =TEXT(B173,"mmmmmmmmmmmmmm") -> enero
F174: =TEXT(B174,"mmmmmmmmmmmmmm") -> enero
F175: =TEXT(B175,"mmmmmmmmmmmmmm") -> enero
F176: =TEXT(B176,"mmmmmmmmmmmmmm") -> enero
... F409: =TEXT(B409,"mmmmmmmmmmmmmm") -> enero

Sheet Gastos 2020
A1: Tipo | B1: Fecha | C1: Contacto / Detalle | D1: Total | E1: Estado | F1: Mes | G1: Categoria
A2: Compra | B2: 43845 | D2: 9.99 | E2: Atrasado | F2: =TEXT(B2,"mmmmmmmmmmmmmm") -> enero | G2: Compras
A3: Compra | B3: 43846 | D3: 196.95 | E3: Atrasado | F3: =TEXT(B3,"mmmmmmmmmmmmmm") -> enero | G3: Compras
A4: Compra | B4: 43847 | D4: 91.07 | E4: Atrasado | F4: =TEXT(B4,"mmmmmmmmmmmmmm") -> enero | G4: Formación
A5: Compra | B5: 43848 | D5: 65 | E5: Pagado | F5: =TEXT(B5,"mmmmmmmmmmmmmm") -> enero | G5: Suministros
A6: Compra | B6: 43849 | D6: 127.3 | E6: Pagado | F6: =TEXT(B6,"mmmmmmmmmmmmmm") -> enero | G6: Servicios Profesionales
A7: Compra | B7: 43850 | D7: 180 | E7: Pagado | F7: =TEXT(B7,"mmmmmmmmmmmmmm") -> enero | G7: Seguros
A8: Compra | B8: 43851 | D8: 232.5 | E8: Atrasado | F8: =TEXT(B8,"mmmmmmmmmmmmmm") -> enero | G8: Servicios Profesionales
A9: Gasto/Tíquet | B9: 43852 | D9: 40 | E9: Pagado | F9: =TEXT(B9,"mmmmmmmmmmmmmm") -> enero | G9: Varios
A10: Nómina | B10: 43853 | D10: 1783.32 | E10: Pagado | F10: =TEXT(B10,"mmmmmmmmmmmmmm") -> enero | G10: Coste Personal
A11: Gasto/Tíquet | B11: 43854 | D11: 164.25 | E11: Pagado | F11: =TEXT(B11,"mmmmmmmmmmmmmm") -> enero | G11: Publicidad, RRSS, WEB
A12: Gasto/Tíquet | B12: 43855 | D12: 283.32 | E12: Pagado | F12: =TEXT(B12,"mmmmmmmmmmmmmm") -> enero | G12: Formación
A13: Compra | B13: 43856 | D13: 32.73 | E13: Pagado | F13: =TEXT(B13,"mmmmmmmmmmmmmm") -> enero | G13: Suministros
... A31: Compra | B31: 43880 | D31: 45.2 | E31: Pagado | F31: =TEXT(B31,"mmmmmmmmmmmmmm") -> febrero | G31: Servicios Profesionales
F32: =TEXT(B32,"mmmmmmmmmmmmmm") -> enero
F33: =TEXT(B33,"mmmmmmmmmmmmmm") -> enero
F34: =TEXT(B34,"mmmmmmmmmmmmmm") -> enero
F35: =TEXT(B35,"mmmmmmmmmmmmmm") -> enero
F36: =TEXT(B36,"mmmmmmmmmmmmmm") -> enero
F37: =TEXT(B37,"mmmmmmmmmmmmmm") -> enero
F38: =TEXT(B38,"mmmmmmmmmmmmmm") -> enero
F39: =TEXT(B39,"mmmmmmmmmmmmmm") -> enero
F40: =TEXT(B40,"mmmmmmmmmmmmmm") -> enero
F41: =TEXT(B41,"mmmmmmmmmmmmmm") -> enero
F42: =TEXT(B42,"mmmmmmmmmmmmmm") -> enero
F43: =TEXT(B43,"mmmmmmmmmmmmmm") -> enero
... F58: =TEXT(B58,"mmmmmmmmmmmmmm") -> enero
F59: =TEXT(B59,"mmmmmmmmmmmmm") -> enero
F60: =TEXT(B60,"mmmmmmmmmmmmm") -> enero
F61: =TEXT(B61,"mmmmmmmmmmmmm") -> enero
F62: =TEXT(B62,"mmmmmmmmmmmmm") -> enero
F63: =TEXT(B63,"mmmmmmmmmmmmm") -> enero
F64: =TEXT(B64,"mmmmmmmmmmmmm") -> enero
F65: =TEXT(B65,"mmmmmmmmmmmmm") -> enero
F66: =TEXT(B66,"mmmmmmmmmmmmm") -> enero
F67: =TEXT(B67,"mmmmmmmmmmmmm") -> enero
F68: =TEXT(B68,"mmmmmmmmmmmmm") -> enero
F69: =TEXT(B69,"mmmmmmmmmmmmm") -> enero
F70: =TEXT(B70,"mmmmmmmmmmmmm") -> enero
... F588: =TEXT(B588,"mmmmmmmmmmmmm") -> enero
