Workbook

Sheet SumaProducto
B1: =IF(Acumulados!B1<SumaProducto!B2,0,1) -> 1 | C1: =IF(Acumulados!$B$1<C2,0,1) -> 1 | D1: =IF(Acumulados!$B$1<D2,0,1) -> 1 | E1: =IF(Acumulados!$B$1<E2,0,1) -> 1 | F1: =IF(Acumulados!$B$1<F2,0,1) -> 0 | G1: =IF(Acumulados!$B$1<G2,0,1) -> 0 | H1: =IF(Acumulados!$B$1<H2,0,1) -> 0 | I1: =IF(Acumulados!$B$1<I2,0,1) -> 0 | J1: =IF(Acumulados!$B$1<J2,0,1) -> 0 | ... M1: =IF(Acumulados!$B$1<M2,0,1) -> 0
A2: Cliente | B2: 43131 | C2: 43159 | D2: 43190 | E2: 43220 | F2: 43251 | G2: 43281 | H2: 43312 | I2: 43343 | J2: 43373 | K2: 43404 | L2: 43434 | M2: 43465 | N2: Total | P2: Acumulado
A3: Cliente 1 | B3: 1000 | C3: 5000 | D3: 549 | E3: 5464 | F3: 24555 | G3: 8877 | H3: 24543 | I3: 5456 | J3: 33544 | K3: 6654 | L3: 6500 | M3: 5454 | N3: =SUM(B3:M3) -> 127596 | P3: =SUMPRODUCT($B$1:$M$1,B3:M3) -> 12013
A4: Cliente 2 | B4: 2000 | C4: 6500 | D4: 55432 | E4: 6654 | F4: 55432 | G4: 54544 | H4: 5456 | I4: 8876 | J4: 6654 | K4: 84665 | L4: 549 | M4: 6654 | N4: =SUM(B4:M4) -> 293416 | P4: =SUMPRODUCT($B$1:$M$1,B4:M4) -> 70586
A5: Cliente 3 | B5: 35000 | C5: 549 | D5: 84665 | E5: 84665 | F5: 65354 | G5: 6654 | H5: 8876 | I5: 210 | J5: 84665 | K5: 6500 | L5: 55432 | M5: 84665 | N5: =SUM(B5:M5) -> 517235 | P5: =SUMPRODUCT($B$1:$M$1,B5:M5) -> 204879
A6: Cliente 4 | B6: 6555 | C6: 55432 | D6: 5545 | E6: 35000 | F6: 549 | G6: 84665 | H6: 210 | I6: 35000 | J6: 5545 | K6: 549 | L6: 6654 | M6: 5456 | N6: =SUM(B6:M6) -> 241160 | P6: =SUMPRODUCT($B$1:$M$1,B6:M6) -> 102532
A7: Cliente 5 | B7: 15587 | C7: 65354 | D7: 2487 | E7: 6555 | F7: 55432 | G7: 33546 | H7: 5454 | I7: 5456 | J7: 5456 | K7: 55432 | L7: 84665 | M7: 8876 | N7: =SUM(B7:M7) -> 344300 | P7: =SUMPRODUCT($B$1:$M$1,B7:M7) -> 89983
A8: Cliente 6 | B8: 6654 | C8: 24543 | D8: 1000 | E8: 15587 | F8: 65354 | G8: 55432 | H8: 549 | I8: 8876 | J8: 8876 | K8: 35000 | L8: 5545 | M8: 210 | N8: =SUM(B8:M8) -> 227626 | P8: =SUMPRODUCT($B$1:$M$1,B8:M8) -> 47784
A9: Cliente 7 | B9: 84665 | C9: 5456 | D9: 24543 | E9: 549 | F9: 8876 | G9: 6656 | H9: 55432 | I9: 210 | J9: 210 | K9: 6555 | L9: 6500 | M9: 24543 | N9: =SUM(B9:M9) -> 224195 | P9: =SUMPRODUCT($B$1:$M$1,B9:M9) -> 115213
A10: Cliente 8 | B10: 5545 | C10: 8876 | D10: 5456 | E10: 55432 | F10: 210 | G10: 6654 | H10: 210 | I10: 35000 | J10: 84665 | K10: 549 | L10: 549 | M10: 5456 | N10: =SUM(B10:M10) -> 208602 | P10: =SUMPRODUCT($B$1:$M$1,B10:M10) -> 75309
A11: Cliente 9 | B11: 2487 | C11: 210 | D11: 8876 | E11: 1580 | F11: 5456 | G11: 84665 | H11: 6555 | I11: 6555 | J11: 5545 | K11: 55432 | L11: 55432 | M11: 8876 | N11: =SUM(B11:M11) -> 241669 | P11: =SUMPRODUCT($B$1:$M$1,B11:M11) -> 13153
A12: Cliente 10 | B12: 58989 | C12: 8887 | D12: 210 | E12: 25545 | F12: 8876 | G12: 5545 | H12: 15587 | I12: 15587 | J12: 2487 | K12: 54545 | L12: 54547 | M12: 210 | N12: =SUM(B12:M12) -> 251015 | P12: =SUMPRODUCT($B$1:$M$1,B12:M12) -> 93631
A13: Total Ventas | B13: =SUM(B3:B12) -> 218482 | C13: =SUM(C3:C12) -> 180807 | D13: =SUM(D3:D12) -> 188763 | E13: =SUM(E3:E12) -> 237031 | F13: =SUM(F3:F12) -> 290094 | G13: =SUM(G3:G12) -> 347238 | H13: =SUM(H3:H12) -> 122872 | I13: =SUM(I3:I12) -> 121226 | ... M13: =SUM(M3:M12) -> 150400 | N13: =SUM(B13:M13) -> 2676814 | P13: =SUMPRODUCT($B$1:$M$1,B13:M13) -> 825083

Sheet Acumulados
A1: Mes | B1: 43220
B3: Mes | C3: Acumulado
A4: Total Ventas | B4: =VLOOKUP(A4,SumaProducto!A13:M13,MATCH(Acumulados!B1,SumaProducto!A2:M2,0),0) -> 237031 | C4: =SumaProducto!P13 -> 825083

Sheet Grafico con Form Condi
A1: Mes | B1: Ventas
A2: Enero | B2: 3200000
A3: Febrero | B3: 1500000
A4: Marzo | B4: 2500000
A5: Abril | B5: 2650000
A6: Mayo | B6: 1000000
A7: Junio | B7: 150000
A8: Julio | B8: 250000
A9: Agosto | B9: 550000
A10: Septiembre | B10: 150200
A11: Octubre | B11: 800000
A12: Noviembre | B12: 900000
A13: Diciembre | B13: 3850000

Sheet Jerarquia
A1: Comercial | B1: Nº Operaciones | C1: Ventas | D1: Posición
A2: Miguel Antúnez | B2: 10 | C2: 100000 | D2: =_xlfn.RANK.EQ(C2,$C$2:$C$11,0) -> 9
A3: Javier Plaza | B3: 15 | C3: 120000 | D3: =_xlfn.RANK.EQ(C3,$C$2:$C$11,0) -> 8
A4: David Luque | B4: 25 | C4: 150000 | D4: =_xlfn.RANK.EQ(C4,$C$2:$C$11,0) -> 7
A5: Cesar Pérez | B5: 20 | C5: 75000 | D5: =_xlfn.RANK.EQ(C5,$C$2:$C$11,0) -> 10
A6: Manuel Santana | B6: 22 | C6: 180000 | D6: =_xlfn.RANK.EQ(C6,$C$2:$C$11,0) -> 6
A7: Lidia Vázquez | B7: 10 | C7: 200000 | D7: =_xlfn.RANK.EQ(C7,$C$2:$C$11,0) -> 5
A8: Maria Iglesias | B8: 12 | C8: 250000 | D8: =_xlfn.RANK.EQ(C8,$C$2:$C$11,0) -> 2
A9: Francisco Martínez | B9: 18 | C9: 300000 | D9: =_xlfn.RANK.EQ(C9,$C$2:$C$11,0) -> 1
A10: Nicole Alfaro | B10: 30 | C10: 210000 | D10: =_xlfn.RANK.EQ(C10,$C$2:$C$11,0) -> 4
A11: Wendy López | B11: 35 | C11: 215000 | D11: =_xlfn.RANK.EQ(C11,$C$2:$C$11,0) -> 3

Sheet Unir dos fechas en excel
A1: Fecha Origen | B1: Fecha Final | D1: Union de fechas
A2: 43132 | B2: 43143 | D2: =TEXT(A2,"dd/mm/aa")&"-"&TEXT(B2,"dd/mm/aa") -> 01/02/18-12/02/18
A3: 43143 | B3: 43244
A4: 43190 | B4: 43272
A5: 43244 | B5: 43336
A6: 43275 | B6: 43355

Sheet Insertar un Check
A1: Entrada Adulto | B1: 24
A2: Entrada Infantil | B2: 12
A4: Visitante | B4: Adulto | C4: Precio
A5: Miguel | B5: TRUE
A6: Paula | B6: FALSE
A7: Nicole | B7: FALSE
