Workbook

Sheet Cta Resultados
C1: 1 | D1: 1 | E1: 1 | F1: 0 | G1: 0 | H1: 0 | I1: 0 | J1: 0 | K1: 0 | L1: 0 | M1: 0 | N1: 0
B2: 2019 | C2: Enero | D2: Febrero | E2: Marzo | F2: Abril | G2: Mayo | H2: Junio | I2: Julio | J2: Agosto | K2: Septiembre | L2: Octubre | M2: Noviembre | N2: Diciembre | O2: Total
B3: Ingresos | C3: =C4 -> 11846.28 | D3: =D4 -> 25168.1 | E3: =E4 -> 36172.62 | F3: =F4 -> 0 | G3: =G4 -> 0 | H3: =H4 -> 0 | I3: =I4 -> 0 | J3: =J4 -> 0 | ... N3: =N4 -> 0 | O3: =SUM(C3:N3) -> 73187 | Q3: 600000
B4: Facturas | C4: =SUMIFS(Facturas!$D$2:$D$640,Facturas!$B$2:$B$640,'Cta Resultados'!C2) -> 11846.28 | D4: =SUMIFS(Facturas!$D$2:$D$640,Facturas!$B$2:$B$640,'Cta Resultados'!D2) -> 25168.1 | E4: =SUMIFS(Facturas!$D$2:$D$640,Facturas!$B$2:$B$640,'Cta Resultados'!E2) -> 36172.62 | F4: =SUMIFS(Facturas!$D$2:$D$640,Facturas!$B$2:$B$640,'Cta Resultados'!F2) -> 0 | G4: =SUMIFS(Facturas!$D$2:$D$640,Facturas!$B$2:$B$640,'Cta Resultados'!G2) -> 0 | H4: =SUMIFS(Facturas!$D$2:$D$640,Facturas!$B$2:$B$640,'Cta Resultados'!H2) -> 0 | I4: =SUMIFS(Facturas!$D$2:$D$640,Facturas!$B$2:$B$640,'Cta Resultados'!I2) -> 0 | J4: =SUMIFS(Facturas!$D$2:$D$640,Facturas!$B$2:$B$640,'Cta Resultados'!J2) -> 0 | ... N4: =SUMIFS(Facturas!$D$2:$D$640,Facturas!$B$2:$B$640,'Cta Resultados'!N2) -> 0 | O4: =SUM(C4:N4) -> 73187
B6: Coste Personal | C6: =C7+C8 -> 12752.045 | D6: =D7+D8 -> 12208.739 | E6: =E7+E8 -> 11813.262 | F6: =F7+F8 -> 0 | G6: =G7+G8 -> 0 | H6: =H7+H8 -> 0 | I6: =I7+I8 -> 0 | J6: =J7+J8 -> 0 | ... N6: =N7+N8 -> 0 | O6: =SUM(C6:N6) -> 36774.046
B7: Salarios | C7: =SUMIFS('Gastos personal'!$Q$2:$Q$25,'Gastos personal'!$P$2:$P$25,'Cta Resultados'!C2) -> 4752.2 | D7: =SUMIFS('Gastos personal'!$Q$2:$Q$25,'Gastos personal'!$P$2:$P$25,'Cta Resultados'!D2) -> 5061.66 | E7: =SUMIFS('Gastos personal'!$Q$2:$Q$25,'Gastos personal'!$P$2:$P$25,'Cta Resultados'!E2) -> 6298.47 | F7: =SUMIFS('Gastos personal'!$Q$2:$Q$25,'Gastos personal'!$P$2:$P$25,'Cta Resultados'!F2) -> 0 | G7: =SUMIFS('Gastos personal'!$Q$2:$Q$25,'Gastos personal'!$P$2:$P$25,'Cta Resultados'!G2) -> 0 | H7: =SUMIFS('Gastos personal'!$Q$2:$Q$25,'Gastos personal'!$P$2:$P$25,'Cta Resultados'!H2) -> 0 | I7: =SUMIFS('Gastos personal'!$Q$2:$Q$25,'Gastos personal'!$P$2:$P$25,'Cta Resultados'!I2) -> 0 | J7: =SUMIFS('Gastos personal'!$Q$2:$Q$25,'Gastos personal'!$P$2:$P$25,'Cta Resultados'!J2) -> 0 | ... N7: =SUMIFS('Gastos personal'!$Q$2:$Q$25,'Gastos personal'!$P$2:$P$25,'Cta Resultados'!N2) -> 0 | O7: =SUM(C7:N7) -> 16112.33
B8: Comerciales | C8: =Comerciales!B6 -> 7999.845 | D8: =Comerciales!C6 -> 7147.0788 | E8: =Comerciales!D6 -> 5514.792 | F8: =Comerciales!E6 -> 0 | G8: =Comerciales!F6 -> 0 | H8: =Comerciales!G6 -> 0 | I8: =Comerciales!H6 -> 0 | J8: =Comerciales!I6 -> 0 | ... N8: =Comerciales!M6 -> 0 | O8: =SUM(C8:N8) -> 20661.716
B9: Ratio Personal | C9: =C6/C3 -> 1.0764599 | D9: =D6/D3 -> 0.48508782 | E9: =E6/E3 -> 0.32658021 | F9: =F6/F3 -> #DIV/0! | G9: =G6/G3 -> #DIV/0! | H9: =H6/H3 -> #DIV/0! | I9: =I6/I3 -> #DIV/0! | J9: =J6/J3 -> #DIV/0! | ... O9: =O6/O3 -> 0.50246691
B11: Gastos Indirectos | C11: =SUM(C12:C16) -> 4908.45 | D11: =SUM(D12:D16) -> 9200.58 | E11: =SUM(E12:E16) -> 13470.255 | F11: =SUM(F12:F16) -> 0 | G11: =SUM(G12:G16) -> 0 | H11: =SUM(H12:H16) -> 0 | I11: =SUM(I12:I16) -> 0 | J11: =SUM(J12:J16) -> 0 | ... N11: =SUM(N12:N16) -> 0 | O11: =SUM(C11:N11) -> 27579.285
B12: Suministro | C12: =SUMIFS(Gastos!$D$2:$D$153,Gastos!$B$2:$B$153,'Cta Resultados'!C2,Gastos!$H$2:$H$153,'Cta Resultados'!$B$12) -> 2614.8 | D12: =SUMIFS(Gastos!$D$2:$D$153,Gastos!$B$2:$B$153,'Cta Resultados'!D2,Gastos!$H$2:$H$153,'Cta Resultados'!$B$12) -> 1686.12 | E12: =SUMIFS(Gastos!$D$2:$D$153,Gastos!$B$2:$B$153,'Cta Resultados'!E2,Gastos!$H$2:$H$153,'Cta Resultados'!$B$12) -> 2829.27 | F12: =SUMIFS(Gastos!$D$2:$D$153,Gastos!$B$2:$B$153,'Cta Resultados'!F2,Gastos!$H$2:$H$153,'Cta Resultados'!$B$12) -> 0 | G12: =SUMIFS(Gastos!$D$2:$D$153,Gastos!$B$2:$B$153,'Cta Resultados'!G2,Gastos!$H$2:$H$153,'Cta Resultados'!$B$12) -> 0 | H12: =SUMIFS(Gastos!$D$2:$D$153,Gastos!$B$2:$B$153,'Cta Resultados'!H2,Gastos!$H$2:$H$153,'Cta Resultados'!$B$12) -> 0 | I12: =SUMIFS(Gastos!$D$2:$D$153,Gastos!$B$2:$B$153,'Cta Resultados'!I2,Gastos!$H$2:$H$153,'Cta Resultados'!$B$12) -> 0 | J12: =SUMIFS(Gastos!$D$2:$D$153,Gastos!$B$2:$B$153,'Cta Resultados'!J2,Gastos!$H$2:$H$153,'Cta Resultados'!$B$12) -> 0 | ... N12: =SUMIFS(Gastos!$D$2:$D$153,Gastos!$B$2:$B$153,'Cta Resultados'!N2,Gastos!$H$2:$H$153,'Cta Resultados'!$B$12) -> 0 | O12: =SUM(C12:N12) -> 7130.19
B13: Servicios Profesionales | C13: =SUMIFS(Gastos!$D$2:$D$153,Gastos!$B$2:$B$153,'Cta Resultados'!C2,Gastos!$H$2:$H$153,'Cta Resultados'!$B$13) -> 1668.59 | D13: =SUMIFS(Gastos!$D$2:$D$153,Gastos!$B$2:$B$153,'Cta Resultados'!D2,Gastos!$H$2:$H$153,'Cta Resultados'!$B$13) -> 2297.17 | E13: =SUMIFS(Gastos!$D$2:$D$153,Gastos!$B$2:$B$153,'Cta Resultados'!E2,Gastos!$H$2:$H$153,'Cta Resultados'!$B$13) -> 3733.18 | F13: =SUMIFS(Gastos!$D$2:$D$153,Gastos!$B$2:$B$153,'Cta Resultados'!F2,Gastos!$H$2:$H$153,'Cta Resultados'!$B$13) -> 0 | G13: =SUMIFS(Gastos!$D$2:$D$153,Gastos!$B$2:$B$153,'Cta Resultados'!G2,Gastos!$H$2:$H$153,'Cta Resultados'!$B$13) -> 0 | H13: =SUMIFS(Gastos!$D$2:$D$153,Gastos!$B$2:$B$153,'Cta Resultados'!H2,Gastos!$H$2:$H$153,'Cta Resultados'!$B$13) -> 0 | I13: =SUMIFS(Gastos!$D$2:$D$153,Gastos!$B$2:$B$153,'Cta Resultados'!I2,Gastos!$H$2:$H$153,'Cta Resultados'!$B$13) -> 0 | J13: =SUMIFS(Gastos!$D$2:$D$153,Gastos!$B$2:$B$153,'Cta Resultados'!J2,Gastos!$H$2:$H$153,'Cta Resultados'!$B$13) -> 0 | ... N13: =SUMIFS(Gastos!$D$2:$D$153,Gastos!$B$2:$B$153,'Cta Resultados'!N2,Gastos!$H$2:$H$153,'Cta Resultados'!$B$13) -> 0 | O13: =SUM(C13:N13) -> 7698.94
B14: Mantenimiento | C14: =SUMIFS(Gastos!$D$2:$D$153,Gastos!$B$2:$B$153,'Cta Resultados'!C2,Gastos!$H$2:$H$153,'Cta Resultados'!$B$14) -> 525.06 | D14: =SUMIFS(Gastos!$D$2:$D$153,Gastos!$B$2:$B$153,'Cta Resultados'!D2,Gastos!$H$2:$H$153,'Cta Resultados'!$B$14) -> 3699.24 | E14: =SUMIFS(Gastos!$D$2:$D$153,Gastos!$B$2:$B$153,'Cta Resultados'!E2,Gastos!$H$2:$H$153,'Cta Resultados'!$B$14) -> 4418.035 | F14: =SUMIFS(Gastos!$D$2:$D$153,Gastos!$B$2:$B$153,'Cta Resultados'!F2,Gastos!$H$2:$H$153,'Cta Resultados'!$B$14) -> 0 | G14: =SUMIFS(Gastos!$D$2:$D$153,Gastos!$B$2:$B$153,'Cta Resultados'!G2,Gastos!$H$2:$H$153,'Cta Resultados'!$B$14) -> 0 | H14: =SUMIFS(Gastos!$D$2:$D$153,Gastos!$B$2:$B$153,'Cta Resultados'!H2,Gastos!$H$2:$H$153,'Cta Resultados'!$B$14) -> 0 | I14: =SUMIFS(Gastos!$D$2:$D$153,Gastos!$B$2:$B$153,'Cta Resultados'!I2,Gastos!$H$2:$H$153,'Cta Resultados'!$B$14) -> 0 | J14: =SUMIFS(Gastos!$D$2:$D$153,Gastos!$B$2:$B$153,'Cta Resultados'!J2,Gastos!$H$2:$H$153,'Cta Resultados'!$B$14) -> 0 | ... N14: =SUMIFS(Gastos!$D$2:$D$153,Gastos!$B$2:$B$153,'Cta Resultados'!N2,Gastos!$H$2:$H$153,'Cta Resultados'!$B$14) -> 0 | O14: =SUM(C14:N14) -> 8642.335
B15: Publicidad, RRSS, WEB | C15: =SUMIFS(Gastos!$D$2:$D$153,Gastos!$B$2:$B$153,'Cta Resultados'!C2,Gastos!$H$2:$H$153,'Cta Resultados'!$B$15) -> 100 | D15: =SUMIFS(Gastos!$D$2:$D$153,Gastos!$B$2:$B$153,'Cta Resultados'!D2,Gastos!$H$2:$H$153,'Cta Resultados'!$B$15) -> 760 | E15: =SUMIFS(Gastos!$D$2:$D$153,Gastos!$B$2:$B$153,'Cta Resultados'!E2,Gastos!$H$2:$H$153,'Cta Resultados'!$B$15) -> 2489.77 | F15: =SUMIFS(Gastos!$D$2:$D$153,Gastos!$B$2:$B$153,'Cta Resultados'!F2,Gastos!$H$2:$H$153,'Cta Resultados'!$B$15) -> 0 | G15: =SUMIFS(Gastos!$D$2:$D$153,Gastos!$B$2:$B$153,'Cta Resultados'!G2,Gastos!$H$2:$H$153,'Cta Resultados'!$B$15) -> 0 | H15: =SUMIFS(Gastos!$D$2:$D$153,Gastos!$B$2:$B$153,'Cta Resultados'!H2,Gastos!$H$2:$H$153,'Cta Resultados'!$B$15) -> 0 | I15: =SUMIFS(Gastos!$D$2:$D$153,Gastos!$B$2:$B$153,'Cta Resultados'!I2,Gastos!$H$2:$H$153,'Cta Resultados'!$B$15) -> 0 | J15: =SUMIFS(Gastos!$D$2:$D$153,Gastos!$B$2:$B$153,'Cta Resultados'!J2,Gastos!$H$2:$H$153,'Cta Resultados'!$B$15) -> 0 | ... N15: =SUMIFS(Gastos!$D$2:$D$153,Gastos!$B$2:$B$153,'Cta Resultados'!N2,Gastos!$H$2:$H$153,'Cta Resultados'!$B$15) -> 0 | O15: =SUM(C15:N15) -> 3349.77
B16: Seguros | C16: =SUMIFS(Gastos!$D$2:$D$153,Gastos!$B$2:$B$153,'Cta Resultados'!C2,Gastos!$H$2:$H$153,'Cta Resultados'!$B$16) -> 0 | D16: =SUMIFS(Gastos!$D$2:$D$153,Gastos!$B$2:$B$153,'Cta Resultados'!D2,Gastos!$H$2:$H$153,'Cta Resultados'!$B$16) -> 758.05 | E16: =SUMIFS(Gastos!$D$2:$D$153,Gastos!$B$2:$B$153,'Cta Resultados'!E2,Gastos!$H$2:$H$153,'Cta Resultados'!$B$16) -> 0 | F16: =SUMIFS(Gastos!$D$2:$D$153,Gastos!$B$2:$B$153,'Cta Resultados'!F2,Gastos!$H$2:$H$153,'Cta Resultados'!$B$16) -> 0 | G16: =SUMIFS(Gastos!$D$2:$D$153,Gastos!$B$2:$B$153,'Cta Resultados'!G2,Gastos!$H$2:$H$153,'Cta Resultados'!$B$16) -> 0 | H16: =SUMIFS(Gastos!$D$2:$D$153,Gastos!$B$2:$B$153,'Cta Resultados'!H2,Gastos!$H$2:$H$153,'Cta Resultados'!$B$16) -> 0 | I16: =SUMIFS(Gastos!$D$2:$D$153,Gastos!$B$2:$B$153,'Cta Resultados'!I2,Gastos!$H$2:$H$153,'Cta Resultados'!$B$16) -> 0 | J16: =SUMIFS(Gastos!$D$2:$D$153,Gastos!$B$2:$B$153,'Cta Resultados'!J2,Gastos!$H$2:$H$153,'Cta Resultados'!$B$16) -> 0 | ... N16: =SUMIFS(Gastos!$D$2:$D$153,Gastos!$B$2:$B$153,'Cta Resultados'!N2,Gastos!$H$2:$H$153,'Cta Resultados'!$B$16) -> 0 | O16: =SUM(C16:N16) -> 758.05
B17: Ratio gastos Indirectos | C17: =C11/C3 -> 0.41434526 | D17: =D11/D3 -> 0.36556514 | E17: =E11/E3 -> 0.37238815 | F17: =F11/F3 -> #DIV/0! | G17: =G11/G3 -> #DIV/0! | H17: =H11/H3 -> #DIV/0! | I17: =I11/I3 -> #DIV/0! | J17: =J11/J3 -> #DIV/0! | ... N17: =N11/N3 -> #DIV/0!
B19: Total Gastos | C19: =C6+C11 -> 17660.495 | D19: =D6+D11 -> 21409.319 | E19: =E6+E11 -> 25283.517 | F19: =F6+F11 -> 0 | G19: =G6+G11 -> 0 | H19: =H6+H11 -> 0 | I19: =I6+I11 -> 0 | J19: =J6+J11 -> 0 | ... N19: =N6+N11 -> 0 | O19: =SUM(C19:N19) -> 64353.331
B20: Resultado Operativo | C20: =C3-C6-C11 -> -5814.215 | D20: =D3-D6-D11 -> 3758.7812 | E20: =E3-E6-E11 -> 10889.103 | F20: =F3-F6-F11 -> 0 | G20: =G3-G6-G11 -> 0 | H20: =H3-H6-H11 -> 0 | I20: =I3-I6-I11 -> 0 | J20: =J3-J6-J11 -> 0 | ... N20: =N3-N6-N11 -> 0 | O20: =SUM(C20:N20) -> 8833.6692
C21: =C20/C3 -> -0.49080513 | D21: =D20/D3 -> 0.14934704 | E21: =E20/E3 -> 0.30103164 | F21: =F20/F3 -> #DIV/0! | G21: =G20/G3 -> #DIV/0! | H21: =H20/H3 -> #DIV/0! | I21: =I20/I3 -> #DIV/0! | J21: =J20/J3 -> #DIV/0! | ... N21: =N20/N3 -> #DIV/0!
B23: Amortizaciones | O23: =SUM(C23:N23) -> 0
B24: Gasto Extraor / Finan | C24: =SUMIFS(Gastos!$D:$D,Gastos!$B:$B,'Cta Resultados'!C2,Gastos!$H:$H,"gastos financiero") -> 1018.66 | D24: =SUMIFS(Gastos!$D:$D,Gastos!$B:$B,'Cta Resultados'!D2,Gastos!$H:$H,"gastos financiero") -> 955.66 | E24: =SUMIFS(Gastos!$D:$D,Gastos!$B:$B,'Cta Resultados'!E2,Gastos!$H:$H,"gastos financiero") -> 1846.39 | F24: =SUMIFS(Gastos!$D:$D,Gastos!$B:$B,'Cta Resultados'!F2,Gastos!$H:$H,"gastos financiero") -> 0 | G24: =SUMIFS(Gastos!$D:$D,Gastos!$B:$B,'Cta Resultados'!G2,Gastos!$H:$H,"gastos financiero") -> 0 | H24: =SUMIFS(Gastos!$D:$D,Gastos!$B:$B,'Cta Resultados'!H2,Gastos!$H:$H,"gastos financiero") -> 0 | I24: =SUMIFS(Gastos!$D:$D,Gastos!$B:$B,'Cta Resultados'!I2,Gastos!$H:$H,"gastos financiero") -> 0 | J24: =SUMIFS(Gastos!$D:$D,Gastos!$B:$B,'Cta Resultados'!J2,Gastos!$H:$H,"gastos financiero") -> 0 | ... N24: =SUMIFS(Gastos!$D:$D,Gastos!$B:$B,'Cta Resultados'!N2,Gastos!$H:$H,"gastos financiero") -> 0 | O24: =SUM(C24:N24) -> 3820.71
B25: Resultado de Explotación | C25: =C20-C23-C24 -> -6832.875 | D25: =D20-D23-D24 -> 2803.1212 | E25: =E20-E23-E24 -> 9042.713 | F25: =F20-F23-F24 -> 0 | G25: =G20-G23-G24 -> 0 | H25: =H20-H23-H24 -> 0 | I25: =I20-I23-I24 -> 0 | J25: =J20-J23-J24 -> 0 | ... N25: =N20-N23-N24 -> 0 | O25: =SUM(C25:N25) -> 5012.9592
B27: Resultado Neto antes de I.S. | C27: =C25 -> -6832.875 | D27: =D25 -> 2803.1212 | E27: =E25 -> 9042.713 | F27: =F25 -> 0 | G27: =G25 -> 0 | H27: =H25 -> 0 | I27: =I25 -> 0 | J27: =J25 -> 0 | ... N27: =N25 -> 0 | O27: =SUM(C27:N27) -> 5012.9592
C28: =C27/C3 -> -0.57679499 | D28: =D27/D3 -> 0.11137595 | E28: =E27/E3 -> 0.24998778 | F28: =F27/F3 -> #DIV/0! | G28: =G27/G3 -> #DIV/0! | H28: =H27/H3 -> #DIV/0! | I28: =I27/I3 -> #DIV/0! | J28: =J27/J3 -> #DIV/0! | ... O28: =O27/O3 -> 0.068495213

Sheet Cuenta resultados nueva
B1: 1 | C1: 1 | D1: 0 | E1: 0 | F1: 0 | G1: 0 | H1: 0 | I1: 0 | J1: 0 | K1: 0 | L1: 0 | M1: 0
A2: 2019 | B2: Enero | C2: Febrero | D2: Marzo | E2: Abril | F2: Mayo | G2: Junio | H2: Julio | I2: Agosto | J2: Septiembre | K2: Octubre | L2: Noviembre | M2: Diciembre | N2: Total | P2: ACUMULADO
A3: Ingresos | B3: =B4 -> 14334 | C3: =C4 -> 30453.39 | D3: =D4 -> 43768.87 | E3: =E4 -> 0 | F3: =F4 -> 0 | G3: =G4 -> 0 | H3: =H4 -> 0 | I3: =I4 -> 0 | ... M3: =M4 -> 0 | N3: =SUM(B3:M3) -> 88556.26 | P3: =SUMPRODUCT($B$1:$M$1,B3:M3) -> 44787.39
A4: Facturas | B4: =SUMIFS(Facturas!$F:$F,Facturas!$B:$B,'Cuenta resultados nueva'!B2) -> 14334 | C4: =SUMIFS(Facturas!$F:$F,Facturas!$B:$B,'Cuenta resultados nueva'!C2) -> 30453.39 | D4: =SUMIFS(Facturas!$F:$F,Facturas!$B:$B,'Cuenta resultados nueva'!D2) -> 43768.87 | E4: =SUMIFS(Facturas!$F:$F,Facturas!$B:$B,'Cuenta resultados nueva'!E2) -> 0 | F4: =SUMIFS(Facturas!$F:$F,Facturas!$B:$B,'Cuenta resultados nueva'!F2) -> 0 | G4: =SUMIFS(Facturas!$F:$F,Facturas!$B:$B,'Cuenta resultados nueva'!G2) -> 0 | H4: =SUMIFS(Facturas!$F:$F,Facturas!$B:$B,'Cuenta resultados nueva'!H2) -> 0 | I4: =SUMIFS(Facturas!$F:$F,Facturas!$B:$B,'Cuenta resultados nueva'!I2) -> 0 | ... M4: =SUMIFS(Facturas!$F:$F,Facturas!$B:$B,'Cuenta resultados nueva'!M2) -> 0 | N4: =SUM(B4:M4) -> 88556.26 | P4: =SUMPRODUCT($B$1:$M$1,B4:M4) -> 44787.39
A6: Coste Personal | B6: =SUM(B7:B8) -> 12752.045 | C6: =SUM(C7:C8) -> 12208.739 | D6: =SUM(D7:D8) -> 11813.262 | E6: =SUM(E7:E8) -> 0 | F6: =SUM(F7:F8) -> 0 | G6: =SUM(G7:G8) -> 0 | H6: =SUM(H7:H8) -> 0 | I6: =SUM(I7:I8) -> 0 | ... M6: =SUM(M7:M8) -> 0 | N6: =SUM(B6:M6) -> 36774.046 | P6: =SUMPRODUCT($B$1:$M$1,B6:M6) -> 24960.784
A7: Salarios | B7: =SUMIFS('Gastos personal'!$Q:$Q,'Gastos personal'!$P:$P,'Cuenta resultados nueva'!B2) -> 4752.2 | C7: =SUMIFS('Gastos personal'!$Q:$Q,'Gastos personal'!$P:$P,'Cuenta resultados nueva'!C2) -> 5061.66 | D7: =SUMIFS('Gastos personal'!$Q:$Q,'Gastos personal'!$P:$P,'Cuenta resultados nueva'!D2) -> 6298.47 | E7: =SUMIFS('Gastos personal'!$Q:$Q,'Gastos personal'!$P:$P,'Cuenta resultados nueva'!E2) -> 0 | F7: =SUMIFS('Gastos personal'!$Q:$Q,'Gastos personal'!$P:$P,'Cuenta resultados nueva'!F2) -> 0 | G7: =SUMIFS('Gastos personal'!$Q:$Q,'Gastos personal'!$P:$P,'Cuenta resultados nueva'!G2) -> 0 | H7: =SUMIFS('Gastos personal'!$Q:$Q,'Gastos personal'!$P:$P,'Cuenta resultados nueva'!H2) -> 0 | I7: =SUMIFS('Gastos personal'!$Q:$Q,'Gastos personal'!$P:$P,'Cuenta resultados nueva'!I2) -> 0 | ... M7: =SUMIFS('Gastos personal'!$Q:$Q,'Gastos personal'!$P:$P,'Cuenta resultados nueva'!M2) -> 0 | N7: =SUM(B7:M7) -> 16112.33 | P7: =SUMPRODUCT($B$1:$M$1,B7:M7) -> 9813.86
A8: Comerciales | B8: =Comerciales!B6 -> 7999.845 | C8: =Comerciales!C6 -> 7147.0788 | D8: =Comerciales!D6 -> 5514.792 | E8: =Comerciales!E6 -> 0 | F8: =Comerciales!F6 -> 0 | G8: =Comerciales!G6 -> 0 | H8: =Comerciales!H6 -> 0 | I8: =Comerciales!I6 -> 0 | ... M8: =Comerciales!M6 -> 0 | N8: =SUM(B8:M8) -> 20661.716 | P8: =SUMPRODUCT($B$1:$M$1,B8:M8) -> 15146.924
A9: Ratio Personal | B9: =IFERROR(B6/B3,"") -> 0.88963618 | C9: =IFERROR(C6/C3,"") -> 0.40089917 | D9: =IFERROR(D6/D3,"") -> 0.269901 | E9: =IFERROR(E6/E3,"") | F9: =IFERROR(F6/F3,"") | G9: =IFERROR(G6/G3,"") | H9: =IFERROR(H6/H3,"") | I9: =IFERROR(I6/I3,"") | ... M9: =IFERROR(M6/M3,"")
A11: Gastos Indirectos | B11: =SUM(B12:B16) -> 5855.29 | C11: =SUM(C12:C16) -> 9915.92 | D11: =SUM(D12:D16) -> 9248.88 | E11: =SUM(E12:E16) -> 0 | F11: =SUM(F12:F16) -> 0 | G11: =SUM(G12:G16) -> 0 | H11: =SUM(H12:H16) -> 0 | I11: =SUM(I12:I16) -> 0 | ... M11: =SUM(M12:M16) -> 0 | N11: =SUM(B11:M11) -> 25020.09 | P11: =SUMPRODUCT($B$1:$M$1,B11:M11) -> 15771.21
A12: Suministro | B12: =SUMIFS(Gastos!$G:$G,Gastos!$H:$H,'Cuenta resultados nueva'!$A$12,Gastos!$B:$B,'Cuenta resultados nueva'!B2) -> 3088.55 | C12: =SUMIFS(Gastos!$G:$G,Gastos!$H:$H,'Cuenta resultados nueva'!$A$12,Gastos!$B:$B,'Cuenta resultados nueva'!C2) -> 2038.71 | D12: =SUMIFS(Gastos!$G:$G,Gastos!$H:$H,'Cuenta resultados nueva'!$A$12,Gastos!$B:$B,'Cuenta resultados nueva'!D2) -> 2910.65 | E12: =SUMIFS(Gastos!$G:$G,Gastos!$H:$H,'Cuenta resultados nueva'!$A$12,Gastos!$B:$B,'Cuenta resultados nueva'!E2) -> 0 | F12: =SUMIFS(Gastos!$G:$G,Gastos!$H:$H,'Cuenta resultados nueva'!$A$12,Gastos!$B:$B,'Cuenta resultados nueva'!F2) -> 0 | G12: =SUMIFS(Gastos!$G:$G,Gastos!$H:$H,'Cuenta resultados nueva'!$A$12,Gastos!$B:$B,'Cuenta resultados nueva'!G2) -> 0 | H12: =SUMIFS(Gastos!$G:$G,Gastos!$H:$H,'Cuenta resultados nueva'!$A$12,Gastos!$B:$B,'Cuenta resultados nueva'!H2) -> 0 | I12: =SUMIFS(Gastos!$G:$G,Gastos!$H:$H,'Cuenta resultados nueva'!$A$12,Gastos!$B:$B,'Cuenta resultados nueva'!I2) -> 0 | ... M12: =SUMIFS(Gastos!$G:$G,Gastos!$H:$H,'Cuenta resultados nueva'!$A$12,Gastos!$B:$B,'Cuenta resultados nueva'!M2) -> 0 | N12: =SUM(B12:M12) -> 8037.91 | P12: =SUMPRODUCT($B$1:$M$1,B12:M12) -> 5127.26
A13: Servicios Profesionales | B13: =SUMIFS(Gastos!$G:$G,Gastos!$H:$H,'Cuenta resultados nueva'!$A$13,Gastos!$B:$B,'Cuenta resultados nueva'!B2) -> 2017.35 | C13: =SUMIFS(Gastos!$G:$G,Gastos!$H:$H,'Cuenta resultados nueva'!$A$13,Gastos!$B:$B,'Cuenta resultados nueva'!C2) -> 2728.92 | D13: =SUMIFS(Gastos!$G:$G,Gastos!$H:$H,'Cuenta resultados nueva'!$A$13,Gastos!$B:$B,'Cuenta resultados nueva'!D2) -> 4517.16 | E13: =SUMIFS(Gastos!$G:$G,Gastos!$H:$H,'Cuenta resultados nueva'!$A$13,Gastos!$B:$B,'Cuenta resultados nueva'!E2) -> 0 | F13: =SUMIFS(Gastos!$G:$G,Gastos!$H:$H,'Cuenta resultados nueva'!$A$13,Gastos!$B:$B,'Cuenta resultados nueva'!F2) -> 0 | G13: =SUMIFS(Gastos!$G:$G,Gastos!$H:$H,'Cuenta resultados nueva'!$A$13,Gastos!$B:$B,'Cuenta resultados nueva'!G2) -> 0 | H13: =SUMIFS(Gastos!$G:$G,Gastos!$H:$H,'Cuenta resultados nueva'!$A$13,Gastos!$B:$B,'Cuenta resultados nueva'!H2) -> 0 | I13: =SUMIFS(Gastos!$G:$G,Gastos!$H:$H,'Cuenta resultados nueva'!$A$13,Gastos!$B:$B,'Cuenta resultados nueva'!I2) -> 0 | ... M13: =SUMIFS(Gastos!$G:$G,Gastos!$H:$H,'Cuenta resultados nueva'!$A$13,Gastos!$B:$B,'Cuenta resultados nueva'!M2) -> 0 | N13: =SUM(B13:M13) -> 9263.43 | P13: =SUMPRODUCT($B$1:$M$1,B13:M13) -> 4746.27
A14: Mantenimiento | B14: =SUMIFS(Gastos!$G:$G,Gastos!$H:$H,'Cuenta resultados nueva'!$A$14,Gastos!$B:$B,'Cuenta resultados nueva'!B2) -> 628.39 | C14: =SUMIFS(Gastos!$G:$G,Gastos!$H:$H,'Cuenta resultados nueva'!$A$14,Gastos!$B:$B,'Cuenta resultados nueva'!C2) -> 4228.69 | D14: =SUMIFS(Gastos!$G:$G,Gastos!$H:$H,'Cuenta resultados nueva'!$A$14,Gastos!$B:$B,'Cuenta resultados nueva'!D2) -> 701.82 | E14: =SUMIFS(Gastos!$G:$G,Gastos!$H:$H,'Cuenta resultados nueva'!$A$14,Gastos!$B:$B,'Cuenta resultados nueva'!E2) -> 0 | F14: =SUMIFS(Gastos!$G:$G,Gastos!$H:$H,'Cuenta resultados nueva'!$A$14,Gastos!$B:$B,'Cuenta resultados nueva'!F2) -> 0 | G14: =SUMIFS(Gastos!$G:$G,Gastos!$H:$H,'Cuenta resultados nueva'!$A$14,Gastos!$B:$B,'Cuenta resultados nueva'!G2) -> 0 | H14: =SUMIFS(Gastos!$G:$G,Gastos!$H:$H,'Cuenta resultados nueva'!$A$14,Gastos!$B:$B,'Cuenta resultados nueva'!H2) -> 0 | I14: =SUMIFS(Gastos!$G:$G,Gastos!$H:$H,'Cuenta resultados nueva'!$A$14,Gastos!$B:$B,'Cuenta resultados nueva'!I2) -> 0 | ... M14: =SUMIFS(Gastos!$G:$G,Gastos!$H:$H,'Cuenta resultados nueva'!$A$14,Gastos!$B:$B,'Cuenta resultados nueva'!M2) -> 0 | N14: =SUM(B14:M14) -> 5558.9 | P14: =SUMPRODUCT($B$1:$M$1,B14:M14) -> 4857.08
A15: Publicidad, RRSS, WEB | B15: =SUMIFS(Gastos!$G:$G,Gastos!$H:$H,'Cuenta resultados nueva'!$A$15,Gastos!$B:$B,'Cuenta resultados nueva'!B2) -> 121 | C15: =SUMIFS(Gastos!$G:$G,Gastos!$H:$H,'Cuenta resultados nueva'!$A$15,Gastos!$B:$B,'Cuenta resultados nueva'!C2) -> 919.6 | D15: =SUMIFS(Gastos!$G:$G,Gastos!$H:$H,'Cuenta resultados nueva'!$A$15,Gastos!$B:$B,'Cuenta resultados nueva'!D2) -> 1119.25 | E15: =SUMIFS(Gastos!$G:$G,Gastos!$H:$H,'Cuenta resultados nueva'!$A$15,Gastos!$B:$B,'Cuenta resultados nueva'!E2) -> 0 | F15: =SUMIFS(Gastos!$G:$G,Gastos!$H:$H,'Cuenta resultados nueva'!$A$15,Gastos!$B:$B,'Cuenta resultados nueva'!F2) -> 0 | G15: =SUMIFS(Gastos!$G:$G,Gastos!$H:$H,'Cuenta resultados nueva'!$A$15,Gastos!$B:$B,'Cuenta resultados nueva'!G2) -> 0 | H15: =SUMIFS(Gastos!$G:$G,Gastos!$H:$H,'Cuenta resultados nueva'!$A$15,Gastos!$B:$B,'Cuenta resultados nueva'!H2) -> 0 | I15: =SUMIFS(Gastos!$G:$G,Gastos!$H:$H,'Cuenta resultados nueva'!$A$15,Gastos!$B:$B,'Cuenta resultados nueva'!I2) -> 0 | ... M15: =SUMIFS(Gastos!$G:$G,Gastos!$H:$H,'Cuenta resultados nueva'!$A$15,Gastos!$B:$B,'Cuenta resultados nueva'!M2) -> 0 | N15: =SUM(B15:M15) -> 2159.85 | P15: =SUMPRODUCT($B$1:$M$1,B15:M15) -> 1040.6
A16: Seguros | B16: =SUMIFS(Gastos!$G:$G,Gastos!$H:$H,'Cuenta resultados nueva'!$A$16,Gastos!$B:$B,'Cuenta resultados nueva'!B2) -> 0 | C16: =SUMIFS(Gastos!$G:$G,Gastos!$H:$H,'Cuenta resultados nueva'!$A$16,Gastos!$B:$B,'Cuenta resultados nueva'!C2) -> 0 | D16: =SUMIFS(Gastos!$G:$G,Gastos!$H:$H,'Cuenta resultados nueva'!$A$16,Gastos!$B:$B,'Cuenta resultados nueva'!D2) -> 0 | E16: =SUMIFS(Gastos!$G:$G,Gastos!$H:$H,'Cuenta resultados nueva'!$A$16,Gastos!$B:$B,'Cuenta resultados nueva'!E2) -> 0 | F16: =SUMIFS(Gastos!$G:$G,Gastos!$H:$H,'Cuenta resultados nueva'!$A$16,Gastos!$B:$B,'Cuenta resultados nueva'!F2) -> 0 | G16: =SUMIFS(Gastos!$G:$G,Gastos!$H:$H,'Cuenta resultados nueva'!$A$16,Gastos!$B:$B,'Cuenta resultados nueva'!G2) -> 0 | H16: =SUMIFS(Gastos!$G:$G,Gastos!$H:$H,'Cuenta resultados nueva'!$A$16,Gastos!$B:$B,'Cuenta resultados nueva'!H2) -> 0 | I16: =SUMIFS(Gastos!$G:$G,Gastos!$H:$H,'Cuenta resultados nueva'!$A$16,Gastos!$B:$B,'Cuenta resultados nueva'!I2) -> 0 | ... M16: =SUMIFS(Gastos!$G:$G,Gastos!$H:$H,'Cuenta resultados nueva'!$A$16,Gastos!$B:$B,'Cuenta resultados nueva'!M2) -> 0 | N16: =SUM(B16:M16) -> 0 | P16: =SUMPRODUCT($B$1:$M$1,B16:M16) -> 0
A17: Ratio gastos Indirectos | B17: =IFERROR(B11/B3,"") -> 0.40848961 | C17: =IFERROR(C11/C3,"") -> 0.32560973 | D17: =IFERROR(D11/D3,"") -> 0.21131183 | E17: =IFERROR(E11/E3,"") | F17: =IFERROR(F11/F3,"") | G17: =IFERROR(G11/G3,"") | H17: =IFERROR(H11/H3,"") | I17: =IFERROR(I11/I3,"") | ... M17: =IFERROR(M11/M3,"")
A19: Total Gastos | B19: =B11+B6 -> 18607.335 | C19: =C11+C6 -> 22124.659 | D19: =D11+D6 -> 21062.142 | E19: =E11+E6 -> 0 | F19: =F11+F6 -> 0 | G19: =G11+G6 -> 0 | H19: =H11+H6 -> 0 | I19: =I11+I6 -> 0 | ... M19: =M11+M6 -> 0 | N19: =SUM(B19:M19) -> 61794.136 | P19: =SUMPRODUCT($B$1:$M$1,B19:M19) -> 40731.994
A20: Resultado Operativo | B20: =B3-B19 -> -4273.335 | C20: =C3-C19 -> 8328.7312 | D20: =D3-D19 -> 22706.728 | E20: =E3-E19 -> 0 | F20: =F3-F19 -> 0 | G20: =G3-G19 -> 0 | H20: =H3-H19 -> 0 | I20: =I3-I19 -> 0 | ... M20: =M3-M19 -> 0 | N20: =SUM(B20:M20) -> 26762.124 | P20: =SUMPRODUCT($B$1:$M$1,B20:M20) -> 4055.3962
A23: Amortizaciones | N23: =SUM(B23:M23) -> 0 | P23: =SUMPRODUCT($B$1:$M$1,B23:M23) -> 0
A24: Gasto Extraor / Finan | N24: =SUM(B24:M24) -> 0 | P24: =SUMPRODUCT($B$1:$M$1,B24:M24) -> 0
A25: Resultado de Explotación | B25: =B20 -> -4273.335 | C25: =C20 -> 8328.7312 | D25: =D20 -> 22706.728 | E25: =E20 -> 0 | F25: =F20 -> 0 | G25: =G20 -> 0 | H25: =H20 -> 0 | I25: =I20 -> 0 | ... M25: =M20 -> 0 | N25: =SUM(B25:M25) -> 26762.124 | P25: =SUMPRODUCT($B$1:$M$1,B25:M25) -> 4055.3962
A27: Resultado Neto antes de I.S. | B27: =B25 -> -4273.335 | C27: =C25 -> 8328.7312 | D27: =D25 -> 22706.728 | E27: =E25 -> 0 | F27: =F25 -> 0 | G27: =G25 -> 0 | H27: =H25 -> 0 | I27: =I25 -> 0 | ... M27: =M25 -> 0 | N27: =SUM(B27:M27) -> 26762.124 | P27: =SUMPRODUCT($B$1:$M$1,B27:M27) -> 4055.3962
B28: =IFERROR(B27/B3,"") -> -0.29812578 | C28: =IFERROR(C27/C3,"") -> 0.2734911 | D28: =IFERROR(D27/D3,"") -> 0.51878717 | E28: =IFERROR(E27/E3,"") | F28: =IFERROR(F27/F3,"") | G28: =IFERROR(G27/G3,"") | H28: =IFERROR(H27/H3,"") | I28: =IFERROR(I27/I3,"") | ... M28: =IFERROR(M27/M3,"")

Sheet Facturas
A1: Serie factura | B1: Fecha factura | C1: Nombre receptor | D1: Total base imponible | E1: Total IVA | F1: Total
A2: M | B2: Enero | D2: 100 | E2: 21 | F2: =D2+E2 -> 121
A3: M | B3: Enero | D3: 150 | E3: 31.5 | F3: =D3+E3 -> 181.5
A4: M | B4: Enero | D4: 100 | E4: 21 | F4: =D4+E4 -> 121
A5: M | B5: Enero | D5: 80 | E5: 16.8 | F5: =D5+E5 -> 96.8
A6: M | B6: Enero | D6: 150 | E6: 31.5 | F6: =D6+E6 -> 181.5
A7: M | B7: Enero | D7: 100 | E7: 21 | F7: =D7+E7 -> 121
A8: M | B8: Enero | D8: 150 | E8: 31.5 | F8: =D8+E8 -> 181.5
A9: M | B9: Enero | D9: 150 | E9: 31.5 | F9: =D9+E9 -> 181.5
A10: M | B10: Enero | D10: 150 | E10: 31.5 | F10: =D10+E10 -> 181.5
A11: M | B11: Enero | D11: 150 | E11: 31.5 | F11: =D11+E11 -> 181.5
A12: M | B12: Enero | D12: 80 | E12: 16.8 | F12: =D12+E12 -> 96.8
A13: A | B13: Enero | D13: 150 | E13: 31.5 | F13: =D13+E13 -> 181.5
... A211: M | B211: Marzo | D211: 1295.1 | E211: 271.97 | F211: =D211+E211 -> 1567.07

Sheet Gastos personal
A1: TRABAJADOR | B1: BRUTO | C1: DED. S.SOC | D1: IRPF | E1: LIQUIDO | F1: CSTE EMPRE | G1: PR. P. EXT | H1: RET. ESPEC | I1: BON APREND | J1: DTO ESPECI | K1: I.I. CTA | L1: ANTI/EMBAR | M1: BONIFICACI | N1: ILT | O1: COMPL ILT | P1: Mes | Q1: Importe
F2: 26.53 | M2: 238.78 | P2: Enero | Q2: =B2+F2 -> 26.53
B3: 488.97 | C3: -31.05 | E3: 457.92 | F3: 151.09 | M3: 132.65 | P3: Febrero | Q3: =B3+F3 -> 640.06
B4: 977.92 | C4: -62.1 | E4: 915.82 | F4: 302.18 | P4: Marzo | Q4: =B4+F4 -> 1280.1
B5: 1027.41 | C5: -65.24 | E5: 962.17 | F5: 321.06 | P5: Enero | Q5: =B5+F5 -> 1348.47
B6: 1027.41 | C6: -65.24 | E6: 962.17 | F6: 321.06 | P6: Febrero | Q6: =B6+F6 -> 1348.47
B7: 1027.41 | C7: -65.24 | E7: 962.17 | F7: 321.06 | P7: Marzo | Q7: =B7+F7 -> 1348.47
B8: 901.08 | C8: -57.22 | D8: -18.02 | E8: 825.84 | F8: 0.01 | M8: 281.59 | P8: Enero | Q8: =B8+F8 -> 901.09
B9: 450.54 | C9: -28.84 | D9: -9.01 | E9: 412.69 | F9: 146.18 | P9: Febrero | Q9: =B9+F9 -> 596.72
B10: 901.08 | C10: -57.67 | D10: -18.02 | E10: 825.39 | F10: 292.41 | P10: Marzo | Q10: =B10+F10 -> 1193.49
B11: 1886.56 | C11: -119.8 | D11: -266.76 | E11: 1500 | F11: 589.55 | P11: Enero | Q11: =B11+F11 -> 2476.11
B12: 1886.8 | C12: -119.82 | D12: -266.98 | E12: 1500 | F12: 589.61 | P12: Febrero | Q12: =B12+F12 -> 2476.41
B13: 1886.8 | C13: -119.82 | D13: -266.98 | E13: 1500 | F13: 589.61 | P13: Marzo | Q13: =B13+F13 -> 2476.41
Q14: =B14+F14 -> 0
Q15: =B15+F15 -> 0
Q16: =B16+F16 -> 0
Q17: =B17+F17 -> 0
Q18: =B18+F18 -> 0
Q19: =B19+F19 -> 0
Q20: =B20+F20 -> 0
Q21: =B21+F21 -> 0
Q22: =B22+F22 -> 0
Q23: =B23+F23 -> 0
Q24: =B24+F24 -> 0
Q25: =B25+F25 -> 0

Sheet Comerciales
B1: ENERO | C1: FEBRERO | D1: MARZO | E1: ABRIL | F1: MAYO | G1: JUNIO | H1: JULIO | I1: AGOSTO | J1: SEPTIEMBRE | K1: OCTUBRE | L1: NOVIEMBRE | M1: DICIEMBRE | N1: TOTAL 2019
A2: Comercial 1 | B2: 650.5 | C2: 3640.65 | D2: 1962.35 | N2: 16468.27
A3: Comercial 2 | B3: 1775.1675 | C3: 670.499 | D3: 264.5 | N3: 15418.346
A4: Comercial 3 | B4: 1845.534 | C4: 759.85784 | D4: 1575.692 | N4: 17938.458
A5: Comercial 4 | B5: 3728.6435 | C5: 2076.072 | D5: 1712.25 | N5: 24886.595
B6: =SUM(B2:B5) -> 7999.845 | C6: =SUM(C2:C5) -> 7147.0788 | D6: =SUM(D2:D5) -> 5514.792 | N6: =SUM(N2:N5) -> 74711.669

Sheet Gastos
A1: Num factura | B1: Fecha factura | C1: Nombre ( Proveedores ) | D1: Base imponible | E1: Total IRPF | F1: Total IVA | G1: Total | H1: Grupo
B2: Marzo | D2: 41.32 | E2: 0 | F2: 8.68 | G2: 50 | H2: Suministro
B3: Enero | D3: 40.5 | E3: 0 | F3: 8.51 | G3: 49.01 | H3: Servicios Profesionales
B4: Marzo | D4: 28.31 | E4: 0 | F4: 5.95 | G4: 34.26 | H4: Suministro
B5: Enero | D5: 39.72 | E5: 0 | F5: 8.34 | G5: 48.06 | H5: Suministro
B6: Febrero | D6: 39.72 | E6: 0 | F6: 8.34 | G6: 48.06 | H6: Suministro
B7: Marzo | D7: 39.6 | E7: 0 | F7: 8.32 | G7: 47.92 | H7: Suministro
B8: Febrero | D8: 175 | E8: 12.25 | F8: 0 | G8: 162.75 | H8: Servicios Profesionales
B9: Enero | D9: 724.28 | E9: 0 | F9: 152.1 | G9: 876.38 | H9: Suministro
B10: Febrero | D10: 366.16 | E10: 0 | F10: 76.89 | G10: 443.05 | H10: Suministro
B11: Marzo | D11: 362.23 | E11: 0 | F11: 76.07 | G11: 438.3 | H11: Suministro
B12: Enero | D12: 54.6 | E12: 0 | F12: 11.47 | G12: 66.07 | H12: Servicios Profesionales
B13: Enero | D13: 48 | E13: 0 | F13: 10.08 | G13: 58.08 | H13: Servicios Profesionales
... B116: Marzo | D116: 102.25 | E116: 0 | F116: 0 | G116: 0 | H116: Suministro
B117: Marzo | D117: =95.63+98.87 -> 194.5 | E117: 0 | F117: 0 | G117: 0 | H117: Suministro
B118: Marzo | D118: =85.5*2*2 -> 342 | E118: 0 | F118: 0 | G118: 0 | H118: Mantenimiento
B119: Marzo | D119: =85.5*3*2 -> 513 | E119: 0 | F119: 0 | G119: 0 | H119: Mantenimiento
B120: Marzo | D120: =2236.33/2 -> 1118.165 | E120: 0 | F120: 0 | G120: 0 | H120: Mantenimiento
B121: Marzo | D121: 914.77 | E121: 0 | F121: 0 | G121: 0 | H121: Publicidad, RRSS, WEB
B122: Marzo | D122: 123.56 | E122: 0 | F122: 0 | G122: 0 | H122: Suministro
B123: Marzo | D123: 535.23 | E123: 0 | F123: 0 | G123: 0 | H123: Mantenimiento
B124: Marzo | D124: 410 | E124: 0 | F124: 0 | G124: 0 | H124: Mantenimiento
B125: Marzo | D125: 650 | E125: 0 | F125: 0 | G125: 0 | H125: Publicidad, RRSS, WEB
B126: Marzo | D126: 600 | E126: 0 | F126: 0 | G126: 0 | H126: Mantenimiento
B127: Marzo | D127: 55.99 | E127: 0 | F127: 11.99 | G127: 69.09 | H127: Suministro
B128: Marzo | D128: 56 | E128: 0 | F128: 6.22 | G128: 62.22 | H128: Suministro
B129: Marzo | D129: 61.98 | E129: 0 | F129: 13.02 | G129: 75 | H129: Suministro
B130: Marzo | D130: 60.59 | E130: 0 | F130: 12.72 | G130: 73.31 | H130: Suministro
B131: Marzo | D131: =18*1+1.35+90.45 -> 109.8 | E131: 0 | F131: 0 | G131: 0 | H131: Gastos Financiero
B132: Enero | D132: =955.66 -> 955.66 | E132: 0 | F132: 0 | G132: 0 | H132: Gastos Financiero
B133: Febrero | D133: =955.66 -> 955.66 | E133: 0 | F133: 0 | G133: 0 | H133: Gastos Financiero
B134: Marzo | D134: =955.66 -> 955.66 | E134: 0 | F134: 0 | G134: 0 | H134: Gastos Financiero
B135: Marzo | D135: =9*1.5 -> 13.5 | E135: 0 | F135: 0 | G135: 0 | H135: Gastos Financiero
B136: Marzo | D136: =20*24 -> 480 | E136: 0 | F136: 0 | G136: 0 | H136: Gastos Financiero
B137: Marzo | D137: =10+10+10.4+11*0.6+10+16*0.6 -> 56.6 | E137: 0 | F137: 0 | G137: 0 | H137: Gastos Financiero
B138: Marzo | D138: 825 | E138: 0 | F138: 173.25 | G138: =F138+D138 -> 998.25 | H138: Publicidad, RRSS, WEB
B139: Enero | D139: 60.72 | E139: 0 | F139: 0 | G139: 0 | H139: Gastos Financiero
B140: Febrero | D140: 558.1 | E140: 0 | F140: 0 | G140: 0 | H140: Seguros
B141: Febrero | D141: 199.95 | E141: 0 | F141: 0 | G141: 0 | H141: Seguros
B142: Enero | D142: 2.28 | E142: 0 | F142: 0 | G142: 0 | H142: Gastos Financiero
...
