Workbook

Sheet Base Datos
D1: =IF('Nuevo Dashboard'!$E$8="Enero",1,IF('Nuevo Dashboard'!$E$8="Febrero",1,IF('Nuevo Dashboard'!$E$8="Marzo",1,IF('Nuevo Dashboard'!$E$8="Abril",1,IF('Nuevo Dashboard'!$E$8="Mayo",1,IF('Nuevo Dashboard'!$E$8="Junio",1,IF('Nuevo Dashboard'!$E$8="Julio",1,IF('Nuevo Dashboard'!$E$8="Agosto",1,IF('Nuevo Dashboard'!$E$8="Septiembre",1,IF('Nuevo Dashboard'!$E$8="Octubre",1,IF('Nuevo Dashboard'!$E$8="Noviembre",1,IF('Nuevo Dashboard'!$E$8="Diciembre",1,0)))))))))))) -> 1 | E1: =IF('Nuevo Dashboard'!$E$8="Febrero",1,IF('Nuevo Dashboard'!$E$8="Marzo",1,IF('Nuevo Dashboard'!$E$8="Abril",1,IF('Nuevo Dashboard'!$E$8="Mayo",1,IF('Nuevo Dashboard'!$E$8="Junio",1,IF('Nuevo Dashboard'!$E$8="Julio",1,IF('Nuevo Dashboard'!$E$8="Agosto",1,IF('Nuevo Dashboard'!$E$8="Septiembre",1,IF('Nuevo Dashboard'!$E$8="Octubre",1,IF('Nuevo Dashboard'!$E$8="Noviembre",1,IF('Nuevo Dashboard'!$E$8="Diciembre",1,0))))))))))) -> 1 | F1: =IF('Nuevo Dashboard'!$E$8="Marzo",1,IF('Nuevo Dashboard'!$E$8="Abril",1,IF('Nuevo Dashboard'!$E$8="Mayo",1,IF('Nuevo Dashboard'!$E$8="Junio",1,IF('Nuevo Dashboard'!$E$8="Julio",1,IF('Nuevo Dashboard'!$E$8="Agosto",1,IF('Nuevo Dashboard'!$E$8="Septiembre",1,IF('Nuevo Dashboard'!$E$8="Octubre",1,IF('Nuevo Dashboard'!$E$8="Noviembre",1,IF('Nuevo Dashboard'!$E$8="Diciembre",1,0)))))))))) -> 1 | G1: =IF('Nuevo Dashboard'!$E$8="Abril",1,IF('Nuevo Dashboard'!$E$8="Mayo",1,IF('Nuevo Dashboard'!$E$8="Junio",1,IF('Nuevo Dashboard'!$E$8="Julio",1,IF('Nuevo Dashboard'!$E$8="Agosto",1,IF('Nuevo Dashboard'!$E$8="Septiembre",1,IF('Nuevo Dashboard'!$E$8="Octubre",1,IF('Nuevo Dashboard'!$E$8="Noviembre",1,IF('Nuevo Dashboard'!$E$8="Diciembre",1,0))))))))) -> 1 | H1: =IF('Nuevo Dashboard'!$E$8="Mayo",1,IF('Nuevo Dashboard'!$E$8="Junio",1,IF('Nuevo Dashboard'!$E$8="Julio",1,IF('Nuevo Dashboard'!$E$8="Agosto",1,IF('Nuevo Dashboard'!$E$8="Septiembre",1,IF('Nuevo Dashboard'!$E$8="Octubre",1,IF('Nuevo Dashboard'!$E$8="Noviembre",1,IF('Nuevo Dashboard'!$E$8="Diciembre",1,0)))))))) -> 0 | I1: =IF('Nuevo Dashboard'!$E$8="Junio",1,IF('Nuevo Dashboard'!$E$8="Julio",1,IF('Nuevo Dashboard'!$E$8="Agosto",1,IF('Nuevo Dashboard'!$E$8="Septiembre",1,IF('Nuevo Dashboard'!$E$8="Octubre",1,IF('Nuevo Dashboard'!$E$8="Noviembre",1,IF('Nuevo Dashboard'!$E$8="Diciembre",1,0))))))) -> 0 | J1: =IF('Nuevo Dashboard'!$E$8="Julio",1,IF('Nuevo Dashboard'!$E$8="Agosto",1,IF('Nuevo Dashboard'!$E$8="Septiembre",1,IF('Nuevo Dashboard'!$E$8="Octubre",1,IF('Nuevo Dashboard'!$E$8="Noviembre",1,IF('Nuevo Dashboard'!$E$8="Diciembre",1,0)))))) -> 0 | K1: =IF('Nuevo Dashboard'!$E$8="Agosto",1,IF('Nuevo Dashboard'!$E$8="Septiembre",1,IF('Nuevo Dashboard'!$E$8="Octubre",1,IF('Nuevo Dashboard'!$E$8="Noviembre",1,IF('Nuevo Dashboard'!$E$8="Diciembre",1,0))))) -> 0 | L1: =IF('Nuevo Dashboard'!$E$8="Septiembre",1,IF('Nuevo Dashboard'!$E$8="Octubre",1,IF('Nuevo Dashboard'!$E$8="Noviembre",1,IF('Nuevo Dashboard'!$E$8="Diciembre",1,0)))) -> 0 | M1: =IF('Nuevo Dashboard'!$E$8="Octubre",1,IF('Nuevo Dashboard'!$E$8="Noviembre",1,IF('Nuevo Dashboard'!$E$8="Diciembre",1,0))) -> 0 | N1: =IF('Nuevo Dashboard'!$E$8="Noviembre",1,IF('Nuevo Dashboard'!$E$8="Diciembre",1,0)) -> 0 | O1: =IF('Nuevo Dashboard'!$E$8="Noviembre",1,IF('Nuevo Dashboard'!$E$8="Diciembre",1,0)) -> 0
A2: CECO 2019 | B2: DELEGACIÓN 2019 | C2: EPÍGRAFE 2019 | D2: Enero | E2: Febrero | F2: Marzo | G2: Abril | H2: Mayo | I2: Junio | J2: Julio | K2: Agosto | L2: Septiembre | M2: Octubre | N2: Noviembre | O2: Diciembre | P2: Total 2019 | R2: CECO 2018 | S2: DELEGACIÓN 2018 | T2: EPÍGRAFE 2018 | U2: Enero | V2: Febrero | W2: Marzo | X2: Abril | Y2: Mayo | Z2: Junio | AA2: Julio | AB2: Agosto | AC2: Septiembre | AD2: Octubre | AE2: Noviembre | AF2: Diciembre | AG2: Total | AI2: Budget 19 | AJ2: DELEGACIÓN 2019 | AK2: EPÍGRAFE 2019 | AL2: Enero | AM2: Febrero | AN2: Marzo | AO2: Abril | AP2: Mayo | AQ2: Junio | AR2: Julio | AS2: Agosto | AT2: Septiembre | AU2: Octubre | AV2: Noviembre | AW2: Diciembre | AX2: Total 2019
A3: 08408 | C3: HORAS FACTURADAS (D) | D3: 24719.98 | E3: 23842.84 | F3: 25565.59 | G3: 25335 | H3: 30515.88 | P3: 129979.29 | R3: 08408 | T3: HORAS FACTURADAS (D) | U3: 19776.25 | V3: 18181.99 | W3: 19545.95 | X3: 18389.39 | Y3: 19970.8 | Z3: 18132.18 | AA3: 18806.01 | AB3: 21522.1 | AC3: 20395.84 | AD3: 26032.19 | AE3: 24324.37 | AF3: 22394.64 | AG3: 247471.71 | AI3: 08408 | AK3: HORAS FACTURADAS (D) | AL3: 19776.25 | AM3: 18181.99 | AN3: 19545.95 | AO3: 18389.39 | AP3: 19970.8 | AQ3: 18132.18 | AR3: 18806.01 | AS3: 21522.1 | AT3: 20395.84 | AU3: 26032.19 | AV3: 24324.37 | AW3: 22394.64 | AX3: 247471.71
A4: 08408 | C4: Planning Medio | D4: 145.05 | E4: 151.76 | F4: 155.45 | G4: 152.25 | H4: 155.81 | P4: 0 | Q4: 0 | R4: 08408 | T4: Planning Medio | U4: 103.94 | V4: 105.7 | W4: 105.74 | X4: 105.69 | Y4: 107.63 | Z4: 104.5 | AA4: 106.83 | AB4: 118.38 | AC4: 124.69 | AD4: 125.53 | AE4: 130.37 | AF4: 131.04 | AG4: 104.82 | AI4: 08408 | AK4: Planning Medio | AL4: 103.94 | AM4: 105.7 | AN4: 105.74 | AO4: 105.69 | AP4: 107.63 | AQ4: 104.5 | AR4: 106.83 | AS4: 118.38 | AT4: 124.69 | AU4: 125.53 | AV4: 130.37 | AW4: 131.04 | AX4: 104.82
A5: 08408 | C5: P.M.C. | D5: 30 | E5: 28 | F5: 31 | G5: 30 | H5: 31 | P5: 30 | R5: 08408 | T5: P.M.C. | U5: 31 | V5: 28 | W5: 31 | X5: 30 | Y5: 31 | Z5: 30 | AA5: 31 | AB5: 31 | AC5: 30 | AD5: 33 | AE5: 30 | AF5: 32 | AG5: 31 | AI5: 08408 | AK5: P.M.C. | AL5: 31 | AM5: 28 | AN5: 31 | AO5: 30 | AP5: 31 | AQ5: 30 | AR5: 31 | AS5: 31 | AT5: 30 | AU5: 33 | AV5: 30 | AW5: 32 | AX5: 31
A6: 08408 | C6: TOTAL INGRESOS TT | D6: 382499.7 | E6: 341211.6 | F6: 367236.52 | G6: 376398.58 | H6: 444698.27 | P6: 1912044.7 | R6: 08408 | T6: TOTAL INGRESOS TT | U6: 272702.08 | V6: 251725.33 | W6: 276737.92 | X6: 257590.93 | Y6: 275603.71 | Z6: 249593.18 | AA6: 256675.38 | AB6: 297205.96 | AC6: 291967.37 | AD6: 371560.75 | AE6: 344575.47 | AF6: 298903.08 | AG6: 3444841.2 | AI6: 08408 | AK6: TOTAL INGRESOS TT | AL6: 272702.08 | AM6: 251725.33 | AN6: 276737.92 | AO6: 257590.93 | AP6: 275603.71 | AQ6: 249593.18 | AR6: 256675.38 | AS6: 297205.96 | AT6: 291967.37 | AU6: 371560.75 | AV6: 344575.47 | AW6: 298903.08 | AX6: 3444841.2
A7: 08408 | C7: Fact. Trabajo Temporal (D) | D7: 384615.08 | E7: 343098.64 | F7: 367897.05 | G7: 379850.66 | H7: 447157.64 | P7: 1922619.1 | R7: 08408 | T7: Fact. Trabajo Temporal (D) | U7: 273043.38 | V7: 252040.38 | W7: 277084.28 | X7: 257913.32 | Y7: 275948.65 | Z7: 249905.56 | AA7: 256996.63 | AB7: 297577.93 | AC7: 292332.79 | AD7: 372025.78 | AE7: 345006.73 | AF7: 318871.94 | AG7: 3468747.4 | AI7: 08408 | AK7: Fact. Trabajo Temporal (D) | AL7: 273043.38 | AM7: 252040.38 | AN7: 277084.28 | AO7: 257913.32 | AP7: 275948.65 | AQ7: 249905.56 | AR7: 256996.63 | AS7: 297577.93 | AT7: 292332.79 | AU7: 372025.78 | AV7: 345006.73 | AW7: 318871.94 | AX7: 3468747.4
A8: 08408 | C8: Rappels Trab. Temporal | D8: -2115.38 | E8: -1887.04 | F8: -2023.43 | G8: -2089.18 | H8: -2459.37 | P8: -10574.4 | R8: 08408 | T8: Rappels Trab. Temporal | U8: -341.3 | V8: -315.05 | W8: -346.36 | X8: -322.39 | Y8: -344.94 | Z8: -312.38 | AA8: -321.25 | AB8: -371.97 | AC8: -365.42 | AD8: -465.03 | AE8: -431.26 | AF8: -19968.86 | AG8: -23906.21 | AI8: 08408 | AK8: Rappels Trab. Temporal
A9: 08408 | C9: Ajustes autorizados | D9: 0 | E9: 0 | F9: 1362.9 | G9: -1362.9 | H9: 0 | P9: 0 | R9: 08408 | T9: Ajustes autorizados | U9: 0 | V9: 0 | W9: 0 | X9: 0 | Y9: 0 | Z9: 0 | AA9: 0 | AB9: 0 | AC9: 0 | AD9: 0 | AE9: 0 | AF9: 0 | AG9: 0 | AI9: 08408 | AK9: Ajustes autorizados
A10: 08408 | C10: Gastos Directos TT | D10: -344658.54 | E10: -308127.13 | F10: -332659.99 | G10: -338087.55 | H10: -400029.83 | P10: -1723563 | R10: 08408 | T10: Gastos Directos TT | U10: -243465.4 | V10: -224030.93 | W10: -246611.62 | X10: -230848.06 | Y10: -246578.04 | Z10: -222146.62 | AA10: -230561.41 | AB10: -268255.62 | AC10: -261339.7 | AD10: -330366.85 | AE10: -309124.97 | AF10: -285902.38 | AG10: -3099231.6 | AI10: 08408 | AK10: Gastos Directos TT
A11: 08408 | C11: TT Salario Bruto | D11: -247442.33 | E11: -220761.04 | F11: -237462.42 | G11: -243230.42 | H11: -287662.75 | P11: -1236559 | R11: 08408 | T11: TT Salario Bruto | U11: -175128.48 | V11: -161253.59 | W11: -177730.25 | X11: -165728.9 | Y11: -177072.45 | Z11: -159877.36 | AA11: -164886.66 | AB11: -191318.71 | AC11: -186758.4 | AD11: -238151.83 | AE11: -221226.35 | AF11: -204082.76 | AG11: -2223215.7 | AI11: 08408 | AK11: TT Salario Bruto
A12: 08408 | C12: TT Seg Social | D12: -84886.33 | E12: -76914.15 | F12: -83182.62 | G12: -83860.25 | H12: -99763.16 | P12: -428606.51 | R12: 08408 | T12: TT Seg Social | U12: -60143.68 | V12: -55072.55 | W12: -60558.19 | X12: -56810.2 | Y12: -60902.42 | Z12: -54550.48 | AA12: -57398.99 | AB12: -67565.1 | AC12: -65052.76 | AD12: -80952.87 | AE12: -76305.8 | AF12: -70334.16 | AG12: -765647.2 | AI12: 08408 | AK12: TT Seg Social
A13: 08408 | C13: TT Dietas | D13: 0 | E13: 0 | F13: 0 | G13: 0 | H13: 0 | P13: 0 | R13: 08408 | T13: TT Dietas | U13: 0 | V13: 0 | W13: 0 | X13: 0 | Y13: 0 | Z13: 0 | AA13: 0 | AB13: 0 | AC13: 0 | AD13: 0 | AE13: 0 | AF13: 0 | AG13: 0 | AI13: 08408 | AK13: TT Dietas
A14: 08408 | C14: TT Indemnizaciones | D14: -7431.33 | E14: -6439.3 | F14: -6722.76 | G14: -7468.56 | H14: -8534.92 | P14: -36596.87 | R14: 08408 | T14: TT Indemnizaciones | U14: -5748.36 | V14: -5228.39 | W14: -5582.77 | X14: -5436.51 | Y14: -5722.67 | Z14: -4849.95 | AA14: -5451.82 | AB14: -6218.01 | AC14: -5464.43 | AD14: -7137.54 | AE14: -6537.58 | AF14: -5734.01 | AG14: -69112.04 | AI14: 08408 | AK14: TT Indemnizaciones
A15: 08408 | C15: TT Indemnizacion Adicional | D15: 0 | E15: 0 | F15: -1362.9 | G15: 0 | H15: 0 | P15: -1362.9 | R15: 08408 | T15: TT Indemnizacion Adicional | U15: 0 | V15: 0 | W15: 0 | X15: 0 | Y15: 0 | Z15: 0 | AA15: 0 | AB15: 0 | AC15: 0 | AD15: 0 | AE15: 0 | AF15: 0 | AG15: 0 | AI15: 08408 | AK15: TT Indemnizacion Adicional
A16: 08408 | C16: TT Formacion | D16: -3216.76 | E16: -2869.98 | F16: -2734.22 | G16: -3040.32 | H16: -3595.87 | P16: -15457.15 | R16: 08408 | T16: TT Formacion | U16: -2276.73 | V16: -2096.3 | W16: -2310.48 | X16: -2154.45 | Y16: -2301.86 | Z16: -2078.34 | AA16: -2143.55 | AB16: -2487.19 | AC16: -2427.85 | AD16: -3095.95 | AE16: -2875.84 | AF16: -2653 | AG16: -28901.54 | AI16: 08408 | AK16: TT Formacion
A17: 08408 | C17: TT Seguro de Accidentes PASS | D17: -76.86 | E17: -74.81 | F17: -80.25 | G17: -79.63 | H17: -96.89 | P17: -408.44 | R17: 08408 | T17: TT Seguro de Accidentes PASS | U17: -62.91 | V17: -58.08 | W17: -63.31 | X17: -59.5 | Y17: -63.66 | Z17: -57.61 | AA17: -59.13 | AB17: -68.44 | AC17: -64.24 | AD17: -82.36 | AE17: -76.64 | AF17: -70.52 | AG17: -786.4 | AI17: 08408 | AK17: TT Seguro de Accidentes PASS
A18: 08408 | C18: TT Seguros Resp.Civil | D18: -90.18 | E18: -85.75 | F18: -91.96 | G18: -94.96 | H18: -111.78 | P18: -474.63 | R18: 08408 | T18: TT Seguros Resp.Civil | U18: -68.24 | V18: -63.02 | W18: -68.62 | X18: -64.5 | Y18: -68.98 | Z18: -62.48 | AA18: -64.26 | AB18: -74.39 | AC18: -73.09 | AD18: -93.03 | AE18: -86.25 | AF18: -79.71 | AG18: -866.57 | AI18: 08408 | AK18: TT Seguros Resp.Civil
A19: 08408 | C19: TT Vestuario | D19: 0 | E19: 0 | F19: 0 | G19: 0 | H19: 0 | P19: 0 | R19: 08408 | T19: TT Vestuario | U19: 0 | V19: 0 | W19: 0 | X19: 0 | Y19: 0 | Z19: 0 | AA19: 0 | AB19: 0 | AC19: 0 | AD19: 0 | AE19: 0 | AF19: 0 | AG19: 0 | AI19: 08408 | AK19: TT Vestuario
... A108: 08408 | C108: GASTOS PERSONAL FIJOS | D108: -3957.98 | E108: -5343.29 | F108: -5178.11 | G108: -5690.52 | H108: -5189.16 | P108: -25359.06 | R108: 08408 | T108: GASTOS PERSONAL FIJOS | U108: -2685.74 | V108: -2747.9 | W108: -2966.99 | X108: -3761.98 | Y108: -2704.88 | Z108: -2721.78 | AA108: -2786.62 | AB108: -3454.82 | AC108: -3246.43 | AD108: -3295.99 | AE108: -3283.09 | AF108: -3119.76 | AG108: -36775.98 | AI108: 08408 | AK108: GASTOS PERSONAL FIJOS
A109: 08408 | C109: Fj: Salarios Brutos | D109: =-D107 -> 6695.73 | E109: =-E107 -> 5807.77 | F109: =-F107 -> 5781.46 | G109: =-G107 -> 6337.39 | H109: =-H107 -> 5908.65 | I109: =-I107 -> 0 | J109: =-J107 -> 0 | K109: =-K107 -> 0 | ... O109: =-O107 -> 0 | P109: -14338.69 | R109: 08408 | T109: Fj: Salarios Brutos | U109: -1716.67 | V109: -1716.67 | W109: -1716.67 | X109: -1716.67 | Y109: -1716.67 | Z109: -1716.67 | AA109: -1716.67 | AB109: -1716.67 | AC109: -1716.67 | AD109: -1716.67 | AE109: -1716.67 | AF109: -1716.67 | AG109: -20600.04 | AI109: 08408 | AK109: Fj: Salarios Brutos
A110: 08408 | C110: Fj: Seguridad Social | D110: -1321.75 | E110: -1164.75 | F110: -1195.1 | G110: -1282.21 | H110: -1251.42 | P110: -6215.23 | R110: 08408 | T110: Fj: Seguridad Social | U110: -788.71 | V110: -816.37 | W110: -850.96 | X110: -832.83 | Y110: -773.35 | Z110: -801.75 | AA110: -832.09 | AB110: -775.67 | AC110: -810.34 | AD110: -784.5 | AE110: -910.9 | AF110: -683.67 | AG110: -9661.14 | AI110: 08408 | AK110: Fj: Seguridad Social
A111: 08408 | C111: Fj: Dietas | D111: -184 | E111: -230 | F111: -184 | G111: -241.5 | H111: -149.5 | P111: -989 | R111: 08408 | T111: Fj: Dietas | U111: -149.5 | V111: -184 | W111: -218.5 | X111: -195.5 | Y111: -184 | Z111: -172.5 | AA111: -207 | AB111: -195.5 | AC111: -195.5 | AD111: -184 | AE111: -218.5 | AF111: -195.5 | AG111: -2300 | AI111: 08408 | AK111: Fj: Dietas
A112: 08408 | C112: Fj: Vehiculos Empresa | D112: 0 | E112: 0 | F112: 0 | G112: 0 | H112: 0 | P112: 0 | R112: 08408 | T112: Fj: Vehiculos Empresa | U112: 0 | V112: 0 | W112: 0 | X112: 0 | Y112: 0 | Z112: 0 | AA112: 0 | AB112: 0 | AC112: 0 | AD112: 0 | AE112: 0 | AF112: 0 | AG112: 0 | AI112: 08408 | AK112: Fj: Vehiculos Empresa
A113: 08408 | C113: Fj: Indemnizaciones | D113: 0 | E113: 0 | F113: 0 | G113: 0 | H113: 0 | P113: 0 | R113: 08408 | T113: Fj: Indemnizaciones | U113: 0 | V113: 0 | W113: 0 | X113: 0 | Y113: 0 | Z113: 0 | AA113: 0 | AB113: 0 | AC113: 0 | AD113: 0 | AE113: 0 | AF113: 0 | AG113: 0 | AI113: 08408 | AK113: Fj: Indemnizaciones
A114: 08408 | C114: Fj: Personal Practicas | D114: -491.51 | E114: -533.02 | F114: -491.51 | G114: -491.51 | H114: -491.51 | P114: -2499.06 | R114: 08408 | T114: Fj: Personal Practicas | U114: 0 | V114: 0 | W114: 0 | X114: -986.12 | Y114: 0 | Z114: 0 | AA114: 0 | AB114: -736.12 | AC114: -493.06 | AD114: -493.06 | AE114: -493.06 | AF114: -493.06 | AG114: -3694.48 | AI114: 08408 | AK114: Fj: Personal Practicas
A115: 08408 | C115: Fj: Otros gastos | D115: -31.94 | E115: -31.94 | F115: -69.54 | G115: -182.35 | H115: -69.55 | P115: -385.32 | R115: 08408 | T115: Fj: Otros gastos | U115: -30.86 | V115: -30.86 | W115: -30.86 | X115: -30.86 | Y115: -30.86 | Z115: -30.86 | AA115: -30.86 | AB115: -30.86 | AC115: -30.86 | AD115: -117.76 | AE115: 56.04 | AF115: -30.86 | AG115: -370.32 | AI115: 08408 | AK115: Fj: Otros gastos
A116: 08408 | C116: Notas de Gastos | D116: 0 | E116: 0 | F116: -72.58 | G116: -374.59 | H116: -108.82 | P116: -555.99 | R116: 08408 | T116: Notas de Gastos | U116: 0 | V116: 0 | W116: 0 | X116: 0 | Y116: 0 | Z116: 0 | AA116: 0 | AB116: 0 | AC116: 0 | AD116: 0 | AE116: 0 | AF116: 0 | AG116: 0 | AI116: 08408 | AK116: Notas de Gastos
A117: 08408 | C117: Alojamiento y Locomocion | D117: 0 | E117: -144.72 | F117: -81.05 | G117: 0 | H117: 0 | P117: -225.77 | R117: 08408 | T117: Alojamiento y Locomocion | U117: 0 | V117: 0 | W117: 0 | X117: 0 | Y117: 0 | Z117: 0 | AA117: 0 | AB117: 0 | AC117: 0 | AD117: 0 | AE117: 0 | AF117: 0 | AG117: 0 | AI117: 08408 | AK117: Alojamiento y Locomocion
A118: 08408 | C118: Tarjetas Gasolina | D118: 0 | E118: 0 | F118: 0 | G118: 0 | H118: 0 | P118: 0 | R118: 08408 | T118: Tarjetas Gasolina | U118: 0 | V118: 0 | W118: 0 | X118: 0 | Y118: 0 | Z118: 0 | AA118: 0 | AB118: 0 | AC118: 0 | AD118: 0 | AE118: 0 | AF118: 0 | AG118: 0 | AI118: 08408 | AK118: Tarjetas Gasolina
A119: 08408 | C119: Formacion Personal Fijo | D119: 0 | E119: -150 | F119: 0 | G119: 0 | H119: 0 | P119: -150 | R119: 08408 | T119: Formacion Personal Fijo | U119: 0 | V119: 0 | W119: -150 | X119: 0 | Y119: 0 | Z119: 0 | AA119: 0 | AB119: 0 | AC119: 0 | AD119: 0 | AE119: 0 | AF119: 0 | AG119: -150 | AI119: 08408 | AK119: Formacion Personal Fijo
A120: 08408 | C120: Subvencion FORCEM | D120: 0 | E120: 0 | F120: 0 | G120: 0 | H120: 0 | P120: 0 | R120: 08408 | T120: Subvencion FORCEM | U120: 0 | V120: 0 | W120: 0 | X120: 0 | Y120: 0 | Z120: 0 | AA120: 0 | AB120: 0 | AC120: 0 | AD120: 0 | AE120: 0 | AF120: 0 | AG120: 0 | AI120: 08408 | AK120: Subvencion FORCEM
A121: 08408 | C121: Otras subvenciones | D121: 0 | E121: 0 | F121: 0 | G121: 0 | H121: 0 | P121: 0 | R121: 08408 | T121: Otras subvenciones | U121: 0 | V121: 0 | W121: 0 | X121: 0 | Y121: 0 | Z121: 0 | AA121: 0 | AB121: 0 | AC121: 0 | AD121: 0 | AE121: 0 | AF121: 0 | AG121: 0 | AI121: 08408 | AK121: Otras subvenciones
... A192: 08408 | C192: MARGEN NETO despues de I.S. | D192: 18247.72 | E192: 17864.8 | F192: 19153.5 | G192: 21303.37 | H192: 26901.45 | P192: 103470.84 | R192: 08408 | T192: MARGEN NETO despues de I.S. | U192: 18344.85 | V192: 21706.03 | W192: 20913.04 | X192: 15363.14 | Y192: 18207.63 | Z192: 19557.22 | AA192: 15505.72 | AB192: 17039.82 | AC192: 16544.2 | AD192: 26143.8 | AE192: 20526.54 | AF192: 187.52 | AG192: 210039.51 | AI192: 08408 | AK192: MARGEN NETO despues de I.S.
A193: 08408 | C193: SALDO CLIENTES | D193: 465384.26 | E193: 418039.56 | F193: 450826.95 | G193: 463312.3 | H193: 545116.76 | P193: 0,00 | R193: 08408 | T193: SALDO CLIENTES | U193: 330382.49 | V193: 304968.86 | W193: 340936.63 | X193: 316225.4 | Y193: 334827.86 | Z193: 308733.14 | AA193: 315840.52 | AB193: 361996.89 | AC193: 354972.67 | AD193: 468348.08 | AE193: 418365.64 | AF193: 385835.03 | AG193: 0,00 | AI193: 08408 | AK193: SALDO CLIENTES
A194: 08408 | C194: SALDO CLIENTES PROVISIONADOS | D194: 0 | E194: 0 | F194: 0 | G194: 0 | H194: 0 | P194: 0,00 | R194: 08408 | T194: SALDO CLIENTES PROVISIONADOS | U194: 0 | V194: 0 | W194: 0 | X194: 0 | Y194: 0 | Z194: 0 | AA194: 0 | AB194: 0 | AC194: 0 | AD194: 0 | AE194: 0 | AF194: 0 | AG194: 0,00 | AI194: 08408 | AK194: SALDO CLIENTES PROVISIONADOS
A195: 08408 | C195: SALDO PROVISION INSOLVENCIAS | D195: 0 | E195: 0 | F195: 0 | G195: 0 | H195: 0 | P195: 0,00 | R195: 08408 | T195: SALDO PROVISION INSOLVENCIAS | U195: 0 | V195: 0 | W195: 0 | X195: 0 | Y195: 0 | Z195: 0 | AA195: 0 | AB195: 0 | AC195: 0 | AD195: 0 | AE195: 0 | AF195: 0 | AG195: 0,00 | AI195: 08408 | AK195: SALDO PROVISION INSOLVENCIAS
A196: 08408 | C196: SALDO AJUSTES AUTORIZADOS | D196: 0 | E196: 0 | F196: 1362.9 | G196: 0 | H196: 0 | P196: 0,00 | R196: 08408 | T196: SALDO AJUSTES AUTORIZADOS | U196: 0 | V196: 0 | W196: 0 | X196: 0 | Y196: 0 | Z196: 0 | AA196: 0 | AB196: 0 | AC196: 0 | AD196: 0 | AE196: 0 | AF196: 0 | AG196: 0,00 | AI196: 08408 | AK196: SALDO AJUSTES AUTORIZADOS
A197: 08408 | C197: SALDO AJUSTES AUTORIZADOS N-1 | D197: 0 | E197: 0 | F197: 0 | G197: 1362.9 | H197: 0 | P197: 1362.9 | R197: 08408 | T197: SALDO AJUSTES AUTORIZADOS N-1 | U197: 0 | V197: 0 | W197: 0 | X197: 0 | Y197: 0 | Z197: 0 | AA197: 0 | AB197: 0 | AC197: 0 | AD197: 0 | AE197: 0 | AF197: 0 | AG197: 0 | AI197: 08408 | AK197: SALDO AJUSTES AUTORIZADOS N-1
A198: 08408 | C198: Ventas reclasificadas | D198: 21790.83 | E198: -1887.04 | F198: -2023.43 | G198: -2089.18 | H198: -2459.37 | P198: 13331.81 | R198: 08408 | T198: Ventas reclasificadas | U198: -341.3 | V198: -315.05 | W198: 2265.56 | X198: -322.39 | Y198: -344.94 | Z198: -312.38 | AA198: -321.25 | AB198: -371.97 | AC198: -365.42 | AD198: -465.03 | AE198: -431.26 | AF198: -19968.86 | AG198: -21294.29 | AI198: 08408 | AK198: Ventas reclasificadas
...

Sheet Nuevo Dashboard
H6: Mes | I6: Abril
E8: =I6 -> Abril | F8: Acum | H8: =CONCATENATE(E8," ","18") -> Abril 18 | I8: % | J8: Acum 18 | K8: % | M8: =CONCATENATE(E8," ","BG") -> Abril BG | N8: % | O8: Acum BG | P8: %
D9: TOTAL INGRESOS | E9: {=VLOOKUP(D9,'Base Datos'!$C$102:$O$192,MATCH('Nuevo Dashboard'!$I$6,'Base Datos'!$C$2:$O$2,0),0)} -> 379891.48 | F9: =SUMPRODUCT('Base Datos'!$D$1:$O$1,'Base Datos'!D103:O103) -> 1460058.1 | H9: {=VLOOKUP(D9,'Base Datos'!$T$102:$AF$192,MATCH('Nuevo Dashboard'!$E$8,'Base Datos'!$T$2:$AF$2,0),0)} -> 259498.93 | I9: =IFERROR(E9/H9-1,"") -> 0.46394238 | J9: =SUMPRODUCT('Base Datos'!$D$1:$O$1,'Base Datos'!U103:AF103) -> 1064426.6 | K9: =IFERROR(F9/J9-1,"") -> 0.37168506 | M9: {=VLOOKUP(D9,'Base Datos'!$AK$102:$AW$192,MATCH('Nuevo Dashboard'!$E$8,'Base Datos'!$AK$2:$AW$2,0),0)} -> 0 | N9: =IFERROR(E9/M9-1,"") | O9: =SUMPRODUCT('Base Datos'!$D$1:$O$1,'Base Datos'!AL103:AW103) -> 0 | P9: =IFERROR(F9/O9-1,"")
D10: TOTAL MARGEN BRUTO | E10: {=VLOOKUP(D10,'Base Datos'!$C$102:$O$192,MATCH('Nuevo Dashboard'!$I$6,'Base Datos'!$C$2:$O$2,0),0)} -> 39385.54 | F10: =SUMPRODUCT('Base Datos'!$D$1:$O$1,'Base Datos'!D105:O105) -> 148372.21 | H10: {=VLOOKUP(D10,'Base Datos'!$T$102:$AF$192,MATCH('Nuevo Dashboard'!$E$8,'Base Datos'!$T$2:$AF$2,0),0)} -> 27942.91 | I10: =IFERROR(E10/H10-1,"") -> 0.4095003 | J10: =SUMPRODUCT('Base Datos'!$D$1:$O$1,'Base Datos'!U105:AF105) -> 118604.94 | K10: =IFERROR(F10/J10-1,"") -> 0.25097833 | M10: {=VLOOKUP(D10,'Base Datos'!$AK$102:$AW$192,MATCH('Nuevo Dashboard'!$E$8,'Base Datos'!$AK$2:$AW$2,0),0)} -> 0 | N10: =IFERROR(E10/M10-1,"") | O10: =SUMPRODUCT('Base Datos'!$D$1:$O$1,'Base Datos'!AL105:AW105) -> 0 | P10: =IFERROR(F10/O10-1,"")
D11: % Total Margen Bruto | E11: {=VLOOKUP(D11,'Base Datos'!$C$102:$O$192,MATCH('Nuevo Dashboard'!$I$6,'Base Datos'!$C$2:$O$2,0),0)} -> 0.1037 | F11: =SUMPRODUCT('Base Datos'!$D$1:$O$1,'Base Datos'!D106:O106) -> 0.4021 | H11: {=VLOOKUP(D11,'Base Datos'!$T$102:$AF$192,MATCH('Nuevo Dashboard'!$E$8,'Base Datos'!$T$2:$AF$2,0),0)} -> 0.1077 | I11: =IFERROR(E11/H11-1,"") -> -0.037140204 | J11: =SUMPRODUCT('Base Datos'!$D$1:$O$1,'Base Datos'!U106:AF106) -> 0.4447 | K11: =IFERROR(F11/J11-1,"") -> -0.095794918 | M11: {=VLOOKUP(D11,'Base Datos'!$AK$102:$AW$192,MATCH('Nuevo Dashboard'!$E$8,'Base Datos'!$AK$2:$AW$2,0),0)} -> 0 | N11: =IFERROR(E11/M11-1,"") | O11: =SUMPRODUCT('Base Datos'!$D$1:$O$1,'Base Datos'!AL106:AW106) -> 0 | P11: =IFERROR(F11/O11-1,"")
D12: GASTOS PERSONAL | E12: {=VLOOKUP(D12,'Base Datos'!$C$102:$O$192,MATCH('Nuevo Dashboard'!$I$6,'Base Datos'!$C$2:$O$2,0),0)} -> -6337.39 | F12: =SUMPRODUCT('Base Datos'!$D$1:$O$1,'Base Datos'!D107:O107) -> -24622.35 | H12: {=VLOOKUP(D12,'Base Datos'!$T$102:$AF$192,MATCH('Nuevo Dashboard'!$E$8,'Base Datos'!$T$2:$AF$2,0),0)} -> -4674.32 | I12: =IFERROR(E12/H12-1,"") -> 0.35578865 | J12: =SUMPRODUCT('Base Datos'!$D$1:$O$1,'Base Datos'!U107:AF107) -> -15002.06 | K12: =IFERROR(F12/J12-1,"") -> 0.6412646 | M12: {=VLOOKUP(D12,'Base Datos'!$AK$102:$AW$192,MATCH('Nuevo Dashboard'!$E$8,'Base Datos'!$AK$2:$AW$2,0),0)} -> 0 | N12: =IFERROR(E12/M12-1,"") | O12: =SUMPRODUCT('Base Datos'!$D$1:$O$1,'Base Datos'!AL107:AW107) -> 0 | P12: =IFERROR(F12/O12-1,"")
D13: GASTOS GESTION | E13: {=VLOOKUP(D13,'Base Datos'!$C$102:$O$192,MATCH('Nuevo Dashboard'!$I$6,'Base Datos'!$C$2:$O$2,0),0)} -> -244.47 | F13: =SUMPRODUCT('Base Datos'!$D$1:$O$1,'Base Datos'!D124:O124) -> -1332.72 | H13: {=VLOOKUP(D13,'Base Datos'!$T$102:$AF$192,MATCH('Nuevo Dashboard'!$E$8,'Base Datos'!$T$2:$AF$2,0),0)} -> -110.81 | I13: =IFERROR(E13/H13-1,"") -> 1.2062088 | J13: =SUMPRODUCT('Base Datos'!$D$1:$O$1,'Base Datos'!U124:AF124) -> -520.05 | K13: =IFERROR(F13/J13-1,"") -> 1.5626767 | M13: {=VLOOKUP(D13,'Base Datos'!$AK$102:$AW$192,MATCH('Nuevo Dashboard'!$E$8,'Base Datos'!$AK$2:$AW$2,0),0)} -> 0 | N13: =IFERROR(E13/M13-1,"") | O13: =SUMPRODUCT('Base Datos'!$D$1:$O$1,'Base Datos'!AL124:AW124) -> 0 | P13: =IFERROR(F13/O13-1,"")
D14: TOTAL PROVISIONES | E14: {=VLOOKUP(D14,'Base Datos'!$C$102:$O$192,MATCH('Nuevo Dashboard'!$I$6,'Base Datos'!$C$2:$O$2,0),0)} -> 0 | F14: =SUMPRODUCT('Base Datos'!$D$1:$O$1,'Base Datos'!D173:O173) -> 0 | H14: {=VLOOKUP(D14,'Base Datos'!$T$102:$AF$192,MATCH('Nuevo Dashboard'!$E$8,'Base Datos'!$T$2:$AF$2,0),0)} -> 0 | I14: =IFERROR(E14/H14-1,"") | J14: =SUMPRODUCT('Base Datos'!$D$1:$O$1,'Base Datos'!U173:AF173) -> 0 | K14: =IFERROR(F14/J14-1,"") | M14: {=VLOOKUP(D14,'Base Datos'!$AK$102:$AW$192,MATCH('Nuevo Dashboard'!$E$8,'Base Datos'!$AK$2:$AW$2,0),0)} -> 0 | N14: =IFERROR(E14/M14-1,"") | O14: =SUMPRODUCT('Base Datos'!$D$1:$O$1,'Base Datos'!AL173:AW173) -> 0 | P14: =IFERROR(F14/O14-1,"")
D15: RESULTADO EXTRAORDINARIO | E15: {=VLOOKUP(D15,'Base Datos'!$C$102:$O$192,MATCH('Nuevo Dashboard'!$I$6,'Base Datos'!$C$2:$O$2,0),0)} -> 0 | F15: =SUMPRODUCT('Base Datos'!$D$1:$O$1,'Base Datos'!D176:O176) -> -2046 | H15: {=VLOOKUP(D15,'Base Datos'!$T$102:$AF$192,MATCH('Nuevo Dashboard'!$E$8,'Base Datos'!$T$2:$AF$2,0),0)} -> 0 | I15: =IFERROR(E15/H15-1,"") | J15: =SUMPRODUCT('Base Datos'!$D$1:$O$1,'Base Datos'!U176:AF176) -> 5177.03 | K15: =IFERROR(F15/J15-1,"") -> -1.3952073 | M15: {=VLOOKUP(D15,'Base Datos'!$AK$102:$AW$192,MATCH('Nuevo Dashboard'!$E$8,'Base Datos'!$AK$2:$AW$2,0),0)} -> 0 | N15: =IFERROR(E15/M15-1,"") | O15: =SUMPRODUCT('Base Datos'!$D$1:$O$1,'Base Datos'!AL176:AW176) -> 0 | P15: =IFERROR(F15/O15-1,"")
D16: TOTAL MANAGEMENT FEES | E16: {=VLOOKUP(D16,'Base Datos'!$C$102:$O$192,MATCH('Nuevo Dashboard'!$I$6,'Base Datos'!$C$2:$O$2,0),0)} -> -11500.31 | F16: =SUMPRODUCT('Base Datos'!$D$1:$O$1,'Base Datos'!D185:O185) -> -43801.75 | H16: {=VLOOKUP(D16,'Base Datos'!$T$102:$AF$192,MATCH('Nuevo Dashboard'!$E$8,'Base Datos'!$T$2:$AF$2,0),0)} -> -7794.64 | I16: =IFERROR(E16/H16-1,"") -> 0.47541259 | J16: =SUMPRODUCT('Base Datos'!$D$1:$O$1,'Base Datos'!U185:AF185) -> -31932.8 | K16: =IFERROR(F16/J16-1,"") -> 0.37168523 | M16: {=VLOOKUP(D16,'Base Datos'!$AK$102:$AW$192,MATCH('Nuevo Dashboard'!$E$8,'Base Datos'!$AK$2:$AW$2,0),0)} -> 0 | N16: =IFERROR(E16/M16-1,"") | O16: =SUMPRODUCT('Base Datos'!$D$1:$O$1,'Base Datos'!AL185:AW185) -> 0 | P16: =IFERROR(F16/O16-1,"")
D17: MN antes de I.S. | E17: {=VLOOKUP(D17,'Base Datos'!$C$102:$O$192,MATCH('Nuevo Dashboard'!$I$6,'Base Datos'!$C$2:$O$2,0),0)} -> 21303.37 | F17: =SUMPRODUCT('Base Datos'!$D$1:$O$1,'Base Datos'!D189:O189) -> 76569.39 | H17: {=VLOOKUP(D17,'Base Datos'!$T$102:$AF$192,MATCH('Nuevo Dashboard'!$E$8,'Base Datos'!$T$2:$AF$2,0),0)} -> 15363.14 | I17: =IFERROR(E17/H17-1,"") -> 0.38665468 | J17: =SUMPRODUCT('Base Datos'!$D$1:$O$1,'Base Datos'!U189:AF189) -> 76327.06 | K17: =IFERROR(F17/J17-1,"") -> 0.0031748897 | M17: {=VLOOKUP(D17,'Base Datos'!$AK$102:$AW$192,MATCH('Nuevo Dashboard'!$E$8,'Base Datos'!$AK$2:$AW$2,0),0)} -> 0 | N17: =IFERROR(E17/M17-1,"") | O17: =SUMPRODUCT('Base Datos'!$D$1:$O$1,'Base Datos'!AL189:AW189) -> 0 | P17: =IFERROR(F17/O17-1,"")
B29: MB/MN | D29: MN/Ingresos | E29: Total Ingresos /204 | H29: MB/204 | K29: 3/204 | N29: 4
E30: FTE | K30: Planning Medio | N30: P.M.C.
E31: {=VLOOKUP(E30,'Base Datos'!C205:O205,MATCH('Nuevo Dashboard'!E8,'Base Datos'!C2:O2,0),0)} -> 2 | K31: {=VLOOKUP(K30,'Base Datos'!C4:P4,MATCH('Nuevo Dashboard'!E8,'Base Datos'!C2:O2,0),0)} -> 152.25
B32: =E10/E17 -> 1.8487939 | D32: =E17/E9 -> 0.056077515 | E32: =E9/E31 -> 189945.74 | H32: =E10/E31 -> 19692.77 | K32: =K31/E31 -> 76.125 | N32: {=VLOOKUP(N30,'Base Datos'!C5:O5,MATCH('Nuevo Dashboard'!E8,'Base Datos'!C2:O2,0),0)} -> 30
