Workbook

Sheet Análisis Datos
D1: DASHBOARD ANALISIS DE NEGOCIO
F4: =CONCATENATE("Ventas totales ",G8) -> Ventas totales Marzo | O4: =CONCATENATE("Ventas acumuladas ") -> Ventas acumuladas
J6: Mes | K6: Marzo
G8: =K6 -> Marzo | H8: Acum | J8: =CONCATENATE(G8," ","18") -> Marzo 18 | K8: % | L8: Acum 18 | M8: % | O8: =CONCATENATE(G8," ","BG") -> Marzo BG | P8: % | Q8: Acum BG | R8: %
F9: Ingresos | G9: =VLOOKUP($F$9,'Cta Resultados'!P3:AB3,MATCH('Análisis Datos'!$G$8,'Cta Resultados'!P2:AB2,0),0) -> 36172.62 | H9: =SUMPRODUCT('Cta Resultados'!$Q$1:$AB$1,'Cta Resultados'!Q3:AB3) -> 73187 | J9: =VLOOKUP($F$9,'Cta Resultados'!A3:N3,MATCH('Análisis Datos'!$G$8,'Cta Resultados'!A2:N2,0),0) -> 47690.29 | K9: =G9/J9-1 -> -0.24150975 | L9: =SUMPRODUCT('Cta Resultados'!$Q$1:$AB$1,'Cta Resultados'!B3:M3) -> 109458.85 | M9: =H9/L9-1 -> -0.3313743 | O9: =VLOOKUP($F$9,'Cta Resultados'!AE3:AR3,MATCH('Análisis Datos'!$G$8,'Cta Resultados'!AE2:AR2,0),0) -> 50000 | P9: =IFERROR(H9/O9-1,"") -> 0.46374 | Q9: =SUMPRODUCT('Cta Resultados'!$Q$1:$AB$1,'Cta Resultados'!AF3:AQ3) -> 150000 | R9: =IFERROR(J9/Q9-1,"") -> -0.68206473
F11: Coste personal | G11: =VLOOKUP($F$11,'Cta Resultados'!P6:AB6,MATCH('Análisis Datos'!$G$8,'Cta Resultados'!P2:AB2,0),0) -> 11813.262 | H11: =SUMPRODUCT('Cta Resultados'!$Q$1:$AB$1,'Cta Resultados'!Q6:AB6) -> 36774.046 | J11: =VLOOKUP($F$11,'Cta Resultados'!A6:N6,MATCH('Análisis Datos'!$G$8,'Cta Resultados'!A2:N2,0),0) -> 20332.28 | K11: =G11/J11-1 -> -0.4189898 | L11: =SUMPRODUCT('Cta Resultados'!$Q$1:$AB$1,'Cta Resultados'!B6:M6) -> 55605.627 | M11: =H11/L11-1 -> -0.33866323 | O11: =VLOOKUP($F$11,'Cta Resultados'!AE6:AR6,MATCH('Análisis Datos'!$G$8,'Cta Resultados'!AE2:AR2,0),0) -> 0 | P11: =IFERROR(H11/O11-1,"") | Q11: =SUMPRODUCT('Cta Resultados'!$Q$1:$AB$1,'Cta Resultados'!AF6:AQ6) -> 0 | R11: =IFERROR(J11/Q11-1,"")
F13: Gastos Indirectos | G13: =VLOOKUP($F$13,'Cta Resultados'!P11:AB11,MATCH('Análisis Datos'!$G$8,'Cta Resultados'!P2:AB2,0),0) -> 18176.515 | H13: =SUMPRODUCT('Cta Resultados'!Q11:AB11,'Cta Resultados'!$Q$1:$AB$1) -> 40285.545 | J13: =VLOOKUP($F$13,'Cta Resultados'!A11:N11,MATCH('Análisis Datos'!$G$8,'Cta Resultados'!A2:N2,0),0) -> 14488.31 | K13: =G13/J13-1 -> 0.2545642 | L13: =SUMPRODUCT('Cta Resultados'!B11:M11,'Cta Resultados'!$Q$1:$AB$1) -> 40875.4 | M13: =H13/L13-1 -> -0.014430562 | O13: =VLOOKUP($F$13,'Cta Resultados'!AE11:AR11,MATCH('Análisis Datos'!$G$8,'Cta Resultados'!AE2:AR2,0),0) -> 0 | P13: =IFERROR(H13/O13-1,"") | Q13: =SUMPRODUCT('Cta Resultados'!AF11:AQ11,'Cta Resultados'!$Q$1:$AB$1) -> 0 | R13: =IFERROR(J13/Q13-1,"")
F15: Resultado | G15: =VLOOKUP("Resultado Neto antes de I.S.",'Cta Resultados'!P29:AB29,MATCH('Análisis Datos'!$G$8,'Cta Resultados'!P2:AB2,0),0) -> 4336.453 | H15: =SUMPRODUCT('Cta Resultados'!Q29:AB29,'Cta Resultados'!$Q$1:$AB$1) -> -7693.3008 | J15: =VLOOKUP("Resultado Neto antes de I.S.",'Cta Resultados'!A29:N29,MATCH('Análisis Datos'!$G$8,'Cta Resultados'!A2:N2,0),0) -> 11758.68 | K15: =G15/J15-1 -> -0.6312126 | L15: =SUMPRODUCT('Cta Resultados'!B29:M29,'Cta Resultados'!$Q$1:$AB$1) -> 9305.433 | M15: =H15/L15-1 -> -1.8267537 | O15: =VLOOKUP("Resultado Neto antes de I.S.",'Cta Resultados'!AE29:AR29,MATCH('Análisis Datos'!$G$8,'Cta Resultados'!AE2:AR2,0),0) -> 50000 | P15: =IFERROR(H15/O15-1,"") -> -1.153866 | Q15: =SUMPRODUCT('Cta Resultados'!AF29:AQ29,'Cta Resultados'!$Q$1:$AB$1) -> 150000 | R15: =IFERROR(J15/Q15-1,"") -> -0.9216088

Sheet Cta Resultados
B1: 1 | C1: 1 | D1: 1 | E1: 1 | F1: 1 | G1: 1 | H1: 1 | I1: 1 | J1: 1 | K1: 1 | L1: 1 | M1: 1 | Q1: =IF('Análisis Datos'!$G$8="Enero",1,IF('Análisis Datos'!$G$8="Febrero",1,IF('Análisis Datos'!$G$8="Marzo",1,IF('Análisis Datos'!$G$8="Abril",1,IF('Análisis Datos'!$G$8="Mayo",1,IF('Análisis Datos'!$G$8="Junio",1,IF('Análisis Datos'!$G$8="Julio",1,IF('Análisis Datos'!$G$8="Agosto",1,IF('Análisis Datos'!$G$8="Septiembre",1,IF('Análisis Datos'!$G$8="Octubre",1,IF('Análisis Datos'!$G$8="Noviembre",1,IF('Análisis Datos'!$G$8="Diciembre",1,0)))))))))))) -> 1 | R1: =IF('Análisis Datos'!$G$8="Febrero",1,IF('Análisis Datos'!$G$8="Marzo",1,IF('Análisis Datos'!$G$8="Abril",1,IF('Análisis Datos'!$G$8="Mayo",1,IF('Análisis Datos'!$G$8="Junio",1,IF('Análisis Datos'!$G$8="Julio",1,IF('Análisis Datos'!$G$8="Agosto",1,IF('Análisis Datos'!$G$8="Septiembre",1,IF('Análisis Datos'!$G$8="Octubre",1,IF('Análisis Datos'!$G$8="Noviembre",1,IF('Análisis Datos'!$G$8="Diciembre",1,0))))))))))) -> 1 | S1: =IF('Análisis Datos'!$G$8="Marzo",1,IF('Análisis Datos'!$G$8="Abril",1,IF('Análisis Datos'!$G$8="Mayo",1,IF('Análisis Datos'!$G$8="Junio",1,IF('Análisis Datos'!$G$8="Julio",1,IF('Análisis Datos'!$G$8="Agosto",1,IF('Análisis Datos'!$G$8="Septiembre",1,IF('Análisis Datos'!$G$8="Octubre",1,IF('Análisis Datos'!$G$8="Noviembre",1,IF('Análisis Datos'!$G$8="Diciembre",1,0)))))))))) -> 1 | T1: =IF('Análisis Datos'!$G$8="Abril",1,IF('Análisis Datos'!$G$8="Mayo",1,IF('Análisis Datos'!$G$8="Junio",1,IF('Análisis Datos'!$G$8="Julio",1,IF('Análisis Datos'!$G$8="Agosto",1,IF('Análisis Datos'!$G$8="Septiembre",1,IF('Análisis Datos'!$G$8="Octubre",1,IF('Análisis Datos'!$G$8="Noviembre",1,IF('Análisis Datos'!$G$8="Diciembre",1,0))))))))) -> 0 | U1: =IF('Análisis Datos'!$G$8="Mayo",1,IF('Análisis Datos'!$G$8="Junio",1,IF('Análisis Datos'!$G$8="Julio",1,IF('Análisis Datos'!$G$8="Agosto",1,IF('Análisis Datos'!$G$8="Septiembre",1,IF('Análisis Datos'!$G$8="Octubre",1,IF('Análisis Datos'!$G$8="Noviembre",1,IF('Análisis Datos'!$G$8="Diciembre",1,0)))))))) -> 0 | V1: =IF('Análisis Datos'!$G$8="Junio",1,IF('Análisis Datos'!$G$8="Julio",1,IF('Análisis Datos'!$G$8="Agosto",1,IF('Análisis Datos'!$G$8="Septiembre",1,IF('Análisis Datos'!$G$8="Octubre",1,IF('Análisis Datos'!$G$8="Noviembre",1,IF('Análisis Datos'!$G$8="Diciembre",1,0))))))) -> 0 | W1: =IF('Análisis Datos'!$G$8="Julio",1,IF('Análisis Datos'!$G$8="Agosto",1,IF('Análisis Datos'!$G$8="Septiembre",1,IF('Análisis Datos'!$G$8="Octubre",1,IF('Análisis Datos'!$G$8="Noviembre",1,IF('Análisis Datos'!$G$8="Diciembre",1,0)))))) -> 0 | X1: =IF('Análisis Datos'!$G$8="Agosto",1,IF('Análisis Datos'!$G$8="Septiembre",1,IF('Análisis Datos'!$G$8="Octubre",1,IF('Análisis Datos'!$G$8="Noviembre",1,IF('Análisis Datos'!$G$8="Diciembre",1,0))))) -> 0 | Y1: =IF('Análisis Datos'!$G$8="Septiembre",1,IF('Análisis Datos'!$G$8="Octubre",1,IF('Análisis Datos'!$G$8="Noviembre",1,IF('Análisis Datos'!$G$8="Diciembre",1,0)))) -> 0 | Z1: =IF('Análisis Datos'!$G$8="Octubre",1,IF('Análisis Datos'!$G$8="Noviembre",1,IF('Análisis Datos'!$G$8="Diciembre",1,0))) -> 0 | AA1: =IF('Análisis Datos'!$G$8="Noviembre",1,IF('Análisis Datos'!$G$8="Diciembre",1,0)) -> 0 | AB1: =IF('Análisis Datos'!$G$8="Noviembre",1,IF('Análisis Datos'!$G$8="Diciembre",1,0)) -> 0
A2: 2018 | B2: Enero | C2: Febrero | D2: Marzo | E2: Abril | F2: Mayo | G2: Junio | H2: Julio | I2: Agosto | J2: Septiembre | K2: Octubre | L2: Noviembre | M2: Diciembre | N2: Total | P2: 2019 | Q2: Enero | R2: Febrero | S2: Marzo | T2: Abril | U2: Mayo | V2: Junio | W2: Julio | X2: Agosto | Y2: Septiembre | Z2: Octubre | AA2: Noviembre | AB2: Diciembre | AC2: Total | AE2: 2019 Budget | AF2: Enero | AG2: Febrero | AH2: Marzo | AI2: Abril | AJ2: Mayo | AK2: Junio | AL2: Julio | AM2: Agosto | AN2: Septiembre | AO2: Octubre | AP2: Noviembre | AQ2: Diciembre | AR2: Total
A3: Ingresos | B3: 32579.17 | C3: 29189.39 | D3: 47690.29 | E3: 47464.07 | F3: 32929.94 | G3: 24244.12 | H3: 42547.55 | I3: 12974.86 | J3: 22140.6 | K3: 18703.25 | L3: 27978.1 | M3: 37262.62 | N3: 375703.96 | P3: Ingresos | Q3: =Q4 -> 11846.28 | R3: =R4 -> 25168.1 | S3: =S4 -> 36172.62 | T3: =T4 -> 0 | U3: =U4 -> 0 | V3: =V4 -> 0 | W3: =W4 -> 0 | X3: =X4 -> 0 | ... AB3: =AB4 -> 0 | AC3: =SUM(Q3:AB3) -> 73187 | AE3: Ingresos | AF3: =AF4 -> 50000 | AG3: =AG4 -> 50000 | AH3: =AH4 -> 50000 | AI3: =AI4 -> 50000 | AJ3: =AJ4 -> 50000 | AK3: =AK4 -> 50000 | AL3: =AL4 -> 50000 | AM3: =AM4 -> 50000 | ... AQ3: =AQ4 -> 50000 | AR3: =SUM(AF3:AQ3) -> 600000 | AS3: 600000
A4: Facturas | B4: 25020.7 | C4: 25439.39 | D4: 37558.48 | E4: 44713.5 | F4: 28456.09 | G4: 17300.64 | H4: 31942.55 | I4: 10975.36 | J4: 17111.66 | K4: 11846.28 | L4: 25168.1 | M4: 36172.62 | N4: 311705.37 | P4: Facturas | Q4: =SUMIFS(Facturas!$D$2:$D$640,Facturas!$B$2:$B$640,'Cta Resultados'!Q2) -> 11846.28 | R4: =SUMIFS(Facturas!$D$2:$D$640,Facturas!$B$2:$B$640,'Cta Resultados'!R2) -> 25168.1 | S4: =SUMIFS(Facturas!$D$2:$D$640,Facturas!$B$2:$B$640,'Cta Resultados'!S2) -> 36172.62 | T4: =SUMIFS(Facturas!$D$2:$D$640,Facturas!$B$2:$B$640,'Cta Resultados'!T2) -> 0 | U4: =SUMIFS(Facturas!$D$2:$D$640,Facturas!$B$2:$B$640,'Cta Resultados'!U2) -> 0 | V4: =SUMIFS(Facturas!$D$2:$D$640,Facturas!$B$2:$B$640,'Cta Resultados'!V2) -> 0 | W4: =SUMIFS(Facturas!$D$2:$D$640,Facturas!$B$2:$B$640,'Cta Resultados'!W2) -> 0 | X4: =SUMIFS(Facturas!$D$2:$D$640,Facturas!$B$2:$B$640,'Cta Resultados'!X2) -> 0 | ... AB4: =SUMIFS(Facturas!$D$2:$D$640,Facturas!$B$2:$B$640,'Cta Resultados'!AB2) -> 0 | AC4: =SUM(Q4:AB4) -> 73187 | AE4: Facturas | AF4: =$AS$3/12 -> 50000 | AG4: =$AS$3/12 -> 50000 | AH4: =$AS$3/12 -> 50000 | AI4: =$AS$3/12 -> 50000 | AJ4: =$AS$3/12 -> 50000 | AK4: =$AS$3/12 -> 50000 | AL4: =$AS$3/12 -> 50000 | AM4: =$AS$3/12 -> 50000 | ... AQ4: =$AS$3/12 -> 50000 | AR4: =SUM(AF4:AQ4) -> 600000
A6: Coste Personal | B6: 18627.76 | C6: 16645.587 | D6: 20332.28 | E6: 19107.696 | F6: 17948.393 | G6: 17746.546 | H6: 16617.503 | I6: 16960.105 | J6: 16050.833 | K6: 19552.045 | L6: 19458.739 | M6: 18613.262 | N6: 217660.75 | P6: Coste Personal | Q6: =Q7+Q8 -> 12752.045 | R6: =R7+R8 -> 12208.739 | S6: =S7+S8 -> 11813.262 | T6: =T7+T8 -> 0 | U6: =U7+U8 -> 0 | V6: =V7+V8 -> 0 | W6: =W7+W8 -> 0 | X6: =X7+X8 -> 0 | ... AB6: =AB7+AB8 -> 0 | AC6: =SUM(Q6:AB6) -> 36774.046 | AE6: Coste Personal | AF6: =AF7+AF8 -> 0 | AG6: =AG7+AG8 -> 0 | AH6: =AH7+AH8 -> 0 | AI6: =AI7+AI8 -> 0 | AJ6: =AJ7+AJ8 -> 0 | AK6: =AK7+AK8 -> 0 | AL6: =AL7+AL8 -> 0 | AM6: =AM7+AM8 -> 0 | ... AQ6: =AQ7+AQ8 -> 0 | AR6: =SUM(AF6:AQ6) -> 0
A7: Altas | B7: 4996.26 | C7: 4769.1 | D7: 4884.56 | E7: 5104.23 | F7: 5182.28 | G7: 5160.81 | H7: 5182.28 | I7: 5063.14 | J7: 4444.09 | K7: 4752.2 | L7: 5511.66 | M7: 6298.47 | N7: 61349.08 | P7: Altas | Q7: =SUMIFS('Gastos personal'!$S$2:$S$52,'Gastos personal'!$R$2:$R$52,'Cta Resultados'!Q2) -> 4752.2 | R7: =SUMIFS('Gastos personal'!$S$2:$S$52,'Gastos personal'!$R$2:$R$52,'Cta Resultados'!R2) -> 5061.66 | S7: =SUMIFS('Gastos personal'!$S$2:$S$52,'Gastos personal'!$R$2:$R$52,'Cta Resultados'!S2) -> 6298.47 | T7: =SUMIFS('Gastos personal'!$S$2:$S$52,'Gastos personal'!$R$2:$R$52,'Cta Resultados'!T2) -> 0 | U7: =SUMIFS('Gastos personal'!$S$2:$S$52,'Gastos personal'!$R$2:$R$52,'Cta Resultados'!U2) -> 0 | V7: =SUMIFS('Gastos personal'!$S$2:$S$52,'Gastos personal'!$R$2:$R$52,'Cta Resultados'!V2) -> 0 | W7: =SUMIFS('Gastos personal'!$S$2:$S$52,'Gastos personal'!$R$2:$R$52,'Cta Resultados'!W2) -> 0 | X7: =SUMIFS('Gastos personal'!$S$2:$S$52,'Gastos personal'!$R$2:$R$52,'Cta Resultados'!X2) -> 0 | ... AB7: =SUMIFS('Gastos personal'!$S$2:$S$52,'Gastos personal'!$R$2:$R$52,'Cta Resultados'!AB2) -> 0 | AC7: =SUM(Q7:AB7) -> 16112.33 | AE7: Altas | AR7: =SUM(AF7:AQ7) -> 0
A8: Comerciales | B8: 6831.5 | C8: 5076.487 | D8: 8647.72 | E8: 7203.466 | F8: 5966.113 | G8: 5785.736 | H8: 4635.223 | I8: 5096.965 | J8: 4806.743 | K8: 7999.845 | L8: 7147.0788 | M8: 5514.792 | N8: 74711.669 | P8: Comerciales | Q8: =Comerciales!C6 -> 7999.845 | R8: =Comerciales!D6 -> 7147.0788 | S8: =Comerciales!E6 -> 5514.792 | T8: =Comerciales!F6 -> 0 | U8: =Comerciales!G6 -> 0 | V8: =Comerciales!H6 -> 0 | W8: =Comerciales!I6 -> 0 | X8: =Comerciales!J6 -> 0 | ... AB8: =Comerciales!N6 -> 0 | AC8: =SUM(Q8:AB8) -> 20661.716 | AE8: Comerciales | AR8: =SUM(AF8:AQ8) -> 0
A9: Ratio Personal | B9: 0.57176902 | C9: 0.57026156 | D9: 0.42634004 | E9: 0.4025718 | F9: 0.54504785 | G9: 0.73199382 | H9: 0.3905631 | I9: 1.3071513 | J9: 0.72495023 | K9: 1.0453822 | L9: 0.69549894 | M9: 0.49951565 | N9: 0.57934111 | P9: Ratio Personal | Q9: =Q6/Q3 -> 1.0764599 | R9: =R6/R3 -> 0.48508782 | S9: =S6/S3 -> 0.32658021 | T9: =T6/T3 -> #DIV/0! | U9: =U6/U3 -> #DIV/0! | V9: =V6/V3 -> #DIV/0! | W9: =W6/W3 -> #DIV/0! | X9: =X6/X3 -> #DIV/0! | ... AC9: =AC6/AC3 -> 0.50246691 | AE9: Ratio Personal | AF9: =AF6/AF3 -> 0 | AG9: =AG6/AG3 -> 0 | AH9: =AH6/AH3 -> 0 | AI9: =AI6/AI3 -> 0 | AJ9: =AJ6/AJ3 -> 0 | AK9: =AK6/AK3 -> 0 | AL9: =AL6/AL3 -> 0 | AM9: =AM6/AM3 -> 0 | ... AR9: =AR6/AR3 -> 0
A11: Gastos Indirectos | B11: 13917.15 | C11: 12469.94 | D11: 14488.31 | E11: 12825.18 | F11: 16289.15 | G11: 17815.895 | H11: 10963.97 | I11: 8568.69 | J11: 9324.74 | K11: 10132.45 | L11: 14386.08 | M11: 22539.125 | N11: 163720.68 | P11: Gastos Indirectos | Q11: =SUM(Q12:Q18) -> 8908.45 | R11: =SUM(R12:R18) -> 13200.58 | S11: =SUM(S12:S18) -> 18176.515 | T11: =SUM(T12:T18) -> 0 | U11: =SUM(U12:U18) -> 0 | V11: =SUM(V12:V18) -> 0 | W11: =SUM(W12:W18) -> 0 | X11: =SUM(X12:X18) -> 0 | ... AB11: =SUM(AB12:AB18) -> 0 | AC11: =SUM(Q11:AB11) -> 40285.545 | AE11: Gastos Indirectos | AF11: =SUM(AF12:AF18) -> 0 | AG11: =SUM(AG12:AG18) -> 0 | AH11: =SUM(AH12:AH18) -> 0 | AI11: =SUM(AI12:AI18) -> 0 | AJ11: =SUM(AJ12:AJ18) -> 0 | AK11: =SUM(AK12:AK18) -> 0 | AL11: =SUM(AL12:AL18) -> 0 | AM11: =SUM(AM12:AM18) -> 0 | ... AQ11: =SUM(AQ12:AQ18) -> 0 | AR11: =SUM(AF11:AQ11) -> 0
A12: Alquiler | B12: 4000 | C12: 4000 | D12: 4000 | E12: 4000 | F12: 4000 | G12: 4000 | H12: 4000 | I12: 4000 | J12: 4000 | K12: 4000 | L12: 4000 | M12: 4000 | N12: 48000 | P12: Alquiler | Q12: 4000 | R12: 4000 | S12: 4000 | AC12: =SUM(Q12:AB12) -> 12000 | AE12: Alquiler | AR12: =SUM(AF12:AQ12) -> 0
A13: Suministro | B13: 1968.92 | C13: 1859.77 | D13: 2493.38 | E13: 1949.32 | F13: 2433 | G13: 1892.61 | H13: 1899.07 | I13: 1429.04 | J13: 1543.53 | K13: 2614.8 | L13: 1686.12 | M13: 2829.27 | N13: 24598.83 | P13: Suministro | Q13: =SUMIFS(Gastos!$F$2:$F$164,Gastos!$D$2:$D$164,'Cta Resultados'!Q2,Gastos!$M$2:$M$164,'Cta Resultados'!$P$13) -> 2614.8 | R13: =SUMIFS(Gastos!$F$2:$F$164,Gastos!$D$2:$D$164,'Cta Resultados'!R2,Gastos!$M$2:$M$164,'Cta Resultados'!$P$13) -> 1686.12 | S13: =SUMIFS(Gastos!$F$2:$F$164,Gastos!$D$2:$D$164,'Cta Resultados'!S2,Gastos!$M$2:$M$164,'Cta Resultados'!$P$13) -> 2829.27 | T13: =SUMIFS(Gastos!$F$2:$F$164,Gastos!$D$2:$D$164,'Cta Resultados'!T2,Gastos!$M$2:$M$164,'Cta Resultados'!$P$13) -> 0 | U13: =SUMIFS(Gastos!$F$2:$F$164,Gastos!$D$2:$D$164,'Cta Resultados'!U2,Gastos!$M$2:$M$164,'Cta Resultados'!$P$13) -> 0 | V13: =SUMIFS(Gastos!$F$2:$F$164,Gastos!$D$2:$D$164,'Cta Resultados'!V2,Gastos!$M$2:$M$164,'Cta Resultados'!$P$13) -> 0 | W13: =SUMIFS(Gastos!$F$2:$F$164,Gastos!$D$2:$D$164,'Cta Resultados'!W2,Gastos!$M$2:$M$164,'Cta Resultados'!$P$13) -> 0 | X13: =SUMIFS(Gastos!$F$2:$F$164,Gastos!$D$2:$D$164,'Cta Resultados'!X2,Gastos!$M$2:$M$164,'Cta Resultados'!$P$13) -> 0 | ... AB13: =SUMIFS(Gastos!$F$2:$F$164,Gastos!$D$2:$D$164,'Cta Resultados'!AB2,Gastos!$M$2:$M$164,'Cta Resultados'!$P$13) -> 0 | AC13: =SUM(Q13:AB13) -> 7130.19 | AE13: Suministro | AR13: =SUM(AF13:AQ13) -> 0
A14: Servicios Profesionales | B14: 2639.14 | C14: 1732.32 | D14: 1146.34 | E14: 1741.79 | F14: 3528.26 | G14: 1422.07 | H14: 1746.47 | I14: 2648.5 | J14: 949.31 | K14: 1668.59 | L14: 2297.17 | M14: 3733.18 | N14: 25253.14 | P14: Servicios Profesionales | Q14: =SUMIFS(Gastos!$F$2:$F$164,Gastos!$D$2:$D$164,'Cta Resultados'!Q2,Gastos!$M$2:$M$164,'Cta Resultados'!$P$14) -> 1668.59 | R14: =SUMIFS(Gastos!$F$2:$F$164,Gastos!$D$2:$D$164,'Cta Resultados'!R2,Gastos!$M$2:$M$164,'Cta Resultados'!$P$14) -> 2297.17 | S14: =SUMIFS(Gastos!$F$2:$F$164,Gastos!$D$2:$D$164,'Cta Resultados'!S2,Gastos!$M$2:$M$164,'Cta Resultados'!$P$14) -> 3733.18 | T14: =SUMIFS(Gastos!$F$2:$F$164,Gastos!$D$2:$D$164,'Cta Resultados'!T2,Gastos!$M$2:$M$164,'Cta Resultados'!$P$14) -> 0 | U14: =SUMIFS(Gastos!$F$2:$F$164,Gastos!$D$2:$D$164,'Cta Resultados'!U2,Gastos!$M$2:$M$164,'Cta Resultados'!$P$14) -> 0 | V14: =SUMIFS(Gastos!$F$2:$F$164,Gastos!$D$2:$D$164,'Cta Resultados'!V2,Gastos!$M$2:$M$164,'Cta Resultados'!$P$14) -> 0 | W14: =SUMIFS(Gastos!$F$2:$F$164,Gastos!$D$2:$D$164,'Cta Resultados'!W2,Gastos!$M$2:$M$164,'Cta Resultados'!$P$14) -> 0 | X14: =SUMIFS(Gastos!$F$2:$F$164,Gastos!$D$2:$D$164,'Cta Resultados'!X2,Gastos!$M$2:$M$164,'Cta Resultados'!$P$14) -> 0 | ... AB14: =SUMIFS(Gastos!$F$2:$F$164,Gastos!$D$2:$D$164,'Cta Resultados'!AB2,Gastos!$M$2:$M$164,'Cta Resultados'!$P$14) -> 0 | AC14: =SUM(Q14:AB14) -> 7698.94 | AE14: Servicios Profesionales | AR14: =SUM(AF14:AQ14) -> 0
A15: Mantenimiento | B15: 2006.35 | C15: 1922.84 | D15: 2255.79 | E15: 332.56 | F15: 3214.22 | G15: 4581.105 | H15: 2126.43 | I15: 211.15 | J15: 2031.9 | K15: 525.06 | L15: 3699.24 | M15: 4418.035 | N15: 27324.68 | P15: Mantenimiento | Q15: =SUMIFS(Gastos!$F$2:$F$164,Gastos!$D$2:$D$164,'Cta Resultados'!Q2,Gastos!$M$2:$M$164,'Cta Resultados'!$P$15) -> 525.06 | R15: =SUMIFS(Gastos!$F$2:$F$164,Gastos!$D$2:$D$164,'Cta Resultados'!R2,Gastos!$M$2:$M$164,'Cta Resultados'!$P$15) -> 3699.24 | S15: =SUMIFS(Gastos!$F$2:$F$164,Gastos!$D$2:$D$164,'Cta Resultados'!S2,Gastos!$M$2:$M$164,'Cta Resultados'!$P$15) -> 4418.035 | T15: =SUMIFS(Gastos!$F$2:$F$164,Gastos!$D$2:$D$164,'Cta Resultados'!T2,Gastos!$M$2:$M$164,'Cta Resultados'!$P$15) -> 0 | U15: =SUMIFS(Gastos!$F$2:$F$164,Gastos!$D$2:$D$164,'Cta Resultados'!U2,Gastos!$M$2:$M$164,'Cta Resultados'!$P$15) -> 0 | V15: =SUMIFS(Gastos!$F$2:$F$164,Gastos!$D$2:$D$164,'Cta Resultados'!V2,Gastos!$M$2:$M$164,'Cta Resultados'!$P$15) -> 0 | W15: =SUMIFS(Gastos!$F$2:$F$164,Gastos!$D$2:$D$164,'Cta Resultados'!W2,Gastos!$M$2:$M$164,'Cta Resultados'!$P$15) -> 0 | X15: =SUMIFS(Gastos!$F$2:$F$164,Gastos!$D$2:$D$164,'Cta Resultados'!X2,Gastos!$M$2:$M$164,'Cta Resultados'!$P$15) -> 0 | ... AB15: =SUMIFS(Gastos!$F$2:$F$164,Gastos!$D$2:$D$164,'Cta Resultados'!AB2,Gastos!$M$2:$M$164,'Cta Resultados'!$P$15) -> 0 | AC15: =SUM(Q15:AB15) -> 8642.335 | AE15: Mantenimiento | AR15: =SUM(AF15:AQ15) -> 0
A16: Colaborador Jurídico | B16: 2180 | C16: 2476.14 | D16: 3373.17 | E16: 1546.15 | F16: 1680.89 | G16: 0 | H16: 648 | I16: 0 | J16: 100 | K16: 0 | L16: 0 | M16: 706.26 | N16: 12710.61 | P16: Colaborador Jurídico | Q16: =SUMIFS(Gastos!$F$2:$F$164,Gastos!$D$2:$D$164,'Cta Resultados'!Q2,Gastos!$M$2:$M$164,'Cta Resultados'!$P$16) -> 0 | R16: =SUMIFS(Gastos!$F$2:$F$164,Gastos!$D$2:$D$164,'Cta Resultados'!R2,Gastos!$M$2:$M$164,'Cta Resultados'!$P$16) -> 0 | S16: =SUMIFS(Gastos!$F$2:$F$164,Gastos!$D$2:$D$164,'Cta Resultados'!S2,Gastos!$M$2:$M$164,'Cta Resultados'!$P$16) -> 706.26 | T16: =SUMIFS(Gastos!$F$2:$F$164,Gastos!$D$2:$D$164,'Cta Resultados'!T2,Gastos!$M$2:$M$164,'Cta Resultados'!$P$16) -> 0 | U16: =SUMIFS(Gastos!$F$2:$F$164,Gastos!$D$2:$D$164,'Cta Resultados'!U2,Gastos!$M$2:$M$164,'Cta Resultados'!$P$16) -> 0 | V16: =SUMIFS(Gastos!$F$2:$F$164,Gastos!$D$2:$D$164,'Cta Resultados'!V2,Gastos!$M$2:$M$164,'Cta Resultados'!$P$16) -> 0 | W16: =SUMIFS(Gastos!$F$2:$F$164,Gastos!$D$2:$D$164,'Cta Resultados'!W2,Gastos!$M$2:$M$164,'Cta Resultados'!$P$16) -> 0 | X16: =SUMIFS(Gastos!$F$2:$F$164,Gastos!$D$2:$D$164,'Cta Resultados'!X2,Gastos!$M$2:$M$164,'Cta Resultados'!$P$16) -> 0 | ... AB16: =SUMIFS(Gastos!$F$2:$F$164,Gastos!$D$2:$D$164,'Cta Resultados'!AB2,Gastos!$M$2:$M$164,'Cta Resultados'!$P$16) -> 0 | AC16: =SUM(Q16:AB16) -> 706.26 | AE16: Colaborador Jurídico | AR16: =SUM(AF16:AQ16) -> 0
A17: Publicidad, RRSS, WEB | B17: 700 | C17: 200 | D17: 100 | E17: 1040 | F17: 945 | G17: 100 | H17: 100 | I17: 100 | J17: 700 | K17: 100 | L17: 760 | M17: 2489.77 | N17: 7334.77 | P17: Publicidad, RRSS, WEB | Q17: =SUMIFS(Gastos!$F$2:$F$164,Gastos!$D$2:$D$164,'Cta Resultados'!Q2,Gastos!$M$2:$M$164,'Cta Resultados'!$P$17) -> 100 | R17: =SUMIFS(Gastos!$F$2:$F$164,Gastos!$D$2:$D$164,'Cta Resultados'!R2,Gastos!$M$2:$M$164,'Cta Resultados'!$P$17) -> 760 | S17: =SUMIFS(Gastos!$F$2:$F$164,Gastos!$D$2:$D$164,'Cta Resultados'!S2,Gastos!$M$2:$M$164,'Cta Resultados'!$P$17) -> 2489.77 | T17: =SUMIFS(Gastos!$F$2:$F$164,Gastos!$D$2:$D$164,'Cta Resultados'!T2,Gastos!$M$2:$M$164,'Cta Resultados'!$P$17) -> 0 | U17: =SUMIFS(Gastos!$F$2:$F$164,Gastos!$D$2:$D$164,'Cta Resultados'!U2,Gastos!$M$2:$M$164,'Cta Resultados'!$P$17) -> 0 | V17: =SUMIFS(Gastos!$F$2:$F$164,Gastos!$D$2:$D$164,'Cta Resultados'!V2,Gastos!$M$2:$M$164,'Cta Resultados'!$P$17) -> 0 | W17: =SUMIFS(Gastos!$F$2:$F$164,Gastos!$D$2:$D$164,'Cta Resultados'!W2,Gastos!$M$2:$M$164,'Cta Resultados'!$P$17) -> 0 | X17: =SUMIFS(Gastos!$F$2:$F$164,Gastos!$D$2:$D$164,'Cta Resultados'!X2,Gastos!$M$2:$M$164,'Cta Resultados'!$P$17) -> 0 | ... AB17: =SUMIFS(Gastos!$F$2:$F$164,Gastos!$D$2:$D$164,'Cta Resultados'!AB2,Gastos!$M$2:$M$164,'Cta Resultados'!$P$17) -> 0 | AC17: =SUM(Q17:AB17) -> 3349.77 | AE17: Publicidad, RRSS, WEB | AR17: =SUM(AF17:AQ17) -> 0
A18: Seguros | B18: 0 | C18: 278.87 | D18: 883.17 | E18: 0 | F18: 487.78 | G18: 0 | H18: 0 | I18: 0 | J18: 0 | K18: 0 | L18: 758.05 | M18: 0 | N18: 2407.87 | P18: Seguros | Q18: =SUMIFS(Gastos!$F$2:$F$164,Gastos!$D$2:$D$164,'Cta Resultados'!Q2,Gastos!$M$2:$M$164,'Cta Resultados'!$P$18) -> 0 | R18: =SUMIFS(Gastos!$F$2:$F$164,Gastos!$D$2:$D$164,'Cta Resultados'!R2,Gastos!$M$2:$M$164,'Cta Resultados'!$P$18) -> 758.05 | S18: =SUMIFS(Gastos!$F$2:$F$164,Gastos!$D$2:$D$164,'Cta Resultados'!S2,Gastos!$M$2:$M$164,'Cta Resultados'!$P$18) -> 0 | T18: =SUMIFS(Gastos!$F$2:$F$164,Gastos!$D$2:$D$164,'Cta Resultados'!T2,Gastos!$M$2:$M$164,'Cta Resultados'!$P$18) -> 0 | U18: =SUMIFS(Gastos!$F$2:$F$164,Gastos!$D$2:$D$164,'Cta Resultados'!U2,Gastos!$M$2:$M$164,'Cta Resultados'!$P$18) -> 0 | V18: =SUMIFS(Gastos!$F$2:$F$164,Gastos!$D$2:$D$164,'Cta Resultados'!V2,Gastos!$M$2:$M$164,'Cta Resultados'!$P$18) -> 0 | W18: =SUMIFS(Gastos!$F$2:$F$164,Gastos!$D$2:$D$164,'Cta Resultados'!W2,Gastos!$M$2:$M$164,'Cta Resultados'!$P$18) -> 0 | X18: =SUMIFS(Gastos!$F$2:$F$164,Gastos!$D$2:$D$164,'Cta Resultados'!X2,Gastos!$M$2:$M$164,'Cta Resultados'!$P$18) -> 0 | ... AB18: =SUMIFS(Gastos!$F$2:$F$164,Gastos!$D$2:$D$164,'Cta Resultados'!AB2,Gastos!$M$2:$M$164,'Cta Resultados'!$P$18) -> 0 | AC18: =SUM(Q18:AB18) -> 758.05 | AE18: Seguros | AR18: =SUM(AF18:AQ18) -> 0
A19: Ratio gastos Indirectos | B19: 0.42717939 | C19: 0.42720797 | D19: 0.3038 | E19: 0.27020818 | F19: 0.49466079 | G19: 0.73485427 | H19: 0.25768746 | I19: 0.66040713 | J19: 0.42116022 | K19: 0.54174809 | L19: 0.51419074 | M19: 0.60487226 | P19: Ratio gastos Indirectos | Q19: =Q11/Q3 -> 0.752004 | R19: =R11/R3 -> 0.52449649 | S19: =S11/S3 -> 0.50249374 | T19: =T11/T3 -> #DIV/0! | U19: =U11/U3 -> #DIV/0! | V19: =V11/V3 -> #DIV/0! | W19: =W11/W3 -> #DIV/0! | X19: =X11/X3 -> #DIV/0! | ... AB19: =AB11/AB3 -> #DIV/0! | AE19: Ratio gastos Indirectos | AF19: =AF11/AF3 -> 0 | AG19: =AG11/AG3 -> 0 | AH19: =AH11/AH3 -> 0 | AI19: =AI11/AI3 -> 0 | AJ19: =AJ11/AJ3 -> 0 | AK19: =AK11/AK3 -> 0 | AL19: =AL11/AL3 -> 0 | AM19: =AM11/AM3 -> 0 | ... AQ19: =AQ11/AQ3 -> 0
A21: Total Gastos | B21: 32544.91 | C21: 29115.527 | D21: 34820.59 | E21: 31932.876 | F21: 34237.543 | G21: 35562.441 | H21: 27581.473 | I21: 25528.795 | J21: 25375.573 | K21: 29684.495 | L21: 33844.819 | M21: 41152.387 | N21: 381381.43 | P21: Total Gastos | Q21: =Q6+Q11 -> 21660.495 | R21: =R6+R11 -> 25409.319 | S21: =S6+S11 -> 29989.777 | T21: =T6+T11 -> 0 | U21: =U6+U11 -> 0 | V21: =V6+V11 -> 0 | W21: =W6+W11 -> 0 | X21: =X6+X11 -> 0 | ... AB21: =AB6+AB11 -> 0 | AC21: =SUM(Q21:AB21) -> 77059.591 | AE21: Total Gastos | AF21: =AF6+AF11 -> 0 | AG21: =AG6+AG11 -> 0 | AH21: =AH6+AH11 -> 0 | AI21: =AI6+AI11 -> 0 | AJ21: =AJ6+AJ11 -> 0 | AK21: =AK6+AK11 -> 0 | AL21: =AL6+AL11 -> 0 | AM21: =AM6+AM11 -> 0 | ... AQ21: =AQ6+AQ11 -> 0 | AR21: =SUM(AF21:AQ21) -> 0
A22: Resultado Operativo | B22: 34.26 | C22: 73.863 | D22: 12869.7 | E22: 15531.194 | F22: -1307.603 | G22: -11318.321 | H22: 14966.077 | I22: -12553.935 | J22: -3234.973 | K22: -10981.245 | L22: -5866.7188 | M22: -3889.767 | N22: -5677.4688 | P22: Resultado Operativo | Q22: =Q3-Q6-Q11 -> -9814.215 | R22: =R3-R6-R11 -> -241.21884 | S22: =S3-S6-S11 -> 6182.843 | T22: =T3-T6-T11 -> 0 | U22: =U3-U6-U11 -> 0 | V22: =V3-V6-V11 -> 0 | W22: =W3-W6-W11 -> 0 | X22: =X3-X6-X11 -> 0 | ... AB22: =AB3-AB6-AB11 -> 0 | AC22: =SUM(Q22:AB22) -> -3872.5908 | AE22: Resultado Operativo | AF22: =AF3-AF6-AF11 -> 50000 | AG22: =AG3-AG6-AG11 -> 50000 | AH22: =AH3-AH6-AH11 -> 50000 | AI22: =AI3-AI6-AI11 -> 50000 | AJ22: =AJ3-AJ6-AJ11 -> 50000 | AK22: =AK3-AK6-AK11 -> 50000 | AL22: =AL3-AL6-AL11 -> 50000 | AM22: =AM3-AM6-AM11 -> 50000 | ... AQ22: =AQ3-AQ6-AQ11 -> 50000 | AR22: =SUM(AF22:AQ22) -> 600000
B23: 0.0010515922 | C23: 0.0025304743 | D23: 0.26985997 | E23: 0.32722002 | F23: -0.039708636 | G23: -0.46684809 | H23: 0.35174944 | I23: -0.96755842 | J23: -0.14611045 | K23: -0.58713031 | L23: -0.20968968 | M23: -0.10438791 | Q23: =Q22/Q3 -> -0.82846387 | R23: =R22/R3 -> -0.0095843088 | S23: =S22/S3 -> 0.17092605 | T23: =T22/T3 -> #DIV/0! | U23: =U22/U3 -> #DIV/0! | V23: =V22/V3 -> #DIV/0! | W23: =W22/W3 -> #DIV/0! | X23: =X22/X3 -> #DIV/0! | ... AB23: =AB22/AB3 -> #DIV/0! | AF23: =AF22/AF3 -> 1 | AG23: =AG22/AG3 -> 1 | AH23: =AH22/AH3 -> 1 | AI23: =AI22/AI3 -> 1 | AJ23: =AJ22/AJ3 -> 1 | AK23: =AK22/AK3 -> 1 | AL23: =AL22/AL3 -> 1 | AM23: =AM22/AM3 -> 1 | ... AQ23: =AQ22/AQ3 -> 1
A25: Amortizaciones | N25: 0 | P25: Amortizaciones | AC25: =SUM(Q25:AB25) -> 0 | AE25: Amortizaciones | AR25: =SUM(AF25:AQ25) -> 0
A26: Gasto Extraor / Finan | B26: 1556.65 | C26: 1004.72 | D26: 1111.02 | E26: 1443.07 | F26: 1326.1 | G26: 1107.24 | H26: 1727.17 | I26: 978.18 | J26: 972.66 | K26: 1018.66 | L26: 955.66 | M26: 1846.39 | N26: 15047.52 | P26: Gasto Extraor / Finan | Q26: =SUMIFS(Gastos!$F:$F,Gastos!$D:$D,'Cta Resultados'!Q2,Gastos!$M:$M,"gastos financiero") -> 1018.66 | R26: =SUMIFS(Gastos!$F:$F,Gastos!$D:$D,'Cta Resultados'!R2,Gastos!$M:$M,"gastos financiero") -> 955.66 | S26: =SUMIFS(Gastos!$F:$F,Gastos!$D:$D,'Cta Resultados'!S2,Gastos!$M:$M,"gastos financiero") -> 1846.39 | T26: =SUMIFS(Gastos!$F:$F,Gastos!$D:$D,'Cta Resultados'!T2,Gastos!$M:$M,"gastos financiero") -> 0 | U26: =SUMIFS(Gastos!$F:$F,Gastos!$D:$D,'Cta Resultados'!U2,Gastos!$M:$M,"gastos financiero") -> 0 | V26: =SUMIFS(Gastos!$F:$F,Gastos!$D:$D,'Cta Resultados'!V2,Gastos!$M:$M,"gastos financiero") -> 0 | W26: =SUMIFS(Gastos!$F:$F,Gastos!$D:$D,'Cta Resultados'!W2,Gastos!$M:$M,"gastos financiero") -> 0 | X26: =SUMIFS(Gastos!$F:$F,Gastos!$D:$D,'Cta Resultados'!X2,Gastos!$M:$M,"gastos financiero") -> 0 | ... AB26: =SUMIFS(Gastos!$F:$F,Gastos!$D:$D,'Cta Resultados'!AB2,Gastos!$M:$M,"gastos financiero") -> 0 | AC26: =SUM(Q26:AB26) -> 3820.71 | AE26: Gasto Extraor / Finan | AR26: =SUM(AF26:AQ26) -> 0
A27: Resultado de Explotación | B27: -1522.39 | C27: -930.857 | D27: 11758.68 | E27: 14088.124 | F27: -2633.703 | G27: -12425.561 | H27: 13238.907 | I27: -13532.115 | J27: -4207.633 | K27: -11999.905 | L27: -6822.3788 | M27: -5736.157 | N27: -20724.989 | P27: Resultado de Explotación | Q27: =Q22-Q25-Q26 -> -10832.875 | R27: =R22-R25-R26 -> -1196.8788 | S27: =S22-S25-S26 -> 4336.453 | T27: =T22-T25-T26 -> 0 | U27: =U22-U25-U26 -> 0 | V27: =V22-V25-V26 -> 0 | W27: =W22-W25-W26 -> 0 | X27: =X22-X25-X26 -> 0 | ... AB27: =AB22-AB25-AB26 -> 0 | AC27: =SUM(Q27:AB27) -> -7693.3008 | AE27: Resultado de Explotación | AF27: =AF22-AF25-AF26 -> 50000 | AG27: =AG22-AG25-AG26 -> 50000 | AH27: =AH22-AH25-AH26 -> 50000 | AI27: =AI22-AI25-AI26 -> 50000 | AJ27: =AJ22-AJ25-AJ26 -> 50000 | AK27: =AK22-AK25-AK26 -> 50000 | AL27: =AL22-AL25-AL26 -> 50000 | AM27: =AM22-AM25-AM26 -> 50000 | ... AQ27: =AQ22-AQ25-AQ26 -> 50000 | AR27: =SUM(AF27:AQ27) -> 600000
A29: Resultado Neto antes de I.S. | B29: -1522.39 | C29: -930.857 | D29: 11758.68 | E29: 14088.124 | F29: -2633.703 | G29: -12425.561 | H29: 13238.907 | I29: -13532.115 | J29: -4207.633 | K29: -11999.905 | L29: -6822.3788 | M29: -5736.157 | N29: -20724.989 | P29: Resultado Neto antes de I.S. | Q29: =Q27 -> -10832.875 | R29: =R27 -> -1196.8788 | S29: =S27 -> 4336.453 | T29: =T27 -> 0 | U29: =U27 -> 0 | V29: =V27 -> 0 | W29: =W27 -> 0 | X29: =X27 -> 0 | ... AB29: =AB27 -> 0 | AC29: =SUM(Q29:AB29) -> -7693.3008 | AE29: Resultado Neto antes de I.S. | AF29: =AF27 -> 50000 | AG29: =AG27 -> 50000 | AH29: =AH27 -> 50000 | AI29: =AI27 -> 50000 | AJ29: =AJ27 -> 50000 | AK29: =AK27 -> 50000 | AL29: =AL27 -> 50000 | AM29: =AM27 -> 50000 | ... AQ29: =AQ27 -> 50000 | AR29: =SUM(AF29:AQ29) -> 600000
B30: -0.046728938 | C30: -0.031890252 | D30: 0.2465634 | E30: 0.2968166 | F30: -0.07997898 | G30: -0.51251854 | H30: 0.31115557 | I30: -1.0429488 | J30: -0.19004151 | K30: -0.64159464 | L30: -0.24384711 | M30: -0.15393864 | N30: -0.055163083 | Q30: =Q29/Q3 -> -0.91445374 | R30: =R29/R3 -> -0.047555391 | S30: =S29/S3 -> 0.11988219 | T30: =T29/T3 -> #DIV/0! | U30: =U29/U3 -> #DIV/0! | V30: =V29/V3 -> #DIV/0! | W30: =W29/W3 -> #DIV/0! | X30: =X29/X3 -> #DIV/0! | ... AC30: =AC29/AC3 -> -0.10511841 | AF30: =AF29/AF3 -> 1 | AG30: =AG29/AG3 -> 1 | AH30: =AH29/AH3 -> 1 | AI30: =AI29/AI3 -> 1 | AJ30: =AJ29/AJ3 -> 1 | AK30: =AK29/AK3 -> 1 | AL30: =AL29/AL3 -> 1 | AM30: =AM29/AM3 -> 1 | ... AR30: =AR29/AR3 -> 1

Sheet Facturas
A1: Serie factura | B1: Fecha factura | C1: Nombre receptor | D1: Total base imponible | E1: Total suplidos | F1: Total IVA | G1: Total | H1: Total pendiente | J1: Suma de Total base imponible | K1: Etiquetas de columna
A2: M | B2: Enero | D2: 100 | E2: 0 | F2: 21 | G2: 121 | H2: 0 | J2: Etiquetas de fila | K2: Octubre | L2: Noviembre | M2: Diciembre
A3: M | B3: Enero | D3: 150 | E3: 0 | F3: 31.5 | G3: 181.5 | H3: 0 | J3: A | K3: 1300 | L3: 2782.65 | M3: 13820.72
A4: M | B4: Enero | D4: 100 | E4: 0 | F4: 21 | G4: 121 | H4: 0 | J4: M | K4: 10546.28 | L4: 22385.45 | M4: 22351.9
A5: M | B5: Enero | D5: 80 | E5: 0 | F5: 16.8 | G5: 96.8 | H5: 0 | J5: Total general | K5: 11846.28 | L5: 25168.1 | M5: 36172.62
A6: M | B6: Enero | D6: 150 | E6: 0 | F6: 31.5 | G6: 181.5 | H6: 0
A7: M | B7: Enero | D7: 100 | E7: 0 | F7: 21 | G7: 121 | H7: 0
A8: M | B8: Enero | D8: 150 | E8: 0 | F8: 31.5 | G8: 181.5 | H8: 0
A9: M | B9: Enero | D9: 150 | E9: 87.89 | F9: 31.5 | G9: 269.39 | H9: 0
A10: M | B10: Enero | D10: 150 | E10: 0 | F10: 31.5 | G10: 181.5 | H10: 0
A11: M | B11: Enero | D11: 150 | E11: 0 | F11: 31.5 | G11: 181.5 | H11: 0
A12: M | B12: Enero | D12: 80 | E12: 0 | F12: 16.8 | G12: 96.8 | H12: 0
A13: A | B13: Enero | D13: 150 | E13: 0 | F13: 31.5 | G13: 181.5 | H13: 0
A14: M | B14: Enero | D14: 80 | E14: 0 | F14: 16.8 | G14: 96.8 | H14: 0
A15: M | B15: Enero | D15: 200 | E15: 0 | F15: 42 | G15: 242 | H15: 0
A16: M | B16: Enero | D16: 150 | E16: 0 | F16: 31.5 | G16: 181.5 | H16: 0
A17: M | B17: Enero | D17: 100 | E17: 0 | F17: 21 | G17: 121 | H17: 0
... A211: M | B211: Marzo | D211: 1295.1 | E211: 0 | F211: 271.97 | G211: 1567.07 | H211: 0

Sheet Gastos personal
C1: TRABAJADOR | D1: BRUTO | E1: DED. S.SOC | F1: IRPF | G1: LIQUIDO | H1: CSTE EMPRE | I1: PR. P. EXT | J1: RET. ESPEC | K1: BON APREND | L1: DTO ESPECI | M1: I.I. CTA | N1: ANTI/EMBAR | O1: BONIFICACI | P1: ILT | Q1: COMPL ILT | R1: Mes
A2: 000036 | H2: 26.53 | O2: 238.78 | R2: Enero | S2: =D2+H2 -> 26.53
A3: 000036 | D3: 488.97 | E3: -31.05 | G3: 457.92 | H3: 151.09 | O3: 132.65 | R3: Febrero | S3: =D3+H3 -> 640.06
A4: 000036 | D4: 977.92 | E4: -62.1 | G4: 915.82 | H4: 302.18 | R4: Marzo | S4: =D4+H4 -> 1280.1
A5: 000002 | D5: 1027.41 | E5: -65.24 | G5: 962.17 | H5: 321.06 | R5: Enero | S5: =D5+H5 -> 1348.47
A6: 000002 | D6: 1027.41 | E6: -65.24 | G6: 962.17 | H6: 321.06 | R6: Febrero | S6: =D6+H6 -> 1348.47
A7: 000002 | D7: 1027.41 | E7: -65.24 | G7: 962.17 | H7: 321.06 | R7: Marzo | S7: =D7+H7 -> 1348.47
A8: 000002 | D8: 901.08 | E8: -57.22 | F8: -18.02 | G8: 825.84 | H8: 0.01 | O8: 281.59 | R8: Enero | S8: =D8+H8 -> 901.09
A9: 000002 | D9: 450.54 | E9: -28.84 | F9: -9.01 | G9: 412.69 | H9: 146.18 | R9: Febrero | S9: =D9+H9 -> 596.72
A10: 000002 | D10: 901.08 | E10: -57.67 | F10: -18.02 | G10: 825.39 | H10: 292.41 | R10: Marzo | S10: =D10+H10 -> 1193.49
A11: 000002 | D11: 1886.56 | E11: -119.8 | F11: -266.76 | G11: 1500 | H11: 589.55 | R11: Enero | S11: =D11+H11 -> 2476.11
A12: 000002 | D12: 1886.8 | E12: -119.82 | F12: -266.98 | G12: 1500 | H12: 589.61 | R12: Febrero | S12: =D12+H12 -> 2476.41
A13: 000002 | D13: 1886.8 | E13: -119.82 | F13: -266.98 | G13: 1500 | H13: 589.61 | R13: Marzo | S13: =D13+H13 -> 2476.41
A14: 000002 | S14: =D14+H14 -> 0
A15: 000002 | S15: =D15+H15 -> 0
A16: 000002 | S16: =D16+H16 -> 0
A17: 000001 | S17: =D17+H17 -> 0
A18: 000001 | S18: =D18+H18 -> 0
A19: 000001 | S19: =D19+H19 -> 0
A20: 000001 | S20: =D20+H20 -> 0
A21: 000001 | S21: =D21+H21 -> 0
A22: 000001 | S22: =D22+H22 -> 0
A23: 000001 | S23: =D23+H23 -> 0
A24: 000001 | S24: =D24+H24 -> 0
A25: 000001 | S25: =D25+H25 -> 0
... A40: 000044 | S40: =D40+H40 -> 0
A41: 000003 | S41: =D41+H41+I41 -> 0
A42: 000003 | S42: =D42+H42+I42 -> 0
A43: 000003 | S43: =D43+H43+I43 -> 0
A44: 000003 | S44: =D44+H44+I44 -> 0
A45: 000003 | S45: =D45+H45+I45 -> 0
A46: 000003 | S46: =D46+H46+I46 -> 0
A47: 000003 | S47: =D47+H47+I47 -> 0
A48: 000003 | S48: =D48+H48+I48 -> 0
A49: 000003 | S49: =D49+H49+I49 -> 0
A50: 000003 | S50: =D50+H50 -> 0
A51: 000003 | S51: =D51+H51 -> 0
A52: 000003 | S52: =D52+H52 -> 0

Sheet Comerciales
B1: OFICINA | C1: ENERO | D1: FEBRERO | E1: MARZO | F1: ABRIL | G1: MAYO | H1: JUNIO | I1: JULIO | J1: AGOSTO | K1: SEPTIEMBRE | L1: OCTUBRE | M1: NOVIEMBRE | N1: DICIEMBRE | O1: TOTAL 2018
A2: Comercial 1 | C2: 650.5 | D2: 3640.65 | E2: 1962.35 | O2: 16468.27
A3: Comercial 2 | C3: 1775.1675 | D3: 670.499 | E3: 264.5 | O3: 15418.346
A4: Comercial 3 | C4: 1845.534 | D4: 759.85784 | E4: 1575.692 | O4: 17938.458
A5: Comercial 4 | C5: 3728.6435 | D5: 2076.072 | E5: 1712.25 | O5: 24886.595
C6: =SUM(C2:C5) -> 7999.845 | D6: =SUM(D2:D5) -> 7147.0788 | E6: =SUM(E2:E5) -> 5514.792 | O6: =SUM(O2:O5) -> 74711.669
C9: ='Análisis Datos'!K6 -> Marzo | D9: Acumulado
A11: Comercial 1 | C11: =VLOOKUP(A11,A2:N2,MATCH($C$9,$A$1:$N$1,0),0) -> 1962.35 | D11: =SUMPRODUCT(C2:N2,'Cta Resultados'!$Q$1:$AB$1) -> 6253.5
A12: Comercial 2 | C12: =VLOOKUP(A12,A3:N3,MATCH($C$9,$A$1:$N$1,0),0) -> 264.5 | D12: =SUMPRODUCT(C3:N3,'Cta Resultados'!$Q$1:$AB$1) -> 2710.1665
A13: Comercial 3 | C13: =VLOOKUP(A13,A4:N4,MATCH($C$9,$A$1:$N$1,0),0) -> 1575.692 | D13: =SUMPRODUCT(C4:N4,'Cta Resultados'!$Q$1:$AB$1) -> 4181.0838
A14: Comercial 4 | C14: =VLOOKUP(A14,A5:N5,MATCH($C$9,$A$1:$N$1,0),0) -> 1712.25 | D14: =SUMPRODUCT(C5:N5,'Cta Resultados'!$Q$1:$AB$1) -> 7516.9655

Sheet Gastos
A1: Num factura | B1: Referencia factura | C1: Oficina | D1: Fecha factura | E1: Nombre ( Proveedores ) | F1: Base imponible | G1: Total IRPF | H1: Total IVA | I1: Total | J1: Total pagado | K1: Total pendiente | L1: Estado | M1: Grupo | N1: Subgrupo
D2: Marzo | F2: 41.32 | G2: 0 | H2: 8.68 | I2: 50 | J2: 0 | K2: 50 | L2: NO cobrado | M2: Suministro | N2: Gasolina
D3: Enero | F3: 40.5 | G3: 0 | H3: 8.51 | I3: 49.01 | J3: 0 | K3: 49.01 | L3: NO cobrado | M3: Servicios Profesionales | N3: Servicios Profesionales
D4: Marzo | F4: 28.31 | G4: 0 | H4: 5.95 | I4: 34.26 | J4: 0 | K4: 34.26 | L4: NO cobrado | M4: Suministro | N4: Material Oficina
D5: Enero | F5: 39.72 | G5: 0 | H5: 8.34 | I5: 48.06 | J5: 48.06 | K5: 0 | L5: Cobrada | M5: Suministro | N5: Gasolina
D6: Febrero | F6: 39.72 | G6: 0 | H6: 8.34 | I6: 48.06 | J6: 48.06 | K6: 0 | L6: Cobrada | M6: Suministro | N6: Gasolina
D7: Marzo | F7: 39.6 | G7: 0 | H7: 8.32 | I7: 47.92 | J7: 47.92 | K7: 0 | L7: Cobrada | M7: Suministro | N7: Gasolina
D8: Febrero | F8: 175 | G8: 12.25 | H8: 0 | I8: 162.75 | J8: 162.75 | K8: 0 | L8: Cobrada | M8: Servicios Profesionales | N8: Servicios Profesionales
D9: Enero | F9: 724.28 | G9: 0 | H9: 152.1 | I9: 876.38 | J9: 0 | K9: 876.38 | L9: NO cobrado | M9: Suministro | N9: Luz
D10: Febrero | F10: 366.16 | G10: 0 | H10: 76.89 | I10: 443.05 | J10: 443.05 | K10: 0 | L10: Cobrada | M10: Suministro | N10: Luz
D11: Marzo | F11: 362.23 | G11: 0 | H11: 76.07 | I11: 438.3 | J11: 438.3 | K11: 0 | L11: Cobrada | M11: Suministro | N11: Luz
D12: Enero | F12: 54.6 | G12: 0 | H12: 11.47 | I12: 66.07 | J12: 66.07 | K12: 0 | L12: Cobrada | M12: Servicios Profesionales | N12: Servicios Profesionales
D13: Enero | F13: 48 | G13: 0 | H13: 10.08 | I13: 58.08 | J13: 58.08 | K13: 0 | L13: Cobrada | M13: Servicios Profesionales | N13: Servicios Profesionales
... D119: Febrero | F119: 190.09 | G119: 0 | H119: 39.92 | I119: 230.01 | J119: 230.01 | K119: 0 | L119: Cobrada | M119: Suministro | N119: Telefonía
D120: Marzo | F120: 126.83 | G120: 0 | H120: 26.63 | I120: 153.46 | J120: 153.46 | K120: 0 | L120: Cobrada | M120: Suministro | N120: Telefonía | O120: pte devolver a Obiter
D121: Marzo | F121: 2278 | G121: 0 | H121: 478.38 | I121: 2756.38 | J121: 229.7 | K121: 2526.68 | L121: Parcialmente Cobrada | M121: Servicios Profesionales | N121: Servicios Profesionales
D122: Enero | F122: 131.4 | G122: 0 | H122: 27.59 | I122: 158.99 | J122: 158.99 | K122: 0 | L122: Cobrada | M122: Suministro | N122: Telefonía
D123: Marzo | F123: 314.04 | G123: 0 | H123: 0 | I123: 0 | J123: 0 | K123: 0 | L123: cobrada | M123: Mantenimiento | N123: Office
D124: Marzo | F124: 102.25 | G124: 0 | H124: 0 | I124: 0 | J124: 0 | K124: 0 | L124: cobrada | M124: Suministro | N124: Gasolina
D125: Marzo | F125: =95.63+98.87 -> 194.5 | G125: 0 | H125: 0 | I125: 0 | J125: 0 | K125: 0 | L125: cobrada | M125: Suministro | N125: Material Oficina
D126: Marzo | F126: 625 | G126: 0 | H126: 0 | I126: 0 | J126: 0 | K126: 0 | L126: Cobrada | M126: Colaborador Jurídico | N126: Colaborador Externo
D127: Marzo | F127: =85.5*2*2 -> 342 | G127: 0 | H127: 0 | I127: 0 | J127: 0 | K127: 0 | L127: Cobrada | M127: Mantenimiento | N127: Retenciones
D128: Marzo | F128: =85.5*3*2 -> 513 | G128: 0 | H128: 0 | I128: 0 | J128: 0 | K128: 0 | L128: Cobrada | M128: Mantenimiento | N128: Retenciones
D129: Marzo | F129: =1261.66/2 -> 630.83 | G129: 0 | H129: 0 | I129: 0 | J129: 0 | K129: 0 | L129: Cobrada | M129: Colaboradores Comerciales | N129: Colaboradores Comerciales
D130: Marzo | F130: =2236.33/2 -> 1118.165 | G130: 0 | H130: 0 | I130: 0 | J130: 0 | K130: 0 | L130: Cobrada | M130: Mantenimiento | N130: Limpieza
D131: Marzo | F131: 914.77 | G131: 0 | H131: 0 | I131: 0 | J131: 0 | K131: 0 | L131: Cobrada | M131: Publicidad, RRSS, WEB | N131: Publicidad, RRSS, WEB
D132: Marzo | F132: 123.56 | G132: 0 | H132: 0 | I132: 0 | J132: 0 | K132: 0 | L132: Cobrada | M132: Suministro | N132: Gasolina
D133: Marzo | F133: =6843.56/2 -> 3421.78 | G133: 0 | H133: 0 | I133: 0 | J133: 0 | K133: 0 | L133: Cobrada | M133: Colaboradores Comerciales | N133: Colaboradores Comerciales
D134: Marzo | F134: 535.23 | G134: 0 | H134: 0 | I134: 0 | J134: 0 | K134: 0 | L134: Cobrada | M134: Mantenimiento | N134: Office
D135: Marzo | F135: 410 | G135: 0 | H135: 0 | I135: 0 | J135: 0 | K135: 0 | L135: Cobrada | M135: Mantenimiento | N135: Material Oficina
D136: Marzo | F136: 650 | G136: 0 | H136: 0 | I136: 0 | J136: 0 | K136: 0 | L136: Cobrada | M136: Publicidad, RRSS, WEB | N136: Publicidad, RRSS, WEB
D137: Marzo | F137: 600 | G137: 0 | H137: 0 | I137: 0 | J137: 0 | K137: 0 | L137: Cobrada | M137: Mantenimiento | N137: Informático
D138: Marzo | F138: 55.99 | G138: 0 | H138: 11.99 | I138: 69.09 | J138: 69.09 | K138: 0 | L138: Cobrada | M138: Suministro | N138: Gasolina
D139: Marzo | F139: 56 | G139: 0 | H139: 6.22 | I139: 62.22 | J139: 62.22 | K139: 0 | L139: Cobrada | M139: Suministro | N139: Agua
D140: Marzo | F140: 61.98 | G140: 0 | H140: 13.02 | I140: 75 | J140: 75 | K140: 0 | L140: Cobrada | M140: Suministro | N140: Gasolina
D141: Marzo | F141: 60.59 | G141: 0 | H141: 12.72 | I141: 73.31 | J141: 73.31 | K141: 0 | L141: Cobrada | M141: Suministro | N141: Gasolina
D142: Marzo | F142: =18*1+1.35+90.45 -> 109.8 | G142: 0 | H142: 0 | I142: 0 | J142: 0 | K142: 0 | L142: Cobrada | M142: Gastos Financiero | N142: Bankinter
D143: Enero | F143: =955.66 -> 955.66 | G143: 0 | H143: 0 | I143: 0 | J143: 0 | K143: 0 | L143: Cobrada | M143: Gastos Financiero | N143: BBVA
D144: Febrero | F144: =955.66 -> 955.66 | G144: 0 | H144: 0 | I144: 0 | J144: 0 | K144: 0 | L144: Cobrada | M144: Gastos Financiero | N144: BBVA
D145: Marzo | F145: =955.66 -> 955.66 | G145: 0 | H145: 0 | I145: 0 | J145: 0 | K145: 0 | L145: Cobrada | M145: Gastos Financiero | N145: BBVA
...
