Workbook

Sheet Análisis Datos
D1: ANÁLISIS DE NEGOCIO CONSOLIDADO 2019
F5: =CONCATENATE("Ventas totales ",G9) -> Ventas totales Marzo | O5: =CONCATENATE("Ventas acumuladas ") -> Ventas acumuladas
J7: Mes | K7: Marzo
G9: =K7 -> Marzo | H9: Acum | J9: =CONCATENATE(G9," ","18") -> Marzo 18 | K9: % | L9: Acum 18 | M9: % | O9: =CONCATENATE(G9," ","BG") -> Marzo BG | P9: % | Q9: Acum BG | R9: %
F10: Ingresos | G10: =VLOOKUP($F$10,'Cta Resultados'!P3:AB3,MATCH('Análisis Datos'!$G$9,'Cta Resultados'!P2:AB2,0),0) -> 49830.649 | H10: =SUMPRODUCT('Cta Resultados'!$Q$1:$AB$1,'Cta Resultados'!Q3:AB3) -> 156109.89 | J10: =VLOOKUP($F$10,'Cta Resultados'!A3:N3,MATCH('Análisis Datos'!$G$9,'Cta Resultados'!A2:N2,0),0) -> 47690.29 | K10: =G10/J10-1 -> 0.044880394 | L10: =SUMPRODUCT('Cta Resultados'!$Q$1:$AB$1,'Cta Resultados'!B3:M3) -> 109458.85 | M10: =H10/L10-1 -> 0.42619705 | O10: =VLOOKUP($F$10,'Cta Resultados'!AE3:AR3,MATCH('Análisis Datos'!$G$9,'Cta Resultados'!AE2:AR2,0),0) -> 53818 | P10: =IFERROR(G10/O10-1,"") -> -0.074089542 | Q10: =SUMPRODUCT('Cta Resultados'!$Q$1:$AB$1,'Cta Resultados'!AF3:AQ3) -> 161454 | R10: =IFERROR(H10/Q10-1,"") -> -0.033099898
F12: Coste personal | G12: =VLOOKUP($F$12,'Cta Resultados'!P13:AB13,MATCH('Análisis Datos'!$G$9,'Cta Resultados'!P2:AB2,0),0) -> 27894.9 | H12: =SUMPRODUCT('Cta Resultados'!$Q$1:$AB$1,'Cta Resultados'!Q13:AB13) -> 88094.47 | J12: =VLOOKUP($F$12,'Cta Resultados'!A13:N13,MATCH('Análisis Datos'!$G$9,'Cta Resultados'!A2:N2,0),0) -> 20332.28 | K12: =G12/J12-1 -> 0.3719514 | L12: =SUMPRODUCT('Cta Resultados'!$Q$1:$AB$1,'Cta Resultados'!B13:M13) -> 55605.627 | M12: =H12/L12-1 -> 0.58427258 | O12: =VLOOKUP($F$12,'Cta Resultados'!AE13:AR13,MATCH('Análisis Datos'!$G$9,'Cta Resultados'!AE2:AR2,0),0) -> 0 | P12: =IFERROR(G12/O12-1,"") | Q12: =SUMPRODUCT('Cta Resultados'!$Q$1:$AB$1,'Cta Resultados'!AF13:AQ13) -> 0 | R12: =IFERROR(H12/Q12-1,"")
F14: Gastos Indirectos | G14: =VLOOKUP($F$14,'Cta Resultados'!P27:AB27,MATCH('Análisis Datos'!$G$9,'Cta Resultados'!P2:AB2,0),0) -> 10782.74 | H14: =SUMPRODUCT('Cta Resultados'!Q27:AB27,'Cta Resultados'!$Q$1:$AB$1) -> 32609.88 | J14: =VLOOKUP($F$14,'Cta Resultados'!A27:N27,MATCH('Análisis Datos'!$G$9,'Cta Resultados'!A2:N2,0),0) -> 14488.31 | K14: =G14/J14-1 -> -0.25576275 | L14: =SUMPRODUCT('Cta Resultados'!B27:M27,'Cta Resultados'!$Q$1:$AB$1) -> 40875.4 | M14: =H14/L14-1 -> -0.20221258 | O14: =VLOOKUP($F$14,'Cta Resultados'!AE27:AR27,MATCH('Análisis Datos'!$G$9,'Cta Resultados'!AE2:AR2,0),0) -> 0 | P14: =IFERROR(G14/O14-1,"") | Q14: =SUMPRODUCT('Cta Resultados'!AF27:AQ27,'Cta Resultados'!$Q$1:$AB$1) -> 0 | R14: =IFERROR(H14/Q14-1,"")
F16: Resultado | G16: =G10-G12-G14 -> 11153.009 | H16: =SUMPRODUCT('Cta Resultados'!Q53:AB53,'Cta Resultados'!$Q$1:$AB$1) -> 32231.529 | J16: =VLOOKUP("Resultado Neto antes de I.S.",'Cta Resultados'!A53:N53,MATCH('Análisis Datos'!$G$9,'Cta Resultados'!A2:N2,0),0) -> 11758.68 | K16: =G16/J16-1 -> -0.051508417 | L16: =SUMPRODUCT('Cta Resultados'!B53:M53,'Cta Resultados'!$Q$1:$AB$1) -> 9305.433 | M16: =H16/L16-1 -> 2.4637323 | O16: =VLOOKUP("Resultado Neto antes de I.S.",'Cta Resultados'!AE53:AR53,MATCH('Análisis Datos'!$G$9,'Cta Resultados'!AE2:AR2,0),0) -> 0 | P16: =IFERROR(G16/O16-1,"") | Q16: =SUMPRODUCT('Cta Resultados'!AF53:AQ53,'Cta Resultados'!$Q$1:$AB$1) -> 0 | R16: =IFERROR(H16/Q16-1,"")

Sheet Análisis Datos AL 2
D1: ANÁLISIS DE NEGOCIO ALMENDRALEJO 2019
F3: ALMENDRALEJO
F5: =CONCATENATE("Ventas totales ",G9) -> Ventas totales Marzo | O5: =CONCATENATE("Ventas acumuladas ") -> Ventas acumuladas
J7: Mes | K7: ='Análisis Datos'!K7 -> Marzo
G9: =K7 -> Marzo | H9: Acum | J9: =CONCATENATE(G9," ","18") -> Marzo 18 | K9: % | L9: Acum 18 | M9: % | O9: =CONCATENATE(G9," ","BG") -> Marzo BG | P9: % | Q9: Acum BG | R9: %
F10: Ingresos | G10: =VLOOKUP(F3,'Cta Resultados'!P10:AB10,MATCH('Análisis Datos AL 2'!$G$9,'Cta Resultados'!P2:AB2,0),0) -> 26959.96 | H10: =SUMPRODUCT('Cta Resultados'!$Q$1:$AB$1,'Cta Resultados'!Q10:AB10) -> 57339.76 | J10: =VLOOKUP($F$3,'Cta Resultados'!A10:N10,MATCH('Análisis Datos AL 2'!$G$9,'Cta Resultados'!A2:N2,0),0) -> 11468.71 | K10: =G10/J10-1 -> 1.3507404 | L10: =SUMPRODUCT('Cta Resultados'!$Q$1:$AB$1,'Cta Resultados'!B10:M10) -> 27467.93 | M10: =H10/L10-1 -> 1.0875166 | O10: =VLOOKUP($F$3,'Cta Resultados'!AE10:AR10,MATCH('Análisis Datos AL 2'!$G$9,'Cta Resultados'!AE2:AR2,0),0) -> 0 | P10: =IFERROR(G10/O10-1,"") | Q10: =SUMPRODUCT('Cta Resultados'!$Q$1:$AB$1,'Cta Resultados'!AF10:AQ10) -> 0 | R10: =IFERROR(H10/Q10-1,"")
F12: Coste personal | G12: =VLOOKUP($F$3,'Cta Resultados'!P23:AB23,MATCH('Análisis Datos AL 2'!$G$9,'Cta Resultados'!P2:AB2,0),0) -> 9023.7 | H12: =SUMPRODUCT('Cta Resultados'!$Q$1:$AB$1,'Cta Resultados'!Q23:AB23) -> 32423.03 | J12: =VLOOKUP($F$3,'Cta Resultados'!A23:N23,MATCH('Análisis Datos AL 2'!$G$9,'Cta Resultados'!A2:N2,0),0) -> 7403.96 | K12: =G12/J12-1 -> 0.21876671 | L12: =SUMPRODUCT('Cta Resultados'!$Q$1:$AB$1,'Cta Resultados'!B23:M23) -> 19494.87 | M12: =H12/L12-1 -> 0.66315703 | O12: =VLOOKUP($F$3,'Cta Resultados'!AE23:AR23,MATCH('Análisis Datos AL 2'!$G$9,'Cta Resultados'!AE2:AR2,0),0) -> 0 | P12: =IFERROR(G12/O12-1,"") | Q12: =SUMPRODUCT('Cta Resultados'!$Q$1:$AB$1,'Cta Resultados'!AF23:AQ23) -> 0 | R12: =IFERROR(H12/Q12-1,"")
F14: Gastos Indirectos | G14: =VLOOKUP($F$3,'Cta Resultados'!P28:AB28,MATCH('Análisis Datos AL 2'!$G$9,'Cta Resultados'!P2:AB2,0),0) -> 4860.91 | H14: =SUMPRODUCT('Cta Resultados'!Q28:AB28,'Cta Resultados'!$Q$1:$AB$1) -> 12274.95 | J14: =VLOOKUP($F$3,'Cta Resultados'!A28:N28,MATCH('Análisis Datos AL 2'!$G$9,'Cta Resultados'!A2:N2,0),0) -> 5548.35 | K14: =G14/J14-1 -> -0.1238999 | L14: =SUMPRODUCT('Cta Resultados'!B28:M28,'Cta Resultados'!$Q$1:$AB$1) -> 12625.03 | M14: =H14/L14-1 -> -0.027729043 | O14: =VLOOKUP($F$3,'Cta Resultados'!AE28:AR28,MATCH('Análisis Datos AL 2'!$G$9,'Cta Resultados'!AE2:AR2,0),0) -> 0 | P14: =IFERROR(G14/O14-1,"") | Q14: =SUMPRODUCT('Cta Resultados'!AF28:AQ28,'Cta Resultados'!$Q$1:$AB$1) -> 0 | R14: =IFERROR(H14/Q14-1,"")
F16: Resultado | G16: =G10-G12-G14 -> 13075.35 | H16: =H10-H12-H14 -> 12641.78 | J16: =J10-J12-J14 -> -1483.6 | K16: =G16/J16-1 -> -9.8132583 | L16: =L10-L12-L14 -> -4651.97 | M16: =H16/L16-1 -> -3.7175111 | O16: =VLOOKUP("Resultado Neto antes de I.S.",'Cta Resultados'!AE53:AR53,MATCH('Análisis Datos AL 2'!$G$9,'Cta Resultados'!AE2:AR2,0),0) -> 0 | P16: =IFERROR(G16/O16-1,"") | Q16: =SUMPRODUCT('Cta Resultados'!AF53:AQ53,'Cta Resultados'!$Q$1:$AB$1) -> 0 | R16: =IFERROR(H16/Q16-1,"")

Sheet Análisis Datos ME
D1: ANÁLISIS DE NEGOCIO MERIDA 2019
F3: MERIDA
F5: =CONCATENATE("Ventas totales ",G9) -> Ventas totales Marzo | O5: =CONCATENATE("Ventas acumuladas ") -> Ventas acumuladas
J7: Mes | K7: ='Análisis Datos'!K7 -> Marzo
G9: =K7 -> Marzo | H9: Acum | J9: =CONCATENATE(G9," ","18") -> Marzo 18 | K9: % | L9: Acum 18 | M9: % | O9: =CONCATENATE(G9," ","BG") -> Marzo BG | P9: % | Q9: Acum BG | R9: %
F10: Ingresos | G10: =VLOOKUP(F3,'Cta Resultados'!P11:AB11,MATCH('Análisis Datos ME'!$G$9,'Cta Resultados'!P2:AB2,0),0) -> 22870.689 | H10: =SUMPRODUCT('Cta Resultados'!$Q$1:$AB$1,'Cta Resultados'!Q11:AB11) -> 98770.129 | J10: =VLOOKUP($F$3,'Cta Resultados'!A11:N11,MATCH('Análisis Datos ME'!$G$9,'Cta Resultados'!A2:N2,0),0) -> 36221.58 | K10: =G10/J10-1 -> -0.36858942 | L10: =SUMPRODUCT('Cta Resultados'!$Q$1:$AB$1,'Cta Resultados'!B11:M11) -> 81990.92 | M10: =H10/L10-1 -> 0.20464716 | O10: =VLOOKUP($F$3,'Cta Resultados'!AE11:AR11,MATCH('Análisis Datos ME'!$G$9,'Cta Resultados'!AE2:AR2,0),0) -> 0 | P10: =IFERROR(G10/O10-1,"") | Q10: =SUMPRODUCT('Cta Resultados'!$Q$1:$AB$1,'Cta Resultados'!AF11:AQ11) -> 0 | R10: =IFERROR(H10/Q10-1,"")
F12: Coste personal | G12: =VLOOKUP($F$3,'Cta Resultados'!P24:AB24,MATCH('Análisis Datos ME'!$G$9,'Cta Resultados'!P2:AB2,0),0) -> 18871.2 | H12: =SUMPRODUCT('Cta Resultados'!$Q$1:$AB$1,'Cta Resultados'!Q24:AB24) -> 55671.44 | J12: =VLOOKUP($F$3,'Cta Resultados'!A24:N24,MATCH('Análisis Datos ME'!$G$9,'Cta Resultados'!A2:N2,0),0) -> 12928.32 | K12: =G12/J12-1 -> 0.45967922 | L12: =SUMPRODUCT('Cta Resultados'!$Q$1:$AB$1,'Cta Resultados'!B24:M24) -> 36110.757 | M12: =H12/L12-1 -> 0.54168576 | O12: =VLOOKUP($F$3,'Cta Resultados'!AE24:AR24,MATCH('Análisis Datos ME'!$G$9,'Cta Resultados'!AE2:AR2,0),0) -> 0 | P12: =IFERROR(G12/O12-1,"") | Q12: =SUMPRODUCT('Cta Resultados'!$Q$1:$AB$1,'Cta Resultados'!AF24:AQ24) -> 0 | R12: =IFERROR(H12/Q12-1,"")
F14: Gastos Indirectos | G14: =VLOOKUP($F$3,'Cta Resultados'!P29:AB29,MATCH('Análisis Datos ME'!$G$9,'Cta Resultados'!P2:AB2,0),0) -> 5921.83 | H14: =SUMPRODUCT('Cta Resultados'!Q29:AB29,'Cta Resultados'!$Q$1:$AB$1) -> 20334.93 | J14: =VLOOKUP($F$3,'Cta Resultados'!A29:N29,MATCH('Análisis Datos ME'!$G$9,'Cta Resultados'!A2:N2,0),0) -> 8939.96 | K14: =G14/J14-1 -> -0.33759994 | L14: =SUMPRODUCT('Cta Resultados'!B29:M29,'Cta Resultados'!$Q$1:$AB$1) -> 28250.37 | M14: =H14/L14-1 -> -0.2801889 | O14: =VLOOKUP($F$3,'Cta Resultados'!AE29:AR29,MATCH('Análisis Datos ME'!$G$9,'Cta Resultados'!AE2:AR2,0),0) -> 0 | P14: =IFERROR(G14/O14-1,"") | Q14: =SUMPRODUCT('Cta Resultados'!AF29:AQ29,'Cta Resultados'!$Q$1:$AB$1) -> 0 | R14: =IFERROR(H14/Q14-1,"")
F16: Resultado | G16: =G10-G12-G14 -> -1922.341 | H16: =H10-H12-H14 -> 22763.759 | J16: =J10-J12-J14 -> 14353.3 | K16: =G16/J16-1 -> -1.1339302 | L16: =L10-L12-L14 -> 17629.793 | M16: =H16/L16-1 -> 0.29120966 | O16: =VLOOKUP("Resultado Neto antes de I.S.",'Cta Resultados'!AE53:AR53,MATCH('Análisis Datos ME'!$G$9,'Cta Resultados'!AE2:AR2,0),0) -> 0 | P16: =IFERROR(G16/O16-1,"") | Q16: =SUMPRODUCT('Cta Resultados'!AF53:AQ53,'Cta Resultados'!$Q$1:$AB$1) -> 0 | R16: =IFERROR(H16/Q16-1,"")

Sheet Cta Resultados
B1: 1 | C1: 1 | D1: 1 | E1: 1 | F1: 1 | G1: 1 | H1: 1 | I1: 1 | J1: 1 | K1: 1 | L1: 1 | M1: 1 | Q1: =IF('Análisis Datos'!$G$9="Enero",1,IF('Análisis Datos'!$G$9="Febrero",1,IF('Análisis Datos'!$G$9="Marzo",1,IF('Análisis Datos'!$G$9="Abril",1,IF('Análisis Datos'!$G$9="Mayo",1,IF('Análisis Datos'!$G$9="Junio",1,IF('Análisis Datos'!$G$9="Julio",1,IF('Análisis Datos'!$G$9="Agosto",1,IF('Análisis Datos'!$G$9="Septiembre",1,IF('Análisis Datos'!$G$9="Octubre",1,IF('Análisis Datos'!$G$9="Noviembre",1,IF('Análisis Datos'!$G$9="Diciembre",1,0)))))))))))) -> 1 | R1: =IF('Análisis Datos'!$G$9="Febrero",1,IF('Análisis Datos'!$G$9="Marzo",1,IF('Análisis Datos'!$G$9="Abril",1,IF('Análisis Datos'!$G$9="Mayo",1,IF('Análisis Datos'!$G$9="Junio",1,IF('Análisis Datos'!$G$9="Julio",1,IF('Análisis Datos'!$G$9="Agosto",1,IF('Análisis Datos'!$G$9="Septiembre",1,IF('Análisis Datos'!$G$9="Octubre",1,IF('Análisis Datos'!$G$9="Noviembre",1,IF('Análisis Datos'!$G$9="Diciembre",1,0))))))))))) -> 1 | S1: =IF('Análisis Datos'!$G$9="Marzo",1,IF('Análisis Datos'!$G$9="Abril",1,IF('Análisis Datos'!$G$9="Mayo",1,IF('Análisis Datos'!$G$9="Junio",1,IF('Análisis Datos'!$G$9="Julio",1,IF('Análisis Datos'!$G$9="Agosto",1,IF('Análisis Datos'!$G$9="Septiembre",1,IF('Análisis Datos'!$G$9="Octubre",1,IF('Análisis Datos'!$G$9="Noviembre",1,IF('Análisis Datos'!$G$9="Diciembre",1,0)))))))))) -> 1 | T1: =IF('Análisis Datos'!$G$9="Abril",1,IF('Análisis Datos'!$G$9="Mayo",1,IF('Análisis Datos'!$G$9="Junio",1,IF('Análisis Datos'!$G$9="Julio",1,IF('Análisis Datos'!$G$9="Agosto",1,IF('Análisis Datos'!$G$9="Septiembre",1,IF('Análisis Datos'!$G$9="Octubre",1,IF('Análisis Datos'!$G$9="Noviembre",1,IF('Análisis Datos'!$G$9="Diciembre",1,0))))))))) -> 0 | U1: =IF('Análisis Datos'!$G$9="Mayo",1,IF('Análisis Datos'!$G$9="Junio",1,IF('Análisis Datos'!$G$9="Julio",1,IF('Análisis Datos'!$G$9="Agosto",1,IF('Análisis Datos'!$G$9="Septiembre",1,IF('Análisis Datos'!$G$9="Octubre",1,IF('Análisis Datos'!$G$9="Noviembre",1,IF('Análisis Datos'!$G$9="Diciembre",1,0)))))))) -> 0 | V1: =IF('Análisis Datos'!$G$9="Junio",1,IF('Análisis Datos'!$G$9="Julio",1,IF('Análisis Datos'!$G$9="Agosto",1,IF('Análisis Datos'!$G$9="Septiembre",1,IF('Análisis Datos'!$G$9="Octubre",1,IF('Análisis Datos'!$G$9="Noviembre",1,IF('Análisis Datos'!$G$9="Diciembre",1,0))))))) -> 0 | W1: =IF('Análisis Datos'!$G$9="Julio",1,IF('Análisis Datos'!$G$9="Agosto",1,IF('Análisis Datos'!$G$9="Septiembre",1,IF('Análisis Datos'!$G$9="Octubre",1,IF('Análisis Datos'!$G$9="Noviembre",1,IF('Análisis Datos'!$G$9="Diciembre",1,0)))))) -> 0 | X1: =IF('Análisis Datos'!$G$9="Agosto",1,IF('Análisis Datos'!$G$9="Septiembre",1,IF('Análisis Datos'!$G$9="Octubre",1,IF('Análisis Datos'!$G$9="Noviembre",1,IF('Análisis Datos'!$G$9="Diciembre",1,0))))) -> 0 | Y1: =IF('Análisis Datos'!$G$9="Septiembre",1,IF('Análisis Datos'!$G$9="Octubre",1,IF('Análisis Datos'!$G$9="Noviembre",1,IF('Análisis Datos'!$G$9="Diciembre",1,0)))) -> 0 | Z1: =IF('Análisis Datos'!$G$9="Octubre",1,IF('Análisis Datos'!$G$9="Noviembre",1,IF('Análisis Datos'!$G$9="Diciembre",1,0))) -> 0 | AA1: =IF('Análisis Datos'!$G$9="Noviembre",1,IF('Análisis Datos'!$G$9="Diciembre",1,0)) -> 0 | AB1: =IF('Análisis Datos'!$G$9="Noviembre",1,IF('Análisis Datos'!$G$9="Diciembre",1,0)) -> 0
A2: 2018 | B2: Enero | C2: Febrero | D2: Marzo | E2: Abril | F2: Mayo | G2: Junio | H2: Julio | I2: Agosto | J2: Septiembre | K2: Octubre | L2: Noviembre | M2: Diciembre | N2: Total | P2: 2019 | Q2: Enero | R2: Febrero | S2: Marzo | T2: Abril | U2: Mayo | V2: Junio | W2: Julio | X2: Agosto | Y2: Septiembre | Z2: Octubre | AA2: Noviembre | AB2: Diciembre | AC2: Total | AE2: 2019 Budget | AF2: Enero | AG2: Febrero | AH2: Marzo | AI2: Abril | AJ2: Mayo | AK2: Junio | AL2: Julio | AM2: Agosto | AN2: Septiembre | AO2: Octubre | AP2: Noviembre | AQ2: Diciembre | AR2: Total
A3: Ingresos | B3: 32579.17 | C3: 29189.39 | D3: 47690.29 | E3: 47464.07 | F3: 32929.94 | G3: 24244.12 | H3: 42547.55 | I3: 12974.86 | J3: 22140.6 | K3: 18703.25 | L3: 27978.1 | M3: 37262.62 | N3: 375703.96 | P3: Ingresos | Q3: =Q4+Q7 -> 59177.493 | R3: =R4+R7 -> 47101.747 | S3: =S4+S7 -> 49830.649 | T3: =T4+T7 -> 0 | U3: =U4+U7 -> 0 | V3: =V4+V7 -> 0 | W3: =W4+W7 -> 0 | X3: =X4+X7 -> 0 | ... AB3: =AB4+AB7 -> 0 | AC3: =SUM(Q3:AB3) -> 156109.89 | AE3: Ingresos | AF3: 53818 | AG3: 53818 | AH3: 53818 | AI3: 53818 | AJ3: 53818 | AK3: 53818 | AL3: 53818 | AM3: 8000 | AN3: 53818 | AO3: 53818 | AP3: 53818 | AQ3: 53818 | AR3: =SUM(AF3:AQ3) -> 599998
A4: Facturas | B4: 25020.7 | C4: 25439.39 | D4: 37558.48 | E4: 44713.5 | F4: 28456.09 | G4: 17300.64 | H4: 31942.55 | I4: 10975.36 | J4: 17111.66 | K4: 11846.28 | L4: 25168.1 | M4: 36172.62 | N4: 311705.37 | P4: Facturas | Q4: =SUMIFS(Facturas!$D$2:$D$3000,Facturas!$I$2:$I$3000,'Cta Resultados'!Q2) -> 22885.27 | R4: =SUMIFS(Facturas!$D$2:$D$3000,Facturas!$I$2:$I$3000,'Cta Resultados'!R2) -> 43027.78 | S4: =SUMIFS(Facturas!$D$2:$D$3000,Facturas!$I$2:$I$3000,'Cta Resultados'!S2) -> 35733.93 | T4: =SUMIFS(Facturas!$D$2:$D$3000,Facturas!$I$2:$I$3000,'Cta Resultados'!T2) -> 0 | U4: =SUMIFS(Facturas!$D$2:$D$3000,Facturas!$I$2:$I$3000,'Cta Resultados'!U2) -> 0 | V4: =SUMIFS(Facturas!$D$2:$D$3000,Facturas!$I$2:$I$3000,'Cta Resultados'!V2) -> 0 | W4: =SUMIFS(Facturas!$D$2:$D$3000,Facturas!$I$2:$I$3000,'Cta Resultados'!W2) -> 0 | X4: =SUMIFS(Facturas!$D$2:$D$3000,Facturas!$I$2:$I$3000,'Cta Resultados'!X2) -> 0 | ... AB4: =SUMIFS(Facturas!$D$2:$D$3000,Facturas!$I$2:$I$3000,'Cta Resultados'!AB2) -> 0 | AC4: =SUM(Q4:AB4) -> 101646.98 | AE4: Facturas | AF4: =SUM(AF6+AF5) -> 0 | AG4: =SUM(AG6+AG5) -> 0 | AH4: =SUM(AH6+AH5) -> 0 | AI4: =SUM(AI6+AI5) -> 0 | AJ4: =SUM(AJ6+AJ5) -> 0 | AK4: =SUM(AK6+AK5) -> 0 | AL4: =SUM(AL6+AL5) -> 0 | AM4: =SUM(AM6+AM5) -> 0 | ... AQ4: =SUM(AQ6+AQ5) -> 0 | AR4: =SUM(AF4:AQ4) -> 0
A5: ALMENDRALEJO | B5: 5445.26 | C5: 3397.93 | D5: 9934 | E5: 23019.95 | F5: 5330.58 | G5: 4000 | H5: 19562.81 | I5: 1300 | J5: 4500 | K5: 1300 | L5: 2782.65 | M5: 13820.72 | N5: 94393.9 | P5: ALMENDRALEJO | Q5: =SUMIFS(Facturas!$D:$D,Facturas!$H:$H,"A",Facturas!$I:$I,'Cta Resultados'!Q2) -> 4644.63 | R5: =SUMIFS(Facturas!$D:$D,Facturas!$H:$H,"A",Facturas!$I:$I,'Cta Resultados'!R2) -> 26385.17 | S5: =SUMIFS(Facturas!$D:$D,Facturas!$H:$H,"A",Facturas!$I:$I,'Cta Resultados'!S2) -> 19306.96 | T5: =SUMIFS(Facturas!$D:$D,Facturas!$H:$H,"A",Facturas!$I:$I,'Cta Resultados'!T2) -> 0 | U5: =SUMIFS(Facturas!$D:$D,Facturas!$H:$H,"A",Facturas!$I:$I,'Cta Resultados'!U2) -> 0 | V5: =SUMIFS(Facturas!$D:$D,Facturas!$H:$H,"A",Facturas!$I:$I,'Cta Resultados'!V2) -> 0 | W5: =SUMIFS(Facturas!$D:$D,Facturas!$H:$H,"A",Facturas!$I:$I,'Cta Resultados'!W2) -> 0 | X5: =SUMIFS(Facturas!$D:$D,Facturas!$H:$H,"A",Facturas!$I:$I,'Cta Resultados'!X2) -> 0 | ... AB5: =SUMIFS(Facturas!$D:$D,Facturas!$H:$H,"A",Facturas!$I:$I,'Cta Resultados'!AB2) -> 0 | AC5: =SUM(Q5:AB5) -> 50336.76 | AE5: ALMENDRALEJO | AR5: =SUM(AF5:AQ5) -> 0 | AS5: Rellenar
A6: MERIDA | B6: 19575.44 | C6: 22041.46 | D6: 27624.48 | E6: 21693.55 | F6: 23125.51 | G6: 13300.64 | H6: 12379.74 | I6: 9675.36 | J6: 12611.66 | K6: 10546.28 | L6: 22385.45 | M6: 22351.9 | N6: 217311.47 | P6: MERIDA | Q6: =SUMIFS(Facturas!$D:$D,Facturas!$H:$H,"M",Facturas!$I:$I,'Cta Resultados'!Q2) -> 18240.64 | R6: =SUMIFS(Facturas!$D:$D,Facturas!$H:$H,"M",Facturas!$I:$I,'Cta Resultados'!R2) -> 16642.61 | S6: =SUMIFS(Facturas!$D:$D,Facturas!$H:$H,"M",Facturas!$I:$I,'Cta Resultados'!S2) -> 16426.97 | T6: =SUMIFS(Facturas!$D:$D,Facturas!$H:$H,"M",Facturas!$I:$I,'Cta Resultados'!T2) -> 0 | U6: =SUMIFS(Facturas!$D:$D,Facturas!$H:$H,"M",Facturas!$I:$I,'Cta Resultados'!U2) -> 0 | V6: =SUMIFS(Facturas!$D:$D,Facturas!$H:$H,"M",Facturas!$I:$I,'Cta Resultados'!V2) -> 0 | W6: =SUMIFS(Facturas!$D:$D,Facturas!$H:$H,"M",Facturas!$I:$I,'Cta Resultados'!W2) -> 0 | X6: =SUMIFS(Facturas!$D:$D,Facturas!$H:$H,"M",Facturas!$I:$I,'Cta Resultados'!X2) -> 0 | ... AB6: =SUMIFS(Facturas!$D:$D,Facturas!$H:$H,"M",Facturas!$I:$I,'Cta Resultados'!AB2) -> 0 | AC6: =SUM(Q6:AB6) -> 51310.22 | AE6: MERIDA | AR6: =SUM(AF6:AQ6) -> 0 | AS6: Rellenar
A7: Proformas | B7: 7558.47 | C7: 3750 | D7: 10131.81 | E7: 2750.57 | F7: 4473.85 | G7: 6943.48 | H7: 10605 | I7: 1999.5 | J7: 5028.94 | K7: 6856.97 | L7: 2810 | M7: 1090 | N7: 63998.59 | P7: Proformas | Q7: =Q8+Q9 -> 36292.223 | R7: =R8+R9 -> 4073.9669 | S7: =S8+S9 -> 14096.719 | T7: =Proformas!M7 -> 0 | U7: =Proformas!N7 -> 0 | V7: =Proformas!O7 -> 0 | W7: =Proformas!P7 -> 0 | X7: =Proformas!Q7 -> 0 | Y7: =Proformas!R7 -> 0 | Z7: =Proformas!S7 -> 0 | AA7: =Proformas!T7 -> 0 | AB7: =Proformas!U7 -> 0 | AC7: =SUM(Q7:AB7) -> 54462.909 | AE7: Proformas | AF7: =SUM(AF9+AF8) -> 0 | AG7: =SUM(AG9+AG8) -> 0 | AH7: =SUM(AH9+AH8) -> 0 | AI7: =SUM(AI9+AI8) -> 0 | AJ7: =SUM(AJ9+AJ8) -> 0 | AK7: =SUM(AK9+AK8) -> 0 | AL7: =SUM(AL9+AL8) -> 0 | AM7: =SUM(AM9+AM8) -> 0 | ... AQ7: =SUM(AQ9+AQ8) -> 0 | AR7: =SUM(AF7:AQ7) -> 0
A8: ALMENDRALEJO | B8: 6241.03 | C8: 915 | D8: 1534.71 | E8: 0 | F8: 2336.21 | G8: 1900 | H8: 4550 | I8: 250 | J8: 2135 | K8: 3550 | L8: 500 | M8: 250 | N8: 24161.95 | P8: ALMENDRALEJO | Q8: =SUMIFS(Proformas!$D:$D,Proformas!$A:$A,"A",Proformas!$B:$B,'Cta Resultados'!Q2) -> -650 | R8: =SUMIFS(Proformas!$D:$D,Proformas!$A:$A,"A",Proformas!$B:$B,'Cta Resultados'!R2) -> 0 | S8: =SUMIFS(Proformas!$D:$D,Proformas!$A:$A,"A",Proformas!$B:$B,'Cta Resultados'!S2) -> 7653 | T8: =SUMIFS(Proformas!$D:$D,Proformas!$A:$A,"A",Proformas!$B:$B,'Cta Resultados'!T2) -> 0 | U8: =SUMIFS(Proformas!$D:$D,Proformas!$A:$A,"A",Proformas!$B:$B,'Cta Resultados'!U2) -> 0 | V8: =SUMIFS(Proformas!$D:$D,Proformas!$A:$A,"A",Proformas!$B:$B,'Cta Resultados'!V2) -> 0 | W8: =SUMIFS(Proformas!$D:$D,Proformas!$A:$A,"A",Proformas!$B:$B,'Cta Resultados'!W2) -> 0 | X8: =SUMIFS(Proformas!$D:$D,Proformas!$A:$A,"A",Proformas!$B:$B,'Cta Resultados'!X2) -> 0 | ... AB8: =SUMIFS(Proformas!$D:$D,Proformas!$A:$A,"A",Proformas!$B:$B,'Cta Resultados'!AB2) -> 0 | AC8: =SUM(Q8:AB8) -> 7003 | AE8: ALMENDRALEJO | AR8: =SUM(AF8:AQ8) -> 0 | AS8: Rellenar
A9: MERIDA | B9: 1317.44 | C9: 2835 | D9: 8597.1 | E9: 2750.57 | F9: 2137.64 | G9: 5043.48 | H9: 6055 | I9: 1749.5 | J9: 2893.94 | K9: 3306.97 | L9: 2310 | M9: 840 | N9: 39836.64 | P9: MERIDA | Q9: =SUMIFS(Proformas!$D:$D,Proformas!$A:$A,"M",Proformas!$B:$B,'Cta Resultados'!Q2) -> 36942.223 | R9: =SUMIFS(Proformas!$D:$D,Proformas!$A:$A,"M",Proformas!$B:$B,'Cta Resultados'!R2) -> 4073.9669 | S9: =SUMIFS(Proformas!$D:$D,Proformas!$A:$A,"M",Proformas!$B:$B,'Cta Resultados'!S2) -> 6443.719 | T9: =SUMIFS(Proformas!$D:$D,Proformas!$A:$A,"M",Proformas!$B:$B,'Cta Resultados'!T2) -> 0 | U9: =SUMIFS(Proformas!$D:$D,Proformas!$A:$A,"M",Proformas!$B:$B,'Cta Resultados'!U2) -> 0 | V9: =SUMIFS(Proformas!$D:$D,Proformas!$A:$A,"M",Proformas!$B:$B,'Cta Resultados'!V2) -> 0 | W9: =SUMIFS(Proformas!$D:$D,Proformas!$A:$A,"M",Proformas!$B:$B,'Cta Resultados'!W2) -> 0 | X9: =SUMIFS(Proformas!$D:$D,Proformas!$A:$A,"M",Proformas!$B:$B,'Cta Resultados'!X2) -> 0 | ... AB9: =SUMIFS(Proformas!$D:$D,Proformas!$A:$A,"M",Proformas!$B:$B,'Cta Resultados'!AB2) -> 0 | AC9: =SUM(Q9:AB9) -> 47459.909 | AE9: MERIDA | AR9: =SUM(AF9:AQ9) -> 0 | AS9: Rellenar
A10: ALMENDRALEJO | B10: 11686.29 | C10: 4312.93 | D10: 11468.71 | E10: 23019.95 | F10: 7666.79 | G10: 5900 | H10: 24112.81 | I10: 1550 | J10: 6635 | K10: 4850 | L10: 3282.65 | M10: 14070.72 | N10: 118555.85 | P10: ALMENDRALEJO | Q10: =Q5+Q8 -> 3994.63 | R10: =R5+R8 -> 26385.17 | S10: =S5+S8 -> 26959.96 | T10: =T5+T8 -> 0 | U10: =U5+U8 -> 0 | V10: =V5+V8 -> 0 | W10: =W5+W8 -> 0 | X10: =X5+X8 -> 0 | ... AC10: =AC5+AC8 -> 57339.76 | AE10: ALMENDRALEJO | AF10: =AF5+AF8 -> 0 | AG10: =AG5+AG8 -> 0 | AH10: =AH5+AH8 -> 0 | AI10: =AI5+AI8 -> 0 | AJ10: =AJ5+AJ8 -> 0 | AK10: =AK5+AK8 -> 0 | AL10: =AL5+AL8 -> 0 | AM10: =AM5+AM8 -> 0 | ... AR10: =AR5+AR8 -> 0
A11: MERIDA | B11: 20892.88 | C11: 24876.46 | D11: 36221.58 | E11: 24444.12 | F11: 25263.15 | G11: 18344.12 | H11: 18434.74 | I11: 11424.86 | J11: 15505.6 | K11: 13853.25 | L11: 24695.45 | M11: 23191.9 | N11: 257148.11 | P11: MERIDA | Q11: =Q6+Q9 -> 55182.863 | R11: =R6+R9 -> 20716.577 | S11: =S6+S9 -> 22870.689 | T11: =T6+T9 -> 0 | U11: =U6+U9 -> 0 | V11: =V6+V9 -> 0 | W11: =W6+W9 -> 0 | X11: =X6+X9 -> 0 | ... AC11: =AC6+AC9 -> 98770.129 | AE11: MERIDA | AF11: =AF6+AF9 -> 0 | AG11: =AG6+AG9 -> 0 | AH11: =AH6+AH9 -> 0 | AI11: =AI6+AI9 -> 0 | AJ11: =AJ6+AJ9 -> 0 | AK11: =AK6+AK9 -> 0 | AL11: =AL6+AL9 -> 0 | AM11: =AM6+AM9 -> 0 | ... AR11: =AR6+AR9 -> 0
A13: Coste Personal | B13: 18627.76 | C13: 16645.587 | D13: 20332.28 | E13: 19107.696 | F13: 17948.393 | G13: 17746.546 | H13: 16617.503 | I13: 16960.105 | J13: 16050.833 | K13: 19552.045 | L13: 19458.739 | M13: 18613.262 | N13: 217660.75 | P13: Coste Personal | Q13: =Q14+Q17+Q20 -> 32097.25 | R13: =R14+R17+R20 -> 28102.32 | S13: =S14+S17+S20 -> 27894.9 | T13: =T14+T17+T20 -> 0 | U13: =U14+U17+U20 -> 0 | V13: =V14+V17+V20 -> 0 | W13: =W14+W17+W20 -> 0 | X13: =X14+X17+X20 -> 0 | ... AB13: =AB14+AB17+AB20 -> 0 | AC13: =SUM(Q13:AB13) -> 88094.47 | AE13: Coste Personal | AF13: =AF14+AF17+AF20 -> 0 | AG13: =AG14+AG17+AG20 -> 0 | AH13: =AH14+AH17+AH20 -> 0 | AI13: =AI14+AI17+AI20 -> 0 | AJ13: =AJ14+AJ17+AJ20 -> 0 | AK13: =AK14+AK17+AK20 -> 0 | AL13: =AL14+AL17+AL20 -> 0 | AM13: =AM14+AM17+AM20 -> 0 | ... AQ13: =AQ14+AQ17+AQ20 -> 0 | AR13: =SUM(AF13:AQ13) -> 0
A14: Altas | B14: 4996.26 | C14: 4769.1 | D14: 4884.56 | E14: 5104.23 | F14: 5182.28 | G14: 5160.81 | H14: 5182.28 | I14: 5063.14 | J14: 4444.09 | K14: 4752.2 | L14: 5511.66 | M14: 6298.47 | N14: 61349.08 | P14: Altas | Q14: =SUMIFS('Gastos personal'!$S$2:$S$3000,'Gastos personal'!$R$2:$R$3000,'Cta Resultados'!Q2) -> 5949.69 | R14: =SUMIFS('Gastos personal'!$S$2:$S$3000,'Gastos personal'!$R$2:$R$3000,'Cta Resultados'!R2) -> 6575.24 | S14: =SUMIFS('Gastos personal'!$S$2:$S$3000,'Gastos personal'!$R$2:$R$3000,'Cta Resultados'!S2) -> 6575.24 | T14: =SUMIFS('Gastos personal'!$S$2:$S$3000,'Gastos personal'!$R$2:$R$3000,'Cta Resultados'!T2) -> 0 | U14: =SUMIFS('Gastos personal'!$S$2:$S$3000,'Gastos personal'!$R$2:$R$3000,'Cta Resultados'!U2) -> 0 | V14: =SUMIFS('Gastos personal'!$S$2:$S$3000,'Gastos personal'!$R$2:$R$3000,'Cta Resultados'!V2) -> 0 | W14: =SUMIFS('Gastos personal'!$S$2:$S$3000,'Gastos personal'!$R$2:$R$3000,'Cta Resultados'!W2) -> 0 | X14: =SUMIFS('Gastos personal'!$S$2:$S$3000,'Gastos personal'!$R$2:$R$3000,'Cta Resultados'!X2) -> 0 | ... AB14: =SUMIFS('Gastos personal'!$S$2:$S$3000,'Gastos personal'!$R$2:$R$3000,'Cta Resultados'!AB2) -> 0 | AC14: =SUM(Q14:AB14) -> 19100.17 | AE14: Altas | AF14: =SUM(AF16+AF15) -> 0 | AG14: =SUM(AG16+AG15) -> 0 | AH14: =SUM(AH16+AH15) -> 0 | AI14: =SUM(AI16+AI15) -> 0 | AJ14: =SUM(AJ16+AJ15) -> 0 | AK14: =SUM(AK16+AK15) -> 0 | AL14: =SUM(AL16+AL15) -> 0 | AM14: =SUM(AM16+AM15) -> 0 | ... AQ14: =SUM(AQ16+AQ15) -> 0 | AR14: =SUM(AF14:AQ14) -> 0
A15: ALMENDRALEJO | B15: 1272.43 | C15: 746.18 | D15: 1857.45 | E15: 1674.49 | F15: 1752.54 | G15: 1731.07 | H15: 1752.54 | I15: 1695.34 | J15: 1076.29 | K15: 927.62 | L15: 1686.78 | M15: 2473.59 | N15: 18646.32 | P15: ALMENDRALEJO | Q15: =SUMIFS('Gastos personal'!$S:$S,'Gastos personal'!$R:$R,'Cta Resultados'!Q2,'Gastos personal'!$B:$B,"AL") -> 1690.21 | R15: =SUMIFS('Gastos personal'!$S:$S,'Gastos personal'!$R:$R,'Cta Resultados'!R2,'Gastos personal'!$B:$B,"AL") -> 1405.16 | S15: =SUMIFS('Gastos personal'!$S:$S,'Gastos personal'!$R:$R,'Cta Resultados'!S2,'Gastos personal'!$B:$B,"AL") -> 1405.16 | T15: =SUMIFS('Gastos personal'!$S:$S,'Gastos personal'!$R:$R,'Cta Resultados'!T2,'Gastos personal'!$B:$B,"AL") -> 0 | U15: =SUMIFS('Gastos personal'!$S:$S,'Gastos personal'!$R:$R,'Cta Resultados'!U2,'Gastos personal'!$B:$B,"AL") -> 0 | V15: =SUMIFS('Gastos personal'!$S:$S,'Gastos personal'!$R:$R,'Cta Resultados'!V2,'Gastos personal'!$B:$B,"AL") -> 0 | W15: =SUMIFS('Gastos personal'!$S:$S,'Gastos personal'!$R:$R,'Cta Resultados'!W2,'Gastos personal'!$B:$B,"AL") -> 0 | X15: =SUMIFS('Gastos personal'!$S:$S,'Gastos personal'!$R:$R,'Cta Resultados'!X2,'Gastos personal'!$B:$B,"AL") -> 0 | ... AB15: =SUMIFS('Gastos personal'!$S:$S,'Gastos personal'!$R:$R,'Cta Resultados'!AB2,'Gastos personal'!$B:$B,"AL") -> 0 | AC15: =SUM(Q15:AB15) -> 4500.53 | AE15: ALMENDRALEJO | AR15: =SUM(AF15:AQ15) -> 0 | AS15: Rellenar
A16: MERIDA | B16: 3723.83 | C16: 4022.92 | D16: 3027.11 | E16: 3429.74 | F16: 3429.74 | G16: 3429.74 | H16: 3429.74 | I16: 3367.8 | J16: 3367.8 | K16: 3824.58 | L16: 3824.88 | M16: 3824.88 | N16: 42702.76 | P16: MERIDA | Q16: =SUMIFS('Gastos personal'!$S:$S,'Gastos personal'!$R:$R,'Cta Resultados'!Q2,'Gastos personal'!$B:$B,"ME") -> 4259.48 | R16: =SUMIFS('Gastos personal'!$S:$S,'Gastos personal'!$R:$R,'Cta Resultados'!R2,'Gastos personal'!$B:$B,"ME") -> 5170.08 | S16: =SUMIFS('Gastos personal'!$S:$S,'Gastos personal'!$R:$R,'Cta Resultados'!S2,'Gastos personal'!$B:$B,"ME") -> 5170.08 | T16: =SUMIFS('Gastos personal'!$S:$S,'Gastos personal'!$R:$R,'Cta Resultados'!T2,'Gastos personal'!$B:$B,"ME") -> 0 | U16: =SUMIFS('Gastos personal'!$S:$S,'Gastos personal'!$R:$R,'Cta Resultados'!U2,'Gastos personal'!$B:$B,"ME") -> 0 | V16: =SUMIFS('Gastos personal'!$S:$S,'Gastos personal'!$R:$R,'Cta Resultados'!V2,'Gastos personal'!$B:$B,"ME") -> 0 | W16: =SUMIFS('Gastos personal'!$S:$S,'Gastos personal'!$R:$R,'Cta Resultados'!W2,'Gastos personal'!$B:$B,"ME") -> 0 | X16: =SUMIFS('Gastos personal'!$S:$S,'Gastos personal'!$R:$R,'Cta Resultados'!X2,'Gastos personal'!$B:$B,"ME") -> 0 | ... AB16: =SUMIFS('Gastos personal'!$S:$S,'Gastos personal'!$R:$R,'Cta Resultados'!AB2,'Gastos personal'!$B:$B,"ME") -> 0 | AC16: =SUM(Q16:AB16) -> 14599.64 | AE16: MERIDA | AR16: =SUM(AF16:AQ16) -> 0 | AS16: Rellenar
A17: Letrados | B17: 6831.5 | C17: 5076.487 | D17: 8647.72 | E17: 7203.466 | F17: 5966.113 | G17: 5785.736 | H17: 4635.223 | I17: 5096.965 | J17: 4806.743 | K17: 7999.845 | L17: 7147.0788 | M17: 5514.792 | N17: 74711.669 | P17: Letrados | Q17: =Letrados!C7 -> 15347.56 | R17: =Letrados!D7 -> 10727.08 | S17: =Letrados!E7 -> 10519.66 | T17: =Letrados!F7 -> 0 | U17: =Letrados!G7 -> 0 | V17: =Letrados!H7 -> 0 | W17: =Letrados!I7 -> 0 | X17: =Letrados!J7 -> 0 | ... AB17: =Letrados!N7 -> 0 | AC17: =SUM(Q17:AB17) -> 36594.3 | AE17: Letrados | AF17: =SUM(AF19+AF18) -> 0 | AG17: =SUM(AG19+AG18) -> 0 | AH17: =SUM(AH19+AH18) -> 0 | AI17: =SUM(AI19+AI18) -> 0 | AJ17: =SUM(AJ19+AJ18) -> 0 | AK17: =SUM(AK19+AK18) -> 0 | AL17: =SUM(AL19+AL18) -> 0 | AM17: =SUM(AM19+AM18) -> 0 | ... AQ17: =SUM(AQ19+AQ18) -> 0 | AR17: =SUM(AF17:AQ17) -> 0
A18: ALMENDRALEJO | B18: 2741.5 | C18: 530.8 | D18: 2146.51 | E18: 115 | F18: 457 | G18: 1100 | H18: 1051.2 | I18: 200 | J18: 1872.76 | K18: 650.5 | L18: 3640.65 | M18: 1962.35 | N18: 16468.27 | P18: ALMENDRALEJO | Q18: =Letrados!C2 -> 8184.3 | R18: =Letrados!D2 -> 1319.66 | S18: =Letrados!E2 -> 2218.54 | T18: =Letrados!F2 -> 0 | U18: =Letrados!G2 -> 0 | V18: =Letrados!H2 -> 0 | W18: =Letrados!I2 -> 0 | X18: =Letrados!J2 -> 0 | ... AB18: =Letrados!N2 -> 0 | AC18: =SUM(Q18:AB18) -> 11722.5 | AE18: ALMENDRALEJO | AR18: =SUM(AF18:AQ18) -> 0 | AS18: Rellenar
A19: MERIDA | B19: 4090 | C19: 4545.687 | D19: 6501.21 | E19: 7088.466 | F19: 5509.113 | G19: 4685.736 | H19: 3584.023 | I19: 4896.965 | J19: 2933.983 | K19: 7349.345 | L19: 3506.4288 | M19: 3552.442 | N19: 58243.399 | P19: MERIDA | Q19: =Letrados!C3+Letrados!C4+Letrados!C5 -> 7163.26 | R19: =Letrados!D3+Letrados!D4+Letrados!D5 -> 9407.42 | S19: =Letrados!E3+Letrados!E4+Letrados!E5 -> 8301.12 | T19: =Letrados!F3+Letrados!F4+Letrados!F5 -> 0 | U19: =Letrados!G3+Letrados!G4+Letrados!G5 -> 0 | V19: =Letrados!H3+Letrados!H4+Letrados!H5 -> 0 | W19: =Letrados!I3+Letrados!I4+Letrados!I5 -> 0 | X19: =Letrados!J3+Letrados!J4+Letrados!J5 -> 0 | ... AB19: =Letrados!N3+Letrados!N4+Letrados!N5 -> 0 | AC19: =SUM(Q19:AB19) -> 24871.8 | AE19: MERIDA | AR19: =SUM(AF19:AQ19) -> 0 | AS19: Rellenar
A20: Socios | B20: 6800 | C20: 6800 | D20: 6800 | E20: 6800 | F20: 6800 | G20: 6800 | H20: 6800 | I20: 6800 | J20: 6800 | K20: 6800 | L20: 6800 | M20: 6800 | N20: 81600 | P20: Socios | Q20: =Q21+Q22 -> 10800 | R20: =R21+R22 -> 10800 | S20: =S21+S22 -> 10800 | T20: =T21+T22 -> 0 | U20: =U21+U22 -> 0 | V20: =V21+V22 -> 0 | W20: =W21+W22 -> 0 | X20: =X21+X22 -> 0 | ... AB20: =AB21+AB22 -> 0 | AC20: =SUM(Q20:AB20) -> 32400 | AE20: Socios | AF20: =SUM(AF22+AF21) -> 0 | AG20: =SUM(AG22+AG21) -> 0 | AH20: =SUM(AH22+AH21) -> 0 | AI20: =SUM(AI22+AI21) -> 0 | AJ20: =SUM(AJ22+AJ21) -> 0 | AK20: =SUM(AK22+AK21) -> 0 | AL20: =SUM(AL22+AL21) -> 0 | AM20: =SUM(AM22+AM21) -> 0 | ... AQ20: =SUM(AQ22+AQ21) -> 0 | AR20: =SUM(AF20:AQ20) -> 0
A21: ALMENDRALEJO | B21: 3400 | C21: 3400 | D21: 3400 | E21: 3400 | F21: 3400 | G21: 3400 | H21: 3400 | I21: 3400 | J21: 3400 | K21: 3400 | L21: 3400 | M21: 3400 | N21: 40800 | P21: ALMENDRALEJO | Q21: =Socios!C2 -> 5400 | R21: =Socios!$C3 -> 5400 | S21: =Socios!$C4 -> 5400 | T21: =Socios!$C5 -> 0 | U21: =Socios!$C6 -> 0 | V21: =Socios!$C7 -> 0 | W21: =Socios!$C8 -> 0 | X21: =Socios!$C9 -> 0 | Y21: =Socios!$C10 -> 0 | Z21: =Socios!$C11 -> 0 | AA21: =Socios!$C12 -> 0 | AB21: =Socios!$C13 -> 0 | AC21: =SUM(Q21:AB21) -> 16200 | AE21: ALMENDRALEJO | AR21: =SUM(AF21:AQ21) -> 0 | AS21: Rellenar
A22: MERIDA | B22: 3400 | C22: 3400 | D22: 3400 | E22: 3400 | F22: 3400 | G22: 3400 | H22: 3400 | I22: 3400 | J22: 3400 | K22: 3400 | L22: 3400 | M22: 3400 | N22: 40800 | P22: MERIDA | Q22: =Socios!B2 -> 5400 | R22: =Socios!$B3 -> 5400 | S22: =Socios!$B4 -> 5400 | T22: =Socios!$B5 -> 0 | U22: =Socios!$B6 -> 0 | V22: =Socios!$B7 -> 0 | W22: =Socios!$B8 -> 0 | X22: =Socios!$B9 -> 0 | Y22: =Socios!$B10 -> 0 | Z22: =Socios!$B11 -> 0 | AA22: =Socios!$B12 -> 0 | AB22: =Socios!$B13 -> 0 | AC22: =SUM(Q22:AB22) -> 16200 | AE22: MERIDA | AR22: =SUM(AF22:AQ22) -> 0 | AS22: Rellenar
A23: ALMENDRALEJO | B23: 7413.93 | C23: 4676.98 | D23: 7403.96 | E23: 5189.49 | F23: 5609.54 | G23: 6231.07 | H23: 6203.74 | I23: 5295.34 | J23: 6349.05 | K23: 4978.12 | L23: 8727.43 | M23: 7835.94 | N23: 75914.59 | P23: ALMENDRALEJO | Q23: =Q15+Q18+Q21 -> 15274.51 | R23: =R15+R18+R21 -> 8124.82 | S23: =S15+S18+S21 -> 9023.7 | T23: =T15+T18+T21 -> 0 | U23: =U15+U18+U21 -> 0 | V23: =V15+V18+V21 -> 0 | W23: =W15+W18+W21 -> 0 | X23: =X15+X18+X21 -> 0 | ... AC23: =AC15+AC18+AC21 -> 32423.03 | AE23: ALMENDRALEJO | AF23: =AF15+AF18+AF21 -> 0 | AG23: =AG15+AG18+AG21 -> 0 | AH23: =AH15+AH18+AH21 -> 0 | AI23: =AI15+AI18+AI21 -> 0 | AJ23: =AJ15+AJ18+AJ21 -> 0 | AK23: =AK15+AK18+AK21 -> 0 | AL23: =AL15+AL18+AL21 -> 0 | AM23: =AM15+AM18+AM21 -> 0 | ... AR23: =AR15+AR18+AR21 -> 0
A24: MERIDA | B24: 11213.83 | C24: 11968.607 | D24: 12928.32 | E24: 13918.206 | F24: 12338.853 | G24: 11515.476 | H24: 10413.763 | I24: 11664.765 | J24: 9701.783 | K24: 14573.925 | L24: 10731.309 | M24: 10777.322 | N24: 141746.16 | P24: MERIDA | Q24: =Q16+Q19+Q22 -> 16822.74 | R24: =R16+R19+R22 -> 19977.5 | S24: =S16+S19+S22 -> 18871.2 | T24: =T16+T19+T22 -> 0 | U24: =U16+U19+U22 -> 0 | V24: =V16+V19+V22 -> 0 | W24: =W16+W19+W22 -> 0 | X24: =X16+X19+X22 -> 0 | ... AC24: =AC16+AC19+AC22 -> 55671.44 | AE24: MERIDA | AF24: =AF16+AF19+AF22 -> 0 | AG24: =AG16+AG19+AG22 -> 0 | AH24: =AH16+AH19+AH22 -> 0 | AI24: =AI16+AI19+AI22 -> 0 | AJ24: =AJ16+AJ19+AJ22 -> 0 | AK24: =AK16+AK19+AK22 -> 0 | AL24: =AL16+AL19+AL22 -> 0 | AM24: =AM16+AM19+AM22 -> 0 | ... AR24: =AR16+AR19+AR22 -> 0
A25: Ratio Personal | B25: 0.57176902 | C25: 0.57026156 | D25: 0.42634004 | E25: 0.4025718 | F25: 0.54504785 | G25: 0.73199382 | H25: 0.3905631 | I25: 1.3071513 | J25: 0.72495023 | K25: 1.0453822 | L25: 0.69549894 | M25: 0.49951565 | N25: 0.57934111 | P25: Ratio Personal | Q25: =Q13/Q3 -> 0.54238948 | R25: =R13/R3 -> 0.5966301 | S25: =S13/S3 -> 0.55979403 | T25: =T13/T3 -> #DIV/0! | U25: =U13/U3 -> #DIV/0! | V25: =V13/V3 -> #DIV/0! | W25: =W13/W3 -> #DIV/0! | X25: =X13/X3 -> #DIV/0! | ... AC25: =AC13/AC3 -> 0.56431063 | AE25: Ratio Personal | AF25: =AF13/AF3 -> 0 | AG25: =AG13/AG3 -> 0 | AH25: =AH13/AH3 -> 0 | AI25: =AI13/AI3 -> 0 | AJ25: =AJ13/AJ3 -> 0 | AK25: =AK13/AK3 -> 0 | AL25: =AL13/AL3 -> 0 | AM25: =AM13/AM3 -> 0 | ... AR25: =AR13/AR3 -> 0
A27: Gastos Indirectos | B27: 13917.15 | C27: 12469.94 | D27: 14488.31 | E27: 12825.18 | F27: 16289.15 | G27: 17815.895 | H27: 10963.97 | I27: 8568.69 | J27: 9324.74 | K27: 10132.45 | L27: 14386.08 | M27: 22539.125 | N27: 163720.68 | P27: Gastos Indirectos | Q27: =SUM(Q30:Q38) -> 11911.11 | R27: =SUM(R30:R38) -> 9916.03 | S27: =SUM(S30:S38) -> 10782.74 | T27: =SUM(T30:T38) -> 0 | U27: =SUM(U30:U38) -> 0 | V27: =SUM(V30:V38) -> 0 | W27: =SUM(W30:W38) -> 0 | X27: =SUM(X30:X38) -> 0 | ... AB27: =SUM(AB30:AB38) -> 0 | AC27: =SUM(Q27:AB27) -> 32609.88 | AE27: Gastos Indirectos | AF27: =SUM(AF30:AF37) -> 0 | AG27: =SUM(AG30:AG37) -> 0 | AH27: =SUM(AH30:AH37) -> 0 | AI27: =SUM(AI30:AI37) -> 0 | AJ27: =SUM(AJ30:AJ37) -> 0 | AK27: =SUM(AK30:AK37) -> 0 | AL27: =SUM(AL30:AL37) -> 0 | AM27: =SUM(AM30:AM37) -> 0 | ... AQ27: =SUM(AQ30:AQ37) -> 0 | AR27: =SUM(AF27:AQ27) -> 0
A28: ALMENDRALEJO | B28: 3855.175 | C28: 3221.505 | D28: 5548.35 | E28: 3327.84 | F28: 3816.64 | G28: 5383.51 | H28: 3071.955 | I28: 3431.285 | J28: 3100.165 | K28: 3543.6 | L28: 3249.76 | M28: 9127.2 | N28: 50676.985 | P28: ALMENDRALEJO | Q28: =SUMIFS(Gastos!$D:$D,Gastos!$A:$A,"AL",Gastos!$B:$B,'Cta Resultados'!Q2)+(SUMIFS(Gastos!$D:$D,Gastos!$A:$A,"CO",Gastos!$B:$B,'Cta Resultados'!Q2)/2)+(SUMIFS(Gastos!$D:$D,Gastos!$A:$A,"SE",Gastos!$B:$B,'Cta Resultados'!Q2)/2)-(Q50/2) -> 2988.81 | R28: =SUMIFS(Gastos!$D:$D,Gastos!$A:$A,"AL",Gastos!$B:$B,'Cta Resultados'!R2)+(SUMIFS(Gastos!$D:$D,Gastos!$A:$A,"CO",Gastos!$B:$B,'Cta Resultados'!R2)/2)+(SUMIFS(Gastos!$D:$D,Gastos!$A:$A,"SE",Gastos!$B:$B,'Cta Resultados'!R2)/2)-(R50/2) -> 4425.23 | S28: =SUMIFS(Gastos!$D:$D,Gastos!$A:$A,"AL",Gastos!$B:$B,'Cta Resultados'!S2)+(SUMIFS(Gastos!$D:$D,Gastos!$A:$A,"CO",Gastos!$B:$B,'Cta Resultados'!S2)/2)+(SUMIFS(Gastos!$D:$D,Gastos!$A:$A,"SE",Gastos!$B:$B,'Cta Resultados'!S2)/2)-(S50/2) -> 4860.91 | T28: =SUMIFS(Gastos!$D:$D,Gastos!$A:$A,"AL",Gastos!$B:$B,'Cta Resultados'!T2)+(SUMIFS(Gastos!$D:$D,Gastos!$A:$A,"CO",Gastos!$B:$B,'Cta Resultados'!T2)/2)+(SUMIFS(Gastos!$D:$D,Gastos!$A:$A,"SE",Gastos!$B:$B,'Cta Resultados'!T2)/2)-(T50/2) -> 0 | U28: =SUMIFS(Gastos!$D:$D,Gastos!$A:$A,"AL",Gastos!$B:$B,'Cta Resultados'!U2)+(SUMIFS(Gastos!$D:$D,Gastos!$A:$A,"CO",Gastos!$B:$B,'Cta Resultados'!U2)/2)+(SUMIFS(Gastos!$D:$D,Gastos!$A:$A,"SE",Gastos!$B:$B,'Cta Resultados'!U2)/2)-(U50/2) -> 0 | V28: =SUMIFS(Gastos!$D:$D,Gastos!$A:$A,"AL",Gastos!$B:$B,'Cta Resultados'!V2)+(SUMIFS(Gastos!$D:$D,Gastos!$A:$A,"CO",Gastos!$B:$B,'Cta Resultados'!V2)/2)+(SUMIFS(Gastos!$D:$D,Gastos!$A:$A,"SE",Gastos!$B:$B,'Cta Resultados'!V2)/2)-(V50/2) -> 0 | W28: =SUMIFS(Gastos!$D:$D,Gastos!$A:$A,"AL",Gastos!$B:$B,'Cta Resultados'!W2)+(SUMIFS(Gastos!$D:$D,Gastos!$A:$A,"CO",Gastos!$B:$B,'Cta Resultados'!W2)/2)+(SUMIFS(Gastos!$D:$D,Gastos!$A:$A,"SE",Gastos!$B:$B,'Cta Resultados'!W2)/2)-(W50/2) -> 0 | X28: =SUMIFS(Gastos!$D:$D,Gastos!$A:$A,"AL",Gastos!$B:$B,'Cta Resultados'!X2)+(SUMIFS(Gastos!$D:$D,Gastos!$A:$A,"CO",Gastos!$B:$B,'Cta Resultados'!X2)/2)+(SUMIFS(Gastos!$D:$D,Gastos!$A:$A,"SE",Gastos!$B:$B,'Cta Resultados'!X2)/2)-(X50/2) -> 0 | ... AB28: =SUMIFS(Gastos!$D:$D,Gastos!$A:$A,"AL",Gastos!$B:$B,'Cta Resultados'!AB2)+(SUMIFS(Gastos!$D:$D,Gastos!$A:$A,"CO",Gastos!$B:$B,'Cta Resultados'!AB2)/2)+(SUMIFS(Gastos!$D:$D,Gastos!$A:$A,"SE",Gastos!$B:$B,'Cta Resultados'!AB2)/2)-(AB50/2) -> 0 | AC28: =SUM(Q28:AB28) -> 12274.95 | AE28: ALMENDRALEJO | AR28: =SUM(AF28:AQ28) -> 0
A29: MERIDA | B29: 10061.975 | C29: 9248.435 | D29: 8939.96 | E29: 9497.34 | F29: 12472.51 | G29: 12432.385 | H29: 7892.015 | I29: 5137.405 | J29: 6224.575 | K29: 6588.85 | L29: 11136.32 | M29: 13411.925 | N29: 113043.7 | P29: MERIDA | Q29: =SUMIFS(Gastos!$D:$D,Gastos!$A:$A,"ME",Gastos!$B:$B,'Cta Resultados'!Q2)+(SUMIFS(Gastos!$D:$D,Gastos!$A:$A,"CO",Gastos!$B:$B,'Cta Resultados'!Q2)/2)+(SUMIFS(Gastos!$D:$D,Gastos!$A:$A,"SE",Gastos!$B:$B,'Cta Resultados'!Q2)/2)-(Q50/2) -> 8922.3 | R29: =SUMIFS(Gastos!$D:$D,Gastos!$A:$A,"ME",Gastos!$B:$B,'Cta Resultados'!R2)+(SUMIFS(Gastos!$D:$D,Gastos!$A:$A,"CO",Gastos!$B:$B,'Cta Resultados'!R2)/2)+(SUMIFS(Gastos!$D:$D,Gastos!$A:$A,"SE",Gastos!$B:$B,'Cta Resultados'!R2)/2)-(R50/2) -> 5490.8 | S29: =SUMIFS(Gastos!$D:$D,Gastos!$A:$A,"ME",Gastos!$B:$B,'Cta Resultados'!S2)+(SUMIFS(Gastos!$D:$D,Gastos!$A:$A,"CO",Gastos!$B:$B,'Cta Resultados'!S2)/2)+(SUMIFS(Gastos!$D:$D,Gastos!$A:$A,"SE",Gastos!$B:$B,'Cta Resultados'!S2)/2)-(S50/2) -> 5921.83 | T29: =SUMIFS(Gastos!$D:$D,Gastos!$A:$A,"ME",Gastos!$B:$B,'Cta Resultados'!T2)+(SUMIFS(Gastos!$D:$D,Gastos!$A:$A,"CO",Gastos!$B:$B,'Cta Resultados'!T2)/2)+(SUMIFS(Gastos!$D:$D,Gastos!$A:$A,"SE",Gastos!$B:$B,'Cta Resultados'!T2)/2)-(T50/2) -> 0 | U29: =SUMIFS(Gastos!$D:$D,Gastos!$A:$A,"ME",Gastos!$B:$B,'Cta Resultados'!U2)+(SUMIFS(Gastos!$D:$D,Gastos!$A:$A,"CO",Gastos!$B:$B,'Cta Resultados'!U2)/2)+(SUMIFS(Gastos!$D:$D,Gastos!$A:$A,"SE",Gastos!$B:$B,'Cta Resultados'!U2)/2)-(U50/2) -> 0 | V29: =SUMIFS(Gastos!$D:$D,Gastos!$A:$A,"ME",Gastos!$B:$B,'Cta Resultados'!V2)+(SUMIFS(Gastos!$D:$D,Gastos!$A:$A,"CO",Gastos!$B:$B,'Cta Resultados'!V2)/2)+(SUMIFS(Gastos!$D:$D,Gastos!$A:$A,"SE",Gastos!$B:$B,'Cta Resultados'!V2)/2)-(V50/2) -> 0 | W29: =SUMIFS(Gastos!$D:$D,Gastos!$A:$A,"ME",Gastos!$B:$B,'Cta Resultados'!W2)+(SUMIFS(Gastos!$D:$D,Gastos!$A:$A,"CO",Gastos!$B:$B,'Cta Resultados'!W2)/2)+(SUMIFS(Gastos!$D:$D,Gastos!$A:$A,"SE",Gastos!$B:$B,'Cta Resultados'!W2)/2)-(W50/2) -> 0 | X29: =SUMIFS(Gastos!$D:$D,Gastos!$A:$A,"ME",Gastos!$B:$B,'Cta Resultados'!X2)+(SUMIFS(Gastos!$D:$D,Gastos!$A:$A,"CO",Gastos!$B:$B,'Cta Resultados'!X2)/2)+(SUMIFS(Gastos!$D:$D,Gastos!$A:$A,"SE",Gastos!$B:$B,'Cta Resultados'!X2)/2)-(X50/2) -> 0 | ... AB29: =SUMIFS(Gastos!$D:$D,Gastos!$A:$A,"ME",Gastos!$B:$B,'Cta Resultados'!AB2)+(SUMIFS(Gastos!$D:$D,Gastos!$A:$A,"CO",Gastos!$B:$B,'Cta Resultados'!AB2)/2)+(SUMIFS(Gastos!$D:$D,Gastos!$A:$A,"SE",Gastos!$B:$B,'Cta Resultados'!AB2)/2)-(AB50/2) -> 0 | AC29: =SUM(Q29:AB29) -> 20334.93 | AE29: MERIDA | AR29: =SUM(AF29:AQ29) -> 0
A30: Alquiler | B30: 4000 | C30: 4000 | D30: 4000 | E30: 4000 | F30: 4000 | G30: 4000 | H30: 4000 | I30: 4000 | J30: 4000 | K30: 4000 | L30: 4000 | M30: 4000 | N30: 48000 | P30: Arrendamiento | Q30: =SUMIFS(Gastos!$D$2:$D$10000,Gastos!$B$2:$B$10000,'Cta Resultados'!Q2,Gastos!$H$2:$H$10000,'Cta Resultados'!$P$30) -> 410.41 | R30: =SUMIFS(Gastos!$D$2:$D$10000,Gastos!$B$2:$B$10000,'Cta Resultados'!R2,Gastos!$H$2:$H$10000,'Cta Resultados'!$P$30) -> 410.41 | S30: =SUMIFS(Gastos!$D$2:$D$10000,Gastos!$B$2:$B$10000,'Cta Resultados'!S2,Gastos!$H$2:$H$10000,'Cta Resultados'!$P$30) -> 410.41 | T30: =SUMIFS(Gastos!$D$2:$D$10000,Gastos!$B$2:$B$10000,'Cta Resultados'!T2,Gastos!$H$2:$H$10000,'Cta Resultados'!$P$30) -> 0 | U30: =SUMIFS(Gastos!$D$2:$D$10000,Gastos!$B$2:$B$10000,'Cta Resultados'!U2,Gastos!$H$2:$H$10000,'Cta Resultados'!$P$30) -> 0 | V30: =SUMIFS(Gastos!$D$2:$D$10000,Gastos!$B$2:$B$10000,'Cta Resultados'!V2,Gastos!$H$2:$H$10000,'Cta Resultados'!$P$30) -> 0 | W30: =SUMIFS(Gastos!$D$2:$D$10000,Gastos!$B$2:$B$10000,'Cta Resultados'!W2,Gastos!$H$2:$H$10000,'Cta Resultados'!$P$30) -> 0 | X30: =SUMIFS(Gastos!$D$2:$D$10000,Gastos!$B$2:$B$10000,'Cta Resultados'!X2,Gastos!$H$2:$H$10000,'Cta Resultados'!$P$30) -> 0 | ... AB30: =SUMIFS(Gastos!$D$2:$D$10000,Gastos!$B$2:$B$10000,'Cta Resultados'!AB2,Gastos!$H$2:$H$10000,'Cta Resultados'!$P$30) -> 0 | AC30: =SUM(Q30:AB30) -> 1231.23 | AE30: Alquiler | AR30: =SUM(AF30:AQ30) -> 0
A31: Suministro | B31: 1968.92 | C31: 1859.77 | D31: 2493.38 | E31: 1949.32 | F31: 2433 | G31: 1892.61 | H31: 1899.07 | I31: 1429.04 | J31: 1543.53 | K31: 2614.8 | L31: 1686.12 | M31: 2829.27 | N31: 24598.83 | P31: Suministro | Q31: =SUMIFS(Gastos!$D$2:$D$10000,Gastos!$B$2:$B$10000,'Cta Resultados'!Q2,Gastos!$H$2:$H$10000,'Cta Resultados'!$P$31) -> 2173.58 | R31: =SUMIFS(Gastos!$D$2:$D$10000,Gastos!$B$2:$B$10000,'Cta Resultados'!R2,Gastos!$H$2:$H$10000,'Cta Resultados'!$P$31) -> 1684.82 | S31: =SUMIFS(Gastos!$D$2:$D$10000,Gastos!$B$2:$B$10000,'Cta Resultados'!S2,Gastos!$H$2:$H$10000,'Cta Resultados'!$P$31) -> 4258.41 | T31: =SUMIFS(Gastos!$D$2:$D$10000,Gastos!$B$2:$B$10000,'Cta Resultados'!T2,Gastos!$H$2:$H$10000,'Cta Resultados'!$P$31) -> 0 | U31: =SUMIFS(Gastos!$D$2:$D$10000,Gastos!$B$2:$B$10000,'Cta Resultados'!U2,Gastos!$H$2:$H$10000,'Cta Resultados'!$P$31) -> 0 | V31: =SUMIFS(Gastos!$D$2:$D$10000,Gastos!$B$2:$B$10000,'Cta Resultados'!V2,Gastos!$H$2:$H$10000,'Cta Resultados'!$P$31) -> 0 | W31: =SUMIFS(Gastos!$D$2:$D$10000,Gastos!$B$2:$B$10000,'Cta Resultados'!W2,Gastos!$H$2:$H$10000,'Cta Resultados'!$P$31) -> 0 | X31: =SUMIFS(Gastos!$D$2:$D$10000,Gastos!$B$2:$B$10000,'Cta Resultados'!X2,Gastos!$H$2:$H$10000,'Cta Resultados'!$P$31) -> 0 | ... AB31: =SUMIFS(Gastos!$D$2:$D$10000,Gastos!$B$2:$B$10000,'Cta Resultados'!AB2,Gastos!$H$2:$H$10000,'Cta Resultados'!$P$31) -> 0 | AC31: =SUM(Q31:AB31) -> 8116.81 | AE31: Suministro | AR31: =SUM(AF31:AQ31) -> 0
A32: Servicios Profesionales | B32: 2639.14 | C32: 1732.32 | D32: 1146.34 | E32: 1741.79 | F32: 3528.26 | G32: 1422.07 | H32: 1746.47 | I32: 2648.5 | J32: 949.31 | K32: 1668.59 | L32: 2297.17 | M32: 3733.18 | N32: 25253.14 | P32: Servicios Profesionales | Q32: =SUMIFS(Gastos!$D$2:$D$10000,Gastos!$B$2:$B$10000,'Cta Resultados'!Q2,Gastos!$H$2:$H$10000,'Cta Resultados'!$P$32) -> 2397.57 | R32: =SUMIFS(Gastos!$D$2:$D$10000,Gastos!$B$2:$B$10000,'Cta Resultados'!R2,Gastos!$H$2:$H$10000,'Cta Resultados'!$P$32) -> 643.17 | S32: =SUMIFS(Gastos!$D$2:$D$10000,Gastos!$B$2:$B$10000,'Cta Resultados'!S2,Gastos!$H$2:$H$10000,'Cta Resultados'!$P$32) -> 1788.21 | T32: =SUMIFS(Gastos!$D$2:$D$10000,Gastos!$B$2:$B$10000,'Cta Resultados'!T2,Gastos!$H$2:$H$10000,'Cta Resultados'!$P$32) -> 0 | U32: =SUMIFS(Gastos!$D$2:$D$10000,Gastos!$B$2:$B$10000,'Cta Resultados'!U2,Gastos!$H$2:$H$10000,'Cta Resultados'!$P$32) -> 0 | V32: =SUMIFS(Gastos!$D$2:$D$10000,Gastos!$B$2:$B$10000,'Cta Resultados'!V2,Gastos!$H$2:$H$10000,'Cta Resultados'!$P$32) -> 0 | W32: =SUMIFS(Gastos!$D$2:$D$10000,Gastos!$B$2:$B$10000,'Cta Resultados'!W2,Gastos!$H$2:$H$10000,'Cta Resultados'!$P$32) -> 0 | X32: =SUMIFS(Gastos!$D$2:$D$10000,Gastos!$B$2:$B$10000,'Cta Resultados'!X2,Gastos!$H$2:$H$10000,'Cta Resultados'!$P$32) -> 0 | ... AB32: =SUMIFS(Gastos!$D$2:$D$10000,Gastos!$B$2:$B$10000,'Cta Resultados'!AB2,Gastos!$H$2:$H$10000,'Cta Resultados'!$P$32) -> 0 | AC32: =SUM(Q32:AB32) -> 4828.95 | AE32: Servicios Profesionales | AR32: =SUM(AF32:AQ32) -> 0
A33: Mantenimiento | B33: 2006.35 | C33: 1922.84 | D33: 2255.79 | E33: 332.56 | F33: 3214.22 | G33: 4581.105 | H33: 2126.43 | I33: 211.15 | J33: 2031.9 | K33: 525.06 | L33: 3699.24 | M33: 4418.035 | N33: 27324.68 | P33: Mantenimiento | Q33: =SUMIFS(Gastos!$D$2:$D$10000,Gastos!$B$2:$B$10000,'Cta Resultados'!Q2,Gastos!$H$2:$H$10000,'Cta Resultados'!$P$33) -> 915.14 | R33: =SUMIFS(Gastos!$D$2:$D$10000,Gastos!$B$2:$B$10000,'Cta Resultados'!R2,Gastos!$H$2:$H$10000,'Cta Resultados'!$P$33) -> 924.67 | S33: =SUMIFS(Gastos!$D$2:$D$10000,Gastos!$B$2:$B$10000,'Cta Resultados'!S2,Gastos!$H$2:$H$10000,'Cta Resultados'!$P$33) -> 828.76 | T33: =SUMIFS(Gastos!$D$2:$D$10000,Gastos!$B$2:$B$10000,'Cta Resultados'!T2,Gastos!$H$2:$H$10000,'Cta Resultados'!$P$33) -> 0 | U33: =SUMIFS(Gastos!$D$2:$D$10000,Gastos!$B$2:$B$10000,'Cta Resultados'!U2,Gastos!$H$2:$H$10000,'Cta Resultados'!$P$33) -> 0 | V33: =SUMIFS(Gastos!$D$2:$D$10000,Gastos!$B$2:$B$10000,'Cta Resultados'!V2,Gastos!$H$2:$H$10000,'Cta Resultados'!$P$33) -> 0 | W33: =SUMIFS(Gastos!$D$2:$D$10000,Gastos!$B$2:$B$10000,'Cta Resultados'!W2,Gastos!$H$2:$H$10000,'Cta Resultados'!$P$33) -> 0 | X33: =SUMIFS(Gastos!$D$2:$D$10000,Gastos!$B$2:$B$10000,'Cta Resultados'!X2,Gastos!$H$2:$H$10000,'Cta Resultados'!$P$33) -> 0 | ... AB33: =SUMIFS(Gastos!$D$2:$D$10000,Gastos!$B$2:$B$10000,'Cta Resultados'!AB2,Gastos!$H$2:$H$10000,'Cta Resultados'!$P$33) -> 0 | AC33: =SUM(Q33:AB33) -> 2668.57 | AE33: Mantenimiento | AR33: =SUM(AF33:AQ33) -> 0
A34: Colaborador Jurídico | B34: 2180 | C34: 2476.14 | D34: 3373.17 | E34: 1546.15 | F34: 1680.89 | G34: 0 | H34: 648 | I34: 0 | J34: 100 | K34: 0 | L34: 0 | M34: 706.26 | N34: 12710.61 | P34: Colaborador Jurídico | Q34: =SUMIFS(Gastos!$D$2:$D$10000,Gastos!$B$2:$B$10000,'Cta Resultados'!Q2,Gastos!$H$2:$H$10000,'Cta Resultados'!$P$34) -> 340.34 | R34: =SUMIFS(Gastos!$D$2:$D$10000,Gastos!$B$2:$B$10000,'Cta Resultados'!R2,Gastos!$H$2:$H$10000,'Cta Resultados'!$P$34) -> 4997.38 | S34: =SUMIFS(Gastos!$D$2:$D$10000,Gastos!$B$2:$B$10000,'Cta Resultados'!S2,Gastos!$H$2:$H$10000,'Cta Resultados'!$P$34) -> 0 | T34: =SUMIFS(Gastos!$D$2:$D$10000,Gastos!$B$2:$B$10000,'Cta Resultados'!T2,Gastos!$H$2:$H$10000,'Cta Resultados'!$P$34) -> 0 | U34: =SUMIFS(Gastos!$D$2:$D$10000,Gastos!$B$2:$B$10000,'Cta Resultados'!U2,Gastos!$H$2:$H$10000,'Cta Resultados'!$P$34) -> 0 | V34: =SUMIFS(Gastos!$D$2:$D$10000,Gastos!$B$2:$B$10000,'Cta Resultados'!V2,Gastos!$H$2:$H$10000,'Cta Resultados'!$P$34) -> 0 | W34: =SUMIFS(Gastos!$D$2:$D$10000,Gastos!$B$2:$B$10000,'Cta Resultados'!W2,Gastos!$H$2:$H$10000,'Cta Resultados'!$P$34) -> 0 | X34: =SUMIFS(Gastos!$D$2:$D$10000,Gastos!$B$2:$B$10000,'Cta Resultados'!X2,Gastos!$H$2:$H$10000,'Cta Resultados'!$P$34) -> 0 | ... AB34: =SUMIFS(Gastos!$D$2:$D$10000,Gastos!$B$2:$B$10000,'Cta Resultados'!AB2,Gastos!$H$2:$H$10000,'Cta Resultados'!$P$34) -> 0 | AC34: =SUM(Q34:AB34) -> 5337.72 | AE34: Colaborador Jurídico | AR34: =SUM(AF34:AQ34) -> 0
A35: Publicidad, RRSS, WEB | B35: 700 | C35: 200 | D35: 100 | E35: 1040 | F35: 945 | G35: 100 | H35: 100 | I35: 100 | J35: 700 | K35: 100 | L35: 760 | M35: 2489.77 | N35: 7334.77 | P35: Publicidad, RRSS, WEB | Q35: =SUMIFS(Gastos!$D$2:$D$10000,Gastos!$B$2:$B$10000,'Cta Resultados'!Q2,Gastos!$H$2:$H$10000,'Cta Resultados'!$P$35) -> 304 | R35: =SUMIFS(Gastos!$D$2:$D$10000,Gastos!$B$2:$B$10000,'Cta Resultados'!R2,Gastos!$H$2:$H$10000,'Cta Resultados'!$P$35) -> 204 | S35: =SUMIFS(Gastos!$D$2:$D$10000,Gastos!$B$2:$B$10000,'Cta Resultados'!S2,Gastos!$H$2:$H$10000,'Cta Resultados'!$P$35) -> 704 | T35: =SUMIFS(Gastos!$D$2:$D$10000,Gastos!$B$2:$B$10000,'Cta Resultados'!T2,Gastos!$H$2:$H$10000,'Cta Resultados'!$P$35) -> 0 | U35: =SUMIFS(Gastos!$D$2:$D$10000,Gastos!$B$2:$B$10000,'Cta Resultados'!U2,Gastos!$H$2:$H$10000,'Cta Resultados'!$P$35) -> 0 | V35: =SUMIFS(Gastos!$D$2:$D$10000,Gastos!$B$2:$B$10000,'Cta Resultados'!V2,Gastos!$H$2:$H$10000,'Cta Resultados'!$P$35) -> 0 | W35: =SUMIFS(Gastos!$D$2:$D$10000,Gastos!$B$2:$B$10000,'Cta Resultados'!W2,Gastos!$H$2:$H$10000,'Cta Resultados'!$P$35) -> 0 | X35: =SUMIFS(Gastos!$D$2:$D$10000,Gastos!$B$2:$B$10000,'Cta Resultados'!X2,Gastos!$H$2:$H$10000,'Cta Resultados'!$P$35) -> 0 | ... AB35: =SUMIFS(Gastos!$D$2:$D$10000,Gastos!$B$2:$B$10000,'Cta Resultados'!AB2,Gastos!$H$2:$H$10000,'Cta Resultados'!$P$35) -> 0 | AC35: =SUM(Q35:AB35) -> 1212 | AE35: Publicidad, RRSS, WEB | AR35: =SUM(AF35:AQ35) -> 0
A36: Colaboradores Comerciales | B36: 422.74 | C36: 0 | D36: 236.46 | E36: 2215.36 | F36: 0 | G36: 5820.11 | H36: 444 | I36: 180 | J36: 0 | K36: 1224 | L36: 1185.5 | M36: 4362.61 | N36: 16090.78 | P36: Colaboradores Comerciales | Q36: =SUMIFS(Gastos!$D$2:$D$10000,Gastos!$B$2:$B$10000,'Cta Resultados'!$Q$2,Gastos!$H$2:$H$10000,'Cta Resultados'!P36) -> 4526.9 | R36: =SUMIFS(Gastos!$D$2:$D$10000,Gastos!$B$2:$B$10000,'Cta Resultados'!R2,Gastos!$H$2:$H$10000,'Cta Resultados'!$P$36) -> 863.18 | S36: =SUMIFS(Gastos!$D$2:$D$10000,Gastos!$B$2:$B$10000,'Cta Resultados'!S2,Gastos!$H$2:$H$10000,'Cta Resultados'!$P$36) -> 1378 | T36: =SUMIFS(Gastos!$D$2:$D$10000,Gastos!$B$2:$B$10000,'Cta Resultados'!T2,Gastos!$H$2:$H$10000,'Cta Resultados'!$P$36) -> 0 | U36: =SUMIFS(Gastos!$D$2:$D$10000,Gastos!$B$2:$B$10000,'Cta Resultados'!U2,Gastos!$H$2:$H$10000,'Cta Resultados'!$P$36) -> 0 | V36: =SUMIFS(Gastos!$D$2:$D$10000,Gastos!$B$2:$B$10000,'Cta Resultados'!V2,Gastos!$H$2:$H$10000,'Cta Resultados'!$P$36) -> 0 | W36: =SUMIFS(Gastos!$D$2:$D$10000,Gastos!$B$2:$B$10000,'Cta Resultados'!W2,Gastos!$H$2:$H$10000,'Cta Resultados'!$P$36) -> 0 | X36: =SUMIFS(Gastos!$D$2:$D$10000,Gastos!$B$2:$B$10000,'Cta Resultados'!X2,Gastos!$H$2:$H$10000,'Cta Resultados'!$P$36) -> 0 | Y36: =SUMIFS(Gastos!$D$2:$D$10000,Gastos!$B$2:$B$10000,'Cta Resultados'!Y2,Gastos!$H$2:$H$10000,'Cta Resultados'!$P$36) -> 0 | ... AB36: =SUMIFS(Gastos!$D$2:$D$10000,Gastos!$B$2:$B$10000,'Cta Resultados'!AB2,Gastos!$H$2:$H$10000,'Cta Resultados'!$P$36) -> 0 | AC36: =SUM(Q36:AB36) -> 6768.08 | AE36: Colaboradores Comerciales | AR36: =SUM(AF36:AQ36) -> 0
A37: Seguros | B37: 0 | C37: 278.87 | D37: 883.17 | E37: 0 | F37: 487.78 | G37: 0 | H37: 0 | I37: 0 | J37: 0 | K37: 0 | L37: 758.05 | M37: 0 | N37: 2407.87 | P37: Seguros | Q37: =SUMIFS(Gastos!$D$2:$D$10000,Gastos!$B$2:$B$10000,'Cta Resultados'!Q2,Gastos!$H$2:$H$10000,'Cta Resultados'!$P$37) -> 0 | R37: =SUMIFS(Gastos!$D$2:$D$10000,Gastos!$B$2:$B$10000,'Cta Resultados'!R2,Gastos!$H$2:$H$10000,'Cta Resultados'!$P$37) -> 0 | S37: =SUMIFS(Gastos!$D$2:$D$10000,Gastos!$B$2:$B$10000,'Cta Resultados'!S2,Gastos!$H$2:$H$10000,'Cta Resultados'!$P$37) -> 0 | T37: =SUMIFS(Gastos!$D$2:$D$10000,Gastos!$B$2:$B$10000,'Cta Resultados'!T2,Gastos!$H$2:$H$10000,'Cta Resultados'!$P$37) -> 0 | U37: =SUMIFS(Gastos!$D$2:$D$10000,Gastos!$B$2:$B$10000,'Cta Resultados'!U2,Gastos!$H$2:$H$10000,'Cta Resultados'!$P$37) -> 0 | V37: =SUMIFS(Gastos!$D$2:$D$10000,Gastos!$B$2:$B$10000,'Cta Resultados'!V2,Gastos!$H$2:$H$10000,'Cta Resultados'!$P$37) -> 0 | W37: =SUMIFS(Gastos!$D$2:$D$10000,Gastos!$B$2:$B$10000,'Cta Resultados'!W2,Gastos!$H$2:$H$10000,'Cta Resultados'!$P$37) -> 0 | X37: =SUMIFS(Gastos!$D$2:$D$10000,Gastos!$B$2:$B$10000,'Cta Resultados'!X2,Gastos!$H$2:$H$10000,'Cta Resultados'!$P$37) -> 0 | ... AB37: =SUMIFS(Gastos!$D$2:$D$10000,Gastos!$B$2:$B$10000,'Cta Resultados'!AB2,Gastos!$H$2:$H$10000,'Cta Resultados'!$P$37) -> 0 | AC37: =SUM(Q37:AB37) -> 0 | AE37: Seguros | AR37: =SUM(AF37:AQ37) -> 0
A38: Suplidos | P38: Suplido | Q38: =SUMIFS(Gastos!$D$2:$D$10000,Gastos!$B$2:$B$10000,'Cta Resultados'!Q2,Gastos!$H$2:$H$10000,'Cta Resultados'!$P$38) -> 843.17 | R38: =SUMIFS(Gastos!$D$2:$D$10000,Gastos!$B$2:$B$10000,'Cta Resultados'!R2,Gastos!$H$2:$H$10000,'Cta Resultados'!$P$38) -> 188.4 | S38: =SUMIFS(Gastos!$D$2:$D$10000,Gastos!$B$2:$B$10000,'Cta Resultados'!S2,Gastos!$H$2:$H$10000,'Cta Resultados'!$P$38) -> 1414.95 | T38: =SUMIFS(Gastos!$D$2:$D$10000,Gastos!$B$2:$B$10000,'Cta Resultados'!T2,Gastos!$H$2:$H$10000,'Cta Resultados'!$P$38) -> 0 | U38: =SUMIFS(Gastos!$D$2:$D$10000,Gastos!$B$2:$B$10000,'Cta Resultados'!U2,Gastos!$H$2:$H$10000,'Cta Resultados'!$P$38) -> 0 | V38: =SUMIFS(Gastos!$D$2:$D$10000,Gastos!$B$2:$B$10000,'Cta Resultados'!V2,Gastos!$H$2:$H$10000,'Cta Resultados'!$P$38) -> 0 | W38: =SUMIFS(Gastos!$D$2:$D$10000,Gastos!$B$2:$B$10000,'Cta Resultados'!W2,Gastos!$H$2:$H$10000,'Cta Resultados'!$P$38) -> 0 | X38: =SUMIFS(Gastos!$D$2:$D$10000,Gastos!$B$2:$B$10000,'Cta Resultados'!X2,Gastos!$H$2:$H$10000,'Cta Resultados'!$P$38) -> 0 | ... AB38: =SUMIFS(Gastos!$D$2:$D$10000,Gastos!$B$2:$B$10000,'Cta Resultados'!AB2,Gastos!$H$2:$H$10000,'Cta Resultados'!$P$38) -> 0 | AC38: =SUM(Q38:AB38) -> 2446.52 | AE38: Suplidos
A39: Ratio gastos Indirectos | B39: 0.42717939 | C39: 0.42720797 | D39: 0.3038 | E39: 0.27020818 | F39: 0.49466079 | G39: 0.73485427 | H39: 0.25768746 | I39: 0.66040713 | J39: 0.42116022 | K39: 0.54174809 | L39: 0.51419074 | M39: 0.60487226 | P39: Ratio gastos Indirectos | Q39: =Q27/Q3 -> 0.2012777 | R39: =R27/R3 -> 0.21052361 | S39: =S27/S3 -> 0.21638771 | T39: =T27/T3 -> #DIV/0! | U39: =U27/U3 -> #DIV/0! | V39: =V27/V3 -> #DIV/0! | W39: =W27/W3 -> #DIV/0! | X39: =X27/X3 -> #DIV/0! | ... AB39: =AB27/AB3 -> #DIV/0! | AE39: Ratio gastos Indirectos | AF39: =AF27/AF3 -> 0 | AG39: =AG27/AG3 -> 0 | AH39: =AH27/AH3 -> 0 | AI39: =AI27/AI3 -> 0 | AJ39: =AJ27/AJ3 -> 0 | AK39: =AK27/AK3 -> 0 | AL39: =AL27/AL3 -> 0 | AM39: =AM27/AM3 -> 0 | ... AQ39: =AQ27/AQ3 -> 0
A41: Total Gastos | B41: 32544.91 | C41: 29115.527 | D41: 34820.59 | E41: 31932.876 | F41: 34237.543 | G41: 35562.441 | H41: 27581.473 | I41: 25528.795 | J41: 25375.573 | K41: 29684.495 | L41: 33844.819 | M41: 41152.387 | N41: 381381.43 | P41: Total Gastos | Q41: =Q13+Q27 -> 44008.36 | R41: =R13+R27 -> 38018.35 | S41: =S13+S27 -> 38677.64 | T41: =T13+T27 -> 0 | U41: =U13+U27 -> 0 | V41: =V13+V27 -> 0 | W41: =W13+W27 -> 0 | X41: =X13+X27 -> 0 | ... AB41: =AB13+AB27 -> 0 | AC41: =SUM(Q41:AB41) -> 120704.35 | AE41: Total Gastos | AF41: =AF13+AF27 -> 0 | AG41: =AG13+AG27 -> 0 | AH41: =AH13+AH27 -> 0 | AI41: =AI13+AI27 -> 0 | AJ41: =AJ13+AJ27 -> 0 | AK41: =AK13+AK27 -> 0 | AL41: =AL13+AL27 -> 0 | AM41: =AM13+AM27 -> 0 | ... AQ41: =AQ13+AQ27 -> 0 | AR41: =SUM(AF41:AQ41) -> 0
A42: ALMENDRALEJO | B42: 11269.105 | C42: 7898.485 | D42: 12952.31 | E42: 8517.33 | F42: 9426.18 | G42: 11614.58 | H42: 9275.695 | I42: 8726.625 | J42: 9449.215 | K42: 8521.72 | L42: 11977.19 | M42: 16963.14 | N42: 126591.57 | P42: ALMENDRALEJO | Q42: =Q15+Q18+Q21+Q28 -> 18263.32 | R42: =R15+R18+R21+R28 -> 12550.05 | S42: =S15+S18+S21+S28 -> 13884.61 | T42: =T15+T18+T21+T28 -> 0 | U42: =U15+U18+U21+U28 -> 0 | V42: =V15+V18+V21+V28 -> 0 | W42: =W15+W18+W21+W28 -> 0 | X42: =X15+X18+X21+X28 -> 0 | ... AB42: =AB15+AB18+AB21+AB28 -> 0 | AC42: =SUM(Q42:AB42) -> 44697.98 | AE42: ALMENDRALEJO | AF42: =AF15+AF18+AF21+AF28 -> 0 | AG42: =AG15+AG18+AG21+AG28 -> 0 | AH42: =AH15+AH18+AH21+AH28 -> 0 | AI42: =AI15+AI18+AI21+AI28 -> 0 | AJ42: =AJ15+AJ18+AJ21+AJ28 -> 0 | AK42: =AK15+AK18+AK21+AK28 -> 0 | AL42: =AL15+AL18+AL21+AL28 -> 0 | AM42: =AM15+AM18+AM21+AM28 -> 0 | ... AQ42: =AQ15+AQ18+AQ21+AQ28 -> 0 | AR42: =SUM(AF42:AQ42) -> 0 | AS42: Rellenar
A43: MERIDA | B43: 21275.805 | C43: 21217.042 | D43: 21868.28 | E43: 23415.546 | F43: 24811.363 | G43: 23947.861 | H43: 18305.778 | I43: 16802.17 | J43: 15926.358 | K43: 21162.775 | L43: 21867.629 | M43: 24189.247 | N43: 254789.85 | P43: MERIDA | Q43: =Q16+Q19+Q22+Q29 -> 25745.04 | R43: =R16+R19+R22+R29 -> 25468.3 | S43: =S16+S19+S22+S29 -> 24793.03 | T43: =T16+T19+T22+T29 -> 0 | U43: =U16+U19+U22+U29 -> 0 | V43: =V16+V19+V22+V29 -> 0 | W43: =W16+W19+W22+W29 -> 0 | X43: =X16+X19+X22+X29 -> 0 | ... AB43: =AB16+AB19+AB22+AB29 -> 0 | AC43: =SUM(Q43:AB43) -> 76006.37 | AE43: MERIDA | AF43: =AF16+AF19+AF22+AF29 -> 0 | AG43: =AG16+AG19+AG22+AG29 -> 0 | AH43: =AH16+AH19+AH22+AH29 -> 0 | AI43: =AI16+AI19+AI22+AI29 -> 0 | AJ43: =AJ16+AJ19+AJ22+AJ29 -> 0 | AK43: =AK16+AK19+AK22+AK29 -> 0 | AL43: =AL16+AL19+AL22+AL29 -> 0 | AM43: =AM16+AM19+AM22+AM29 -> 0 | ... AQ43: =AQ16+AQ19+AQ22+AQ29 -> 0 | AR43: =SUM(AF43:AQ43) -> 0 | AS43: Rellenar
...

Sheet Facturas
A1: Serie factura | B1: Fecha factura | C1: Nombre receptor | D1: Total base imponible | E1: Total IVA | F1: Total | G1: Estado cobro | H1: Oficina | I1: Fecha | K1: Suma de Total base imponible | L1: Etiquetas de columna
A2: A | B2: 08-01-2019 | D2: 300 | E2: 63 | F2: 363 | G2: Cobrado | H2: =IF(A2="A","A",IF(A2="AC","A",IF(A2="FA","A","M"))) -> A | I2: =TEXT(B2,"mmmmmmmmmmm") -> enero | K2: Etiquetas de fila | L2: enero | M2: febrero | N2: marzo
A3: A | B3: 26-02-2019 | D3: 250 | E3: 52.5 | F3: 407.14 | G3: Cobrado | H3: =IF(A3="A","A",IF(A3="AC","A",IF(A3="FA","A","M"))) -> A | I3: =TEXT(B3,"mmmmmmmmmmm") -> febrero | K3: A | L3: 4644.63 | M3: 26385.17 | N3: 19306.96
A4: A | B4: 12-03-2019 | D4: 10142.28 | E4: 2129.88 | F4: 12361.13 | G4: Cobrado | H4: =IF(A4="A","A",IF(A4="AC","A",IF(A4="FA","A","M"))) -> A | I4: =TEXT(B4,"mmmmmmmmmmm") -> marzo | K4: M | L4: 18240.64 | M4: 16642.61 | N4: 16426.97
A5: A | B5: 14-03-2019 | D5: 200 | E5: 42 | F5: 242 | G5: Cobrado | H5: =IF(A5="A","A",IF(A5="AC","A",IF(A5="FA","A","M"))) -> A | I5: =TEXT(B5,"mmmmmmmmmmm") -> marzo | K5: Total general | L5: 22885.27 | M5: 43027.78 | N5: 35733.93
A6: A | B6: 18-02-2019 | D6: 1500 | E6: 315 | F6: 1815 | G6: Cobrado | H6: =IF(A6="A","A",IF(A6="AC","A",IF(A6="FA","A","M"))) -> A | I6: =TEXT(B6,"mmmmmmmmmmm") -> febrero
A7: A | B7: 28-02-2019 | D7: 1809.6 | E7: 380.02 | F7: 2189.62 | G7: Cobrado | H7: =IF(A7="A","A",IF(A7="AC","A",IF(A7="FA","A","M"))) -> A | I7: =TEXT(B7,"mmmmmmmmmmm") -> febrero
A8: A | B8: 12-03-2019 | D8: 700 | E8: 147 | F8: 847 | G8: Cobrado | H8: =IF(A8="A","A",IF(A8="AC","A",IF(A8="FA","A","M"))) -> A | I8: =TEXT(B8,"mmmmmmmmmmm") -> marzo
A9: A | B9: 21-03-2019 | D9: 0 | E9: 0 | F9: 18.16 | G9: Cobrado | H9: =IF(A9="A","A",IF(A9="AC","A",IF(A9="FA","A","M"))) -> A | I9: =TEXT(B9,"mmmmmmmmmmm") -> marzo
A10: A | B10: 11-02-2019 | D10: 21125.57 | E10: 4436.37 | F10: 25561.94 | G10: Cobrado | H10: =IF(A10="A","A",IF(A10="AC","A",IF(A10="FA","A","M"))) -> A | I10: =TEXT(B10,"mmmmmmmmmmm") -> febrero
A11: A | B11: 04-03-2019 | D11: 2000 | E11: 420 | F11: 2420 | G11: Cobrado | H11: =IF(A11="A","A",IF(A11="AC","A",IF(A11="FA","A","M"))) -> A | I11: =TEXT(B11,"mmmmmmmmmmm") -> marzo
A12: A | B12: 13-03-2019 | D12: 300 | E12: 63 | F12: 363 | G12: Cobrado | H12: =IF(A12="A","A",IF(A12="AC","A",IF(A12="FA","A","M"))) -> A | I12: =TEXT(B12,"mmmmmmmmmmm") -> marzo
A13: M | B13: 14-02-2019 | D13: -100 | E13: -21 | F13: -121 | G13: Cobrado en Exceso | H13: =IF(A13="A","A",IF(A13="AC","A",IF(A13="FA","A","M"))) -> M | I13: =TEXT(B13,"mmmmmmmmmmm") -> febrero
A14: M | B14: 15-03-2019 | D14: -1500 | E14: -315 | F14: -1815 | G14: Cobrado | H14: =IF(A14="A","A",IF(A14="AC","A",IF(A14="FA","A","M"))) -> M | I14: =TEXT(B14,"mmmmmmmmmmm") -> marzo
A15: AC | B15: 21-03-2019 | D15: 225.6 | E15: 47.38 | F15: 272.98 | G15: Cobrado | H15: =IF(A15="A","A",IF(A15="AC","A",IF(A15="FA","A","M"))) -> A | I15: =TEXT(B15,"mmmmmmmmmmm") -> marzo
A16: AC | B16: 21-03-2019 | D16: 1834.74 | E16: 385.3 | F16: 2220.04 | G16: Cobrado | H16: =IF(A16="A","A",IF(A16="AC","A",IF(A16="FA","A","M"))) -> A | I16: =TEXT(B16,"mmmmmmmmmmm") -> marzo
A17: AC | B17: 27-03-2019 | D17: 1310.53 | E17: 275.21 | F17: 1585.74 | G17: Cobrado | H17: =IF(A17="A","A",IF(A17="AC","A",IF(A17="FA","A","M"))) -> A | I17: =TEXT(B17,"mmmmmmmmmmm") -> marzo
... A222: MC | B222: 14-02-2019 | D222: 561.39 | E222: 117.89 | F222: 679.28 | G222: Cobrado | H222: =IF(A222="A","A",IF(A222="AC","A",IF(A222="FA","A","M"))) -> M | I222: =TEXT(B222,"mmmmmmmmmmm") -> febrero
H223: =IF(A223="A","A",IF(A223="AC","A",IF(A223="FA","A","M"))) -> M | I223: =TEXT(B223,"mmmmmmmmmmm") -> enero
