Workbook
Name SegmentaciónDeDatos_Mes: #N/A

Sheet Análisis Datos
A2: Análisis Simple Cuenta Resultados
G6: Mes | H6: Junio
H8: =H6 -> Junio | I8: Acumulado año
G9: Ingresos | H9: =VLOOKUP(G9,'Cuenta Resultados'!P3:AB3,MATCH('Análisis Datos'!H8,'Cuenta Resultados'!P2:AB2,0),0) -> 7636 | I9: =SUMPRODUCT('Cuenta Resultados'!Q1:AB1,'Cuenta Resultados'!Q3:AB3) -> 75572
G11: Total Gastos | H11: =VLOOKUP(G11,'Cuenta Resultados'!P19:AC19,MATCH('Análisis Datos'!H8,'Cuenta Resultados'!P2:AB2,0),0) -> 10140 | I11: =SUMPRODUCT('Cuenta Resultados'!Q1:AB1,'Cuenta Resultados'!Q19:AB19) -> 54690
G13: Resultado | H13: =VLOOKUP(G13,'Cuenta Resultados'!P24:AC24,MATCH('Análisis Datos'!H8,'Cuenta Resultados'!P2:AB2,0),0) -> -2504 | I13: =SUMPRODUCT('Cuenta Resultados'!Q1:AB1,'Cuenta Resultados'!Q24:AB24) -> 20882
G37: Cliente | I37: Deuda
G38: ='Deuda Pendiente'!A4 -> Cliente 10 | I38: ='Deuda Pendiente'!B4 -> 6479.92
G39: ='Deuda Pendiente'!A5 -> Cliente 7 | I39: ='Deuda Pendiente'!B5 -> 6057.27
G40: ='Deuda Pendiente'!A6 -> Cliente 8 | I40: ='Deuda Pendiente'!B6 -> 4778.33
G41: ='Deuda Pendiente'!A7 -> Cliente 11 | I41: ='Deuda Pendiente'!B7 -> 4207.54
G42: ='Deuda Pendiente'!A8 -> Cliente 20 | I42: ='Deuda Pendiente'!B8 -> 4118.43
G43: ='Deuda Pendiente'!A9 -> Cliente 4 | I43: ='Deuda Pendiente'!B9 -> 3945.09
G44: ='Deuda Pendiente'!A10 -> Cliente 17 | I44: ='Deuda Pendiente'!B10 -> 2859.04
G45: ='Deuda Pendiente'!A11 -> Cliente 21 | I45: ='Deuda Pendiente'!B11 -> 2743.19

Sheet Cuenta Resultados
Q1: =IF('Análisis Datos'!$H$8="Enero",1,IF('Análisis Datos'!$H$8="Febrero",1,IF('Análisis Datos'!$H$8="Marzo",1,IF('Análisis Datos'!$H$8="Abril",1,IF('Análisis Datos'!$H$8="Mayo",1,IF('Análisis Datos'!$H$8="Junio",1,IF('Análisis Datos'!$H$8="Julio",1,IF('Análisis Datos'!$H$8="Agosto",1,IF('Análisis Datos'!$H$8="Septiembre",1,IF('Análisis Datos'!$H$8="Octubre",1,IF('Análisis Datos'!$H$8="Noviembre",1,IF('Análisis Datos'!$H$8="Diciembre",1,0)))))))))))) -> 1 | R1: =IF('Análisis Datos'!$H$8="Febrero",1,IF('Análisis Datos'!$H$8="Marzo",1,IF('Análisis Datos'!$H$8="Abril",1,IF('Análisis Datos'!$H$8="Mayo",1,IF('Análisis Datos'!$H$8="Junio",1,IF('Análisis Datos'!$H$8="Julio",1,IF('Análisis Datos'!$H$8="Agosto",1,IF('Análisis Datos'!$H$8="Septiembre",1,IF('Análisis Datos'!$H$8="Octubre",1,IF('Análisis Datos'!$H$8="Noviembre",1,IF('Análisis Datos'!$H$8="Diciembre",1,0))))))))))) -> 1 | S1: =IF('Análisis Datos'!$H$8="Marzo",1,IF('Análisis Datos'!$H$8="Abril",1,IF('Análisis Datos'!$H$8="Mayo",1,IF('Análisis Datos'!$H$8="Junio",1,IF('Análisis Datos'!$H$8="Julio",1,IF('Análisis Datos'!$H$8="Agosto",1,IF('Análisis Datos'!$H$8="Septiembre",1,IF('Análisis Datos'!$H$8="Octubre",1,IF('Análisis Datos'!$H$8="Noviembre",1,IF('Análisis Datos'!$H$8="Diciembre",1,0)))))))))) -> 1 | T1: =IF('Análisis Datos'!$H$8="Abril",1,IF('Análisis Datos'!$H$8="Mayo",1,IF('Análisis Datos'!$H$8="Junio",1,IF('Análisis Datos'!$H$8="Julio",1,IF('Análisis Datos'!$H$8="Agosto",1,IF('Análisis Datos'!$H$8="Septiembre",1,IF('Análisis Datos'!$H$8="Octubre",1,IF('Análisis Datos'!$H$8="Noviembre",1,IF('Análisis Datos'!$H$8="Diciembre",1,0))))))))) -> 1 | U1: =IF('Análisis Datos'!$H$8="Mayo",1,IF('Análisis Datos'!$H$8="Junio",1,IF('Análisis Datos'!$H$8="Julio",1,IF('Análisis Datos'!$H$8="Agosto",1,IF('Análisis Datos'!$H$8="Septiembre",1,IF('Análisis Datos'!$H$8="Octubre",1,IF('Análisis Datos'!$H$8="Noviembre",1,IF('Análisis Datos'!$H$8="Diciembre",1,0)))))))) -> 1 | V1: =IF('Análisis Datos'!$H$8="Junio",1,IF('Análisis Datos'!$H$8="Julio",1,IF('Análisis Datos'!$H$8="Agosto",1,IF('Análisis Datos'!$H$8="Septiembre",1,IF('Análisis Datos'!$H$8="Octubre",1,IF('Análisis Datos'!$H$8="Noviembre",1,IF('Análisis Datos'!$H$8="Diciembre",1,0))))))) -> 1 | W1: =IF('Análisis Datos'!$H$8="Julio",1,IF('Análisis Datos'!$H$8="Agosto",1,IF('Análisis Datos'!$H$8="Septiembre",1,IF('Análisis Datos'!$H$8="Octubre",1,IF('Análisis Datos'!$H$8="Noviembre",1,IF('Análisis Datos'!$H$8="Diciembre",1,0)))))) -> 0 | X1: =IF('Análisis Datos'!$H$8="Agosto",1,IF('Análisis Datos'!$H$8="Septiembre",1,IF('Análisis Datos'!$H$8="Octubre",1,IF('Análisis Datos'!$H$8="Noviembre",1,IF('Análisis Datos'!$H$8="Diciembre",1,0))))) -> 0 | Y1: =IF('Análisis Datos'!$H$8="Septiembre",1,IF('Análisis Datos'!$H$8="Octubre",1,IF('Análisis Datos'!$H$8="Noviembre",1,IF('Análisis Datos'!$H$8="Diciembre",1,0)))) -> 0 | Z1: =IF('Análisis Datos'!$H$8="Octubre",1,IF('Análisis Datos'!$H$8="Noviembre",1,IF('Análisis Datos'!$H$8="Diciembre",1,0))) -> 0 | AA1: =IF('Análisis Datos'!$H$8="Noviembre",1,IF('Análisis Datos'!$H$8="Diciembre",1,0)) -> 0 | AB1: =IF('Análisis Datos'!H8="Diciembre",1,0) -> 0
A2: 2018 | B2: Enero | C2: Febrero | D2: Marzo | E2: Abril | F2: Mayo | G2: Junio | H2: Julio | I2: Agosto | J2: Septiembre | K2: Octubre | L2: Noviembre | M2: Diciembre | N2: Total | P2: 2019 | Q2: Enero | R2: Febrero | S2: Marzo | T2: Abril | U2: Mayo | V2: Junio | W2: Julio | X2: Agosto | Y2: Septiembre | Z2: Octubre | AA2: Noviembre | AB2: Diciembre | AC2: Total | AE2: Presupuesto 20 | AF2: Enero | AG2: Febrero | AH2: Marzo | AI2: Abril | AJ2: Mayo | AK2: Junio | AL2: Julio | AM2: Agosto | AN2: Septiembre | AO2: Octubre | AP2: Noviembre | AQ2: Diciembre | AR2: Total | AT2: % Ingresos | AV2: Presupuesto 19 | AW2: Enero | AX2: Febrero | AY2: Marzo | AZ2: Abril | BA2: Mayo | BB2: Junio | BC2: Julio | BD2: Agosto | BE2: Septiembre | BF2: Octubre | BG2: Noviembre | BH2: Diciembre | BI2: Total | BK2: % Ingresos
A3: Ingresos | N3: =SUM(B3:M3) -> 0 | P3: Ingresos | Q3: =SUMIFS('Facturas 19'!$K:$K,'Facturas 19'!$P:$P,'Cuenta Resultados'!Q2) -> 24434 | R3: =SUMIFS('Facturas 19'!$K:$K,'Facturas 19'!$P:$P,'Cuenta Resultados'!R2) -> 16191 | S3: =SUMIFS('Facturas 19'!$K:$K,'Facturas 19'!$P:$P,'Cuenta Resultados'!S2) -> 10303 | T3: =SUMIFS('Facturas 19'!$K:$K,'Facturas 19'!$P:$P,'Cuenta Resultados'!T2) -> 10832 | U3: =SUMIFS('Facturas 19'!$K:$K,'Facturas 19'!$P:$P,'Cuenta Resultados'!U2) -> 6176 | V3: =SUMIFS('Facturas 19'!$K:$K,'Facturas 19'!$P:$P,'Cuenta Resultados'!V2) -> 7636 | W3: =SUMIFS('Facturas 19'!$K:$K,'Facturas 19'!$P:$P,'Cuenta Resultados'!W2) -> 12352 | X3: =SUMIFS('Facturas 19'!$K:$K,'Facturas 19'!$P:$P,'Cuenta Resultados'!X2) -> 6236 | ... AB3: =SUMIFS('Facturas 19'!$K:$K,'Facturas 19'!$P:$P,'Cuenta Resultados'!AB2) -> 10392 | AC3: =SUM(Q3:AB3) -> 135872 | AE3: Ingresos | AF3: =(Q3*$AT$3)+Q3 -> 28099.1 | AG3: =(R3*$AT$3)+R3 -> 18619.65 | AH3: =(S3*$AT$3)+S3 -> 11848.45 | AI3: =(T3*$AT$3)+T3 -> 12456.8 | AJ3: =(U3*$AT$3)+U3 -> 7102.4 | AK3: =(V3*$AT$3)+V3 -> 8781.4 | AL3: =(W3*$AT$3)+W3 -> 14204.8 | AM3: =(X3*$AT$3)+X3 -> 7171.4 | ... AQ3: =(AB3*$AT$3)+AB3 -> 11950.8 | AR3: =SUM(AF3:AQ3) -> 156252.8 | AT3: 0.15 | AV3: Ingresos | AW3: =(RANDBETWEEN($BK$3,$BK$4)/100)*Q3+Q3 -> 31275.52 | AX3: =(RANDBETWEEN($BK$3,$BK$4)/100)*R3+R3 -> 23962.68 | AY3: =(RANDBETWEEN($BK$3,$BK$4)/100)*S3+S3 -> 13909.05 | AZ3: =(RANDBETWEEN($BK$3,$BK$4)/100)*T3+T3 -> 14514.88 | BA3: =(RANDBETWEEN($BK$3,$BK$4)/100)*U3+U3 -> 7534.72 | BB3: =(RANDBETWEEN($BK$3,$BK$4)/100)*V3+V3 -> 10919.48 | BC3: =(RANDBETWEEN($BK$3,$BK$4)/100)*W3+W3 -> 16922.24 | BD3: =(RANDBETWEEN($BK$3,$BK$4)/100)*X3+X3 -> 8480.96 | ... BH3: =(RANDBETWEEN($BK$3,$BK$4)/100)*AB3+AB3 -> 12886.08 | BI3: =SUM(AW3:BH3) -> 182338.65 | BK3: 20
A4: Gastos Directos | B4: =SUM(B5) -> 0 | C4: =SUM(C5) -> 0 | D4: =SUM(D5) -> 0 | E4: =SUM(E5) -> 0 | F4: =SUM(F5) -> 0 | G4: =SUM(G5) -> 0 | H4: =SUM(H5) -> 0 | I4: =SUM(I5) -> 0 | ... M4: =SUM(M5) -> 0 | N4: =SUM(B4:M4) -> 0 | P4: Gastos Directos | Q4: =SUM(Q5) -> 1500 | R4: =SUM(R5) -> 1300 | S4: =SUM(S5) -> 2300 | T4: =SUM(T5) -> 2000 | U4: =SUM(U5) -> 1100 | V4: =SUM(V5) -> 1300 | W4: =SUM(W5) -> 550 | X4: =SUM(X5) -> 1700 | ... AB4: =SUM(AB5) -> 1300 | AC4: =SUM(Q4:AB4) -> 16950 | AE4: Gastos Directos | AF4: =SUM(AF5) -> 0 | AG4: =SUM(AG5) -> 0 | AH4: =SUM(AH5) -> 0 | AI4: =SUM(AI5) -> 0 | AJ4: =SUM(AJ5) -> 0 | AK4: =SUM(AK5) -> 0 | AL4: =SUM(AL5) -> 0 | AM4: =SUM(AM5) -> 0 | ... AQ4: =SUM(AQ5) -> 0 | AR4: =SUM(AF4:AQ4) -> 0 | AV4: Gastos Directos | AW4: =SUM(AW5) -> 0 | AX4: =SUM(AX5) -> 0 | AY4: =SUM(AY5) -> 0 | AZ4: =SUM(AZ5) -> 0 | BA4: =SUM(BA5) -> 0 | BB4: =SUM(BB5) -> 0 | BC4: =SUM(BC5) -> 0 | BD4: =SUM(BD5) -> 0 | ... BH4: =SUM(BH5) -> 0 | BI4: =SUM(AW4:BH4) -> 0 | BK4: 50
A5: Compras | N5: =SUM(B5:M5) -> 0 | P5: Compras | Q5: =SUMIFS('Gastos 19'!$F:$F,'Gastos 19'!$E:$E,'Cuenta Resultados'!Q2,'Gastos 19'!$A:$A,'Cuenta Resultados'!$P$5) -> 1500 | R5: =SUMIFS('Gastos 19'!$F:$F,'Gastos 19'!$E:$E,'Cuenta Resultados'!R2,'Gastos 19'!$A:$A,'Cuenta Resultados'!$P$5) -> 1300 | S5: =SUMIFS('Gastos 19'!$F:$F,'Gastos 19'!$E:$E,'Cuenta Resultados'!S2,'Gastos 19'!$A:$A,'Cuenta Resultados'!$P$5) -> 2300 | T5: =SUMIFS('Gastos 19'!$F:$F,'Gastos 19'!$E:$E,'Cuenta Resultados'!T2,'Gastos 19'!$A:$A,'Cuenta Resultados'!$P$5) -> 2000 | U5: =SUMIFS('Gastos 19'!$F:$F,'Gastos 19'!$E:$E,'Cuenta Resultados'!U2,'Gastos 19'!$A:$A,'Cuenta Resultados'!$P$5) -> 1100 | V5: =SUMIFS('Gastos 19'!$F:$F,'Gastos 19'!$E:$E,'Cuenta Resultados'!V2,'Gastos 19'!$A:$A,'Cuenta Resultados'!$P$5) -> 1300 | W5: =SUMIFS('Gastos 19'!$F:$F,'Gastos 19'!$E:$E,'Cuenta Resultados'!W2,'Gastos 19'!$A:$A,'Cuenta Resultados'!$P$5) -> 550 | X5: =SUMIFS('Gastos 19'!$F:$F,'Gastos 19'!$E:$E,'Cuenta Resultados'!X2,'Gastos 19'!$A:$A,'Cuenta Resultados'!$P$5) -> 1700 | ... AB5: =SUMIFS('Gastos 19'!$F:$F,'Gastos 19'!$E:$E,'Cuenta Resultados'!AB2,'Gastos 19'!$A:$A,'Cuenta Resultados'!$P$5) -> 1300 | AC5: =SUM(Q5:AB5) -> 16950 | AE5: Compras | AR5: =SUM(AF5:AQ5) -> 0 | AV5: Compras | BI5: =SUM(AW5:BH5) -> 0
A6: Beneficio Bruto | B6: =B3-B4 -> 0 | C6: =C3-C4 -> 0 | D6: =D3-D4 -> 0 | E6: =E3-E4 -> 0 | F6: =F3-F4 -> 0 | G6: =G3-G4 -> 0 | H6: =H3-H4 -> 0 | I6: =I3-I4 -> 0 | ... M6: =M3-M4 -> 0 | N6: =SUM(B6:M6) -> 0 | P6: Beneficio Bruto | Q6: =Q3-Q4 -> 22934 | R6: =R3-R4 -> 14891 | S6: =S3-S4 -> 8003 | T6: =T3-T4 -> 8832 | U6: =U3-U4 -> 5076 | V6: =V3-V4 -> 6336 | W6: =W3-W4 -> 11802 | X6: =X3-X4 -> 4536 | ... AB6: =AB3-AB4 -> 9092 | AC6: =SUM(Q6:AB6) -> 118922 | AE6: Beneficio Bruto | AF6: =AF3-AF4 -> 28099.1 | AG6: =AG3-AG4 -> 18619.65 | AH6: =AH3-AH4 -> 11848.45 | AI6: =AI3-AI4 -> 12456.8 | AJ6: =AJ3-AJ4 -> 7102.4 | AK6: =AK3-AK4 -> 8781.4 | AL6: =AL3-AL4 -> 14204.8 | AM6: =AM3-AM4 -> 7171.4 | ... AQ6: =AQ3-AQ4 -> 11950.8 | AR6: =SUM(AF6:AQ6) -> 156252.8 | AV6: Beneficio Bruto | AW6: =AW3-AW4 -> 31275.52 | AX6: =AX3-AX4 -> 23962.68 | AY6: =AY3-AY4 -> 13909.05 | AZ6: =AZ3-AZ4 -> 14514.88 | BA6: =BA3-BA4 -> 7534.72 | BB6: =BB3-BB4 -> 10919.48 | BC6: =BC3-BC4 -> 16922.24 | BD6: =BD3-BD4 -> 8480.96 | ... BH6: =BH3-BH4 -> 12886.08 | BI6: =SUM(AW6:BH6) -> 182338.65
B7: =B6/B3 -> #DIV/0! | C7: =C6/C3 -> #DIV/0! | D7: =D6/D3 -> #DIV/0! | E7: =E6/E3 -> #DIV/0! | F7: =F6/F3 -> #DIV/0! | G7: =G6/G3 -> #DIV/0! | H7: =H6/H3 -> #DIV/0! | I7: =I6/I3 -> #DIV/0! | ... M7: =M6/M3 -> #DIV/0! | Q7: =Q6/Q3 -> 0.93861013 | R7: =R6/R3 -> 0.91970848 | S7: =S6/S3 -> 0.77676405 | T7: =T6/T3 -> 0.81536189 | U7: =U6/U3 -> 0.82189119 | V7: =V6/V3 -> 0.8297538 | W7: =W6/W3 -> 0.9554728 | X7: =X6/X3 -> 0.72738935 | ... AB7: =AB6/AB3 -> 0.87490377 | AF7: =AF6/AF3 -> 1 | AG7: =AG6/AG3 -> 1 | AH7: =AH6/AH3 -> 1 | AI7: =AI6/AI3 -> 1 | AJ7: =AJ6/AJ3 -> 1 | AK7: =AK6/AK3 -> 1 | AL7: =AL6/AL3 -> 1 | AM7: =AM6/AM3 -> 1 | ... AQ7: =AQ6/AQ3 -> 1 | AW7: =AW6/AW3 -> 1 | AX7: =AX6/AX3 -> 1 | AY7: =AY6/AY3 -> 1 | AZ7: =AZ6/AZ3 -> 1 | BA7: =BA6/BA3 -> 1 | BB7: =BB6/BB3 -> 1 | BC7: =BC6/BC3 -> 1 | BD7: =BD6/BD3 -> 1 | ... BH7: =BH6/BH3 -> 1
A9: Coste Personal | N9: =SUM(B9:M9) -> 0 | P9: Coste Personal | Q9: =SUMIFS('Gastos 19'!$F:$F,'Gastos 19'!$E:$E,'Cuenta Resultados'!Q2,'Gastos 19'!$A:$A,'Cuenta Resultados'!$P$9) -> 5000 | R9: =SUMIFS('Gastos 19'!$F:$F,'Gastos 19'!$E:$E,'Cuenta Resultados'!R2,'Gastos 19'!$A:$A,'Cuenta Resultados'!$P$9) -> 4500 | S9: =SUMIFS('Gastos 19'!$F:$F,'Gastos 19'!$E:$E,'Cuenta Resultados'!S2,'Gastos 19'!$A:$A,'Cuenta Resultados'!$P$9) -> 6000 | T9: =SUMIFS('Gastos 19'!$F:$F,'Gastos 19'!$E:$E,'Cuenta Resultados'!T2,'Gastos 19'!$A:$A,'Cuenta Resultados'!$P$9) -> 6500 | U9: =SUMIFS('Gastos 19'!$F:$F,'Gastos 19'!$E:$E,'Cuenta Resultados'!U2,'Gastos 19'!$A:$A,'Cuenta Resultados'!$P$9) -> 5000 | V9: =SUMIFS('Gastos 19'!$F:$F,'Gastos 19'!$E:$E,'Cuenta Resultados'!V2,'Gastos 19'!$A:$A,'Cuenta Resultados'!$P$9) -> 5500 | W9: =SUMIFS('Gastos 19'!$F:$F,'Gastos 19'!$E:$E,'Cuenta Resultados'!W2,'Gastos 19'!$A:$A,'Cuenta Resultados'!$P$9) -> 5000 | X9: =SUMIFS('Gastos 19'!$F:$F,'Gastos 19'!$E:$E,'Cuenta Resultados'!X2,'Gastos 19'!$A:$A,'Cuenta Resultados'!$P$9) -> 6000 | ... AB9: =SUMIFS('Gastos 19'!$F:$F,'Gastos 19'!$E:$E,'Cuenta Resultados'!AB2,'Gastos 19'!$A:$A,'Cuenta Resultados'!$P$9) -> 4500 | AC9: =SUM(Q9:AB9) -> 61500 | AE9: Coste Personal | AF9: =SUMIFS('Gastos 19'!$F:$F,'Gastos 19'!$E:$E,'Cuenta Resultados'!AF2,'Gastos 19'!$A:$A,'Cuenta Resultados'!$P$9) -> 5000 | AG9: =SUMIFS('Gastos 19'!$F:$F,'Gastos 19'!$E:$E,'Cuenta Resultados'!AG2,'Gastos 19'!$A:$A,'Cuenta Resultados'!$P$9) -> 4500 | AH9: =SUMIFS('Gastos 19'!$F:$F,'Gastos 19'!$E:$E,'Cuenta Resultados'!AH2,'Gastos 19'!$A:$A,'Cuenta Resultados'!$P$9) -> 6000 | AI9: =SUMIFS('Gastos 19'!$F:$F,'Gastos 19'!$E:$E,'Cuenta Resultados'!AI2,'Gastos 19'!$A:$A,'Cuenta Resultados'!$P$9) -> 6500 | AJ9: =SUMIFS('Gastos 19'!$F:$F,'Gastos 19'!$E:$E,'Cuenta Resultados'!AJ2,'Gastos 19'!$A:$A,'Cuenta Resultados'!$P$9) -> 5000 | AK9: =SUMIFS('Gastos 19'!$F:$F,'Gastos 19'!$E:$E,'Cuenta Resultados'!AK2,'Gastos 19'!$A:$A,'Cuenta Resultados'!$P$9) -> 5500 | AL9: =SUMIFS('Gastos 19'!$F:$F,'Gastos 19'!$E:$E,'Cuenta Resultados'!AL2,'Gastos 19'!$A:$A,'Cuenta Resultados'!$P$9) -> 5000 | AM9: =SUMIFS('Gastos 19'!$F:$F,'Gastos 19'!$E:$E,'Cuenta Resultados'!AM2,'Gastos 19'!$A:$A,'Cuenta Resultados'!$P$9) -> 6000 | ... AQ9: =SUMIFS('Gastos 19'!$F:$F,'Gastos 19'!$E:$E,'Cuenta Resultados'!AQ2,'Gastos 19'!$A:$A,'Cuenta Resultados'!$P$9) -> 4500 | AR9: =SUM(AF9:AQ9) -> 61500 | AT9: % Gastos | AV9: Coste Personal | AW9: =SUMIFS('Gastos 19'!$F:$F,'Gastos 19'!$E:$E,'Cuenta Resultados'!AW2,'Gastos 19'!$A:$A,'Cuenta Resultados'!$P$9) -> 5000 | AX9: =SUMIFS('Gastos 19'!$F:$F,'Gastos 19'!$E:$E,'Cuenta Resultados'!AX2,'Gastos 19'!$A:$A,'Cuenta Resultados'!$P$9) -> 4500 | AY9: =SUMIFS('Gastos 19'!$F:$F,'Gastos 19'!$E:$E,'Cuenta Resultados'!AY2,'Gastos 19'!$A:$A,'Cuenta Resultados'!$P$9) -> 6000 | AZ9: =SUMIFS('Gastos 19'!$F:$F,'Gastos 19'!$E:$E,'Cuenta Resultados'!AZ2,'Gastos 19'!$A:$A,'Cuenta Resultados'!$P$9) -> 6500 | BA9: =SUMIFS('Gastos 19'!$F:$F,'Gastos 19'!$E:$E,'Cuenta Resultados'!BA2,'Gastos 19'!$A:$A,'Cuenta Resultados'!$P$9) -> 5000 | BB9: =SUMIFS('Gastos 19'!$F:$F,'Gastos 19'!$E:$E,'Cuenta Resultados'!BB2,'Gastos 19'!$A:$A,'Cuenta Resultados'!$P$9) -> 5500 | BC9: =SUMIFS('Gastos 19'!$F:$F,'Gastos 19'!$E:$E,'Cuenta Resultados'!BC2,'Gastos 19'!$A:$A,'Cuenta Resultados'!$P$9) -> 5000 | BD9: =SUMIFS('Gastos 19'!$F:$F,'Gastos 19'!$E:$E,'Cuenta Resultados'!BD2,'Gastos 19'!$A:$A,'Cuenta Resultados'!$P$9) -> 6000 | ... BH9: =SUMIFS('Gastos 19'!$F:$F,'Gastos 19'!$E:$E,'Cuenta Resultados'!BH2,'Gastos 19'!$A:$A,'Cuenta Resultados'!$P$9) -> 4500 | BI9: =SUM(AW9:BH9) -> 61500 | BK9: % Gastos
Q10: =Q9/Q3 -> 0.20463289 | R10: =R9/R3 -> 0.27793218 | S10: =S9/S3 -> 0.58235465 | T10: =T9/T3 -> 0.60007386 | U10: =U9/U3 -> 0.80958549 | V10: =V9/V3 -> 0.72027239 | W10: =W9/W3 -> 0.40479275 | X10: =X9/X3 -> 0.96215523 | ... AB10: =AB9/AB3 -> 0.4330254 | AT10: 0.05 | BK10: 5
A11: Gastos Indirectos | B11: =SUM(B12:B15) -> 0 | C11: =SUM(C12:C15) -> 0 | D11: =SUM(D12:D15) -> 0 | E11: =SUM(E12:E15) -> 0 | F11: =SUM(F12:F15) -> 0 | G11: =SUM(G12:G15) -> 0 | H11: =SUM(H12:H15) -> 0 | I11: =SUM(I12:I15) -> 0 | ... M11: =SUM(M12:M15) -> 0 | N11: =SUM(B11:M11) -> 0 | P11: Gastos Indirectos | Q11: =SUM(Q12:Q15) -> 1130 | R11: =SUM(R12:R15) -> 1730 | S11: =SUM(S12:S15) -> 2220 | T11: =SUM(T12:T15) -> 2230 | U11: =SUM(U12:U15) -> 2040 | V11: =SUM(V12:V15) -> 3340 | W11: =SUM(W12:W15) -> 2240 | X11: =SUM(X12:X15) -> 4080 | ... AB11: =SUM(AB12:AB15) -> 2260 | AC11: =SUM(Q11:AB11) -> 28050 | AE11: Gastos Indirectos | AF11: =SUM(AF12:AF15) -> 0 | AG11: =SUM(AG12:AG15) -> 0 | AH11: =SUM(AH12:AH15) -> 0 | AI11: =SUM(AI12:AI15) -> 0 | AJ11: =SUM(AJ12:AJ15) -> 0 | AK11: =SUM(AK12:AK15) -> 0 | AL11: =SUM(AL12:AL15) -> 0 | AM11: =SUM(AM12:AM15) -> 0 | ... AQ11: =SUM(AQ12:AQ15) -> 0 | AR11: =SUM(AF11:AQ11) -> 0 | AV11: Gastos Indirectos | AW11: =SUM(AW12:AW15) -> 0 | AX11: =SUM(AX12:AX15) -> 0 | AY11: =SUM(AY12:AY15) -> 0 | AZ11: =SUM(AZ12:AZ15) -> 0 | BA11: =SUM(BA12:BA15) -> 0 | BB11: =SUM(BB12:BB15) -> 0 | BC11: =SUM(BC12:BC15) -> 0 | BD11: =SUM(BD12:BD15) -> 0 | ... BH11: =SUM(BH12:BH15) -> 0 | BI11: =SUM(AW11:BH11) -> 0 | BK11: 10
A12: Suministros | N12: =SUM(B12:M12) -> 0 | P12: Suministros | Q12: =SUMIFS('Gastos 19'!$F:$F,'Gastos 19'!$E:$E,'Cuenta Resultados'!Q2,'Gastos 19'!$A:$A,'Cuenta Resultados'!$P$12) -> 140 | R12: =SUMIFS('Gastos 19'!$F:$F,'Gastos 19'!$E:$E,'Cuenta Resultados'!R2,'Gastos 19'!$A:$A,'Cuenta Resultados'!$P$12) -> 100 | S12: =SUMIFS('Gastos 19'!$F:$F,'Gastos 19'!$E:$E,'Cuenta Resultados'!S2,'Gastos 19'!$A:$A,'Cuenta Resultados'!$P$12) -> 100 | T12: =SUMIFS('Gastos 19'!$F:$F,'Gastos 19'!$E:$E,'Cuenta Resultados'!T2,'Gastos 19'!$A:$A,'Cuenta Resultados'!$P$12) -> 100 | U12: =SUMIFS('Gastos 19'!$F:$F,'Gastos 19'!$E:$E,'Cuenta Resultados'!U2,'Gastos 19'!$A:$A,'Cuenta Resultados'!$P$12) -> 140 | V12: =SUMIFS('Gastos 19'!$F:$F,'Gastos 19'!$E:$E,'Cuenta Resultados'!V2,'Gastos 19'!$A:$A,'Cuenta Resultados'!$P$12) -> 140 | W12: =SUMIFS('Gastos 19'!$F:$F,'Gastos 19'!$E:$E,'Cuenta Resultados'!W2,'Gastos 19'!$A:$A,'Cuenta Resultados'!$P$12) -> 140 | X12: =SUMIFS('Gastos 19'!$F:$F,'Gastos 19'!$E:$E,'Cuenta Resultados'!X2,'Gastos 19'!$A:$A,'Cuenta Resultados'!$P$12) -> 180 | ... AB12: =SUMIFS('Gastos 19'!$F:$F,'Gastos 19'!$E:$E,'Cuenta Resultados'!AB2,'Gastos 19'!$A:$A,'Cuenta Resultados'!$P$12) -> 260 | AC12: =SUM(Q12:AB12) -> 2080 | AE12: Suministros | AR12: =SUM(AF12:AQ12) -> 0 | AV12: Suministros | BI12: =SUM(AW12:BH12) -> 0
A13: Mantenimiento | N13: =SUM(B13:M13) -> 0 | P13: Mantenimiento | Q13: =SUMIFS('Gastos 19'!$F:$F,'Gastos 19'!$E:$E,'Cuenta Resultados'!Q2,'Gastos 19'!$A:$A,'Cuenta Resultados'!$P$13) -> 40 | R13: =SUMIFS('Gastos 19'!$F:$F,'Gastos 19'!$E:$E,'Cuenta Resultados'!R2,'Gastos 19'!$A:$A,'Cuenta Resultados'!$P$13) -> 80 | S13: =SUMIFS('Gastos 19'!$F:$F,'Gastos 19'!$E:$E,'Cuenta Resultados'!S2,'Gastos 19'!$A:$A,'Cuenta Resultados'!$P$13) -> 70 | T13: =SUMIFS('Gastos 19'!$F:$F,'Gastos 19'!$E:$E,'Cuenta Resultados'!T2,'Gastos 19'!$A:$A,'Cuenta Resultados'!$P$13) -> 80 | U13: =SUMIFS('Gastos 19'!$F:$F,'Gastos 19'!$E:$E,'Cuenta Resultados'!U2,'Gastos 19'!$A:$A,'Cuenta Resultados'!$P$13) -> 100 | V13: =SUMIFS('Gastos 19'!$F:$F,'Gastos 19'!$E:$E,'Cuenta Resultados'!V2,'Gastos 19'!$A:$A,'Cuenta Resultados'!$P$13) -> 200 | W13: =SUMIFS('Gastos 19'!$F:$F,'Gastos 19'!$E:$E,'Cuenta Resultados'!W2,'Gastos 19'!$A:$A,'Cuenta Resultados'!$P$13) -> 200 | X13: =SUMIFS('Gastos 19'!$F:$F,'Gastos 19'!$E:$E,'Cuenta Resultados'!X2,'Gastos 19'!$A:$A,'Cuenta Resultados'!$P$13) -> 500 | ... AB13: =SUMIFS('Gastos 19'!$F:$F,'Gastos 19'!$E:$E,'Cuenta Resultados'!AB2,'Gastos 19'!$A:$A,'Cuenta Resultados'!$P$13) -> 100 | AC13: =SUM(Q13:AB13) -> 1670 | AE13: Mantenimiento | AR13: =SUM(AF13:AQ13) -> 0 | AV13: Mantenimiento | BI13: =SUM(AW13:BH13) -> 0
A14: Serv Externalizados | N14: =SUM(B14:M14) -> 0 | P14: Serv Externalizados | Q14: =SUMIFS('Gastos 19'!$F:$F,'Gastos 19'!$E:$E,'Cuenta Resultados'!Q2,'Gastos 19'!$A:$A,'Cuenta Resultados'!$P$14) -> 600 | R14: =SUMIFS('Gastos 19'!$F:$F,'Gastos 19'!$E:$E,'Cuenta Resultados'!R2,'Gastos 19'!$A:$A,'Cuenta Resultados'!$P$14) -> 1000 | S14: =SUMIFS('Gastos 19'!$F:$F,'Gastos 19'!$E:$E,'Cuenta Resultados'!S2,'Gastos 19'!$A:$A,'Cuenta Resultados'!$P$14) -> 1500 | T14: =SUMIFS('Gastos 19'!$F:$F,'Gastos 19'!$E:$E,'Cuenta Resultados'!T2,'Gastos 19'!$A:$A,'Cuenta Resultados'!$P$14) -> 1000 | U14: =SUMIFS('Gastos 19'!$F:$F,'Gastos 19'!$E:$E,'Cuenta Resultados'!U2,'Gastos 19'!$A:$A,'Cuenta Resultados'!$P$14) -> 700 | V14: =SUMIFS('Gastos 19'!$F:$F,'Gastos 19'!$E:$E,'Cuenta Resultados'!V2,'Gastos 19'!$A:$A,'Cuenta Resultados'!$P$14) -> 1200 | W14: =SUMIFS('Gastos 19'!$F:$F,'Gastos 19'!$E:$E,'Cuenta Resultados'!W2,'Gastos 19'!$A:$A,'Cuenta Resultados'!$P$14) -> 700 | X14: =SUMIFS('Gastos 19'!$F:$F,'Gastos 19'!$E:$E,'Cuenta Resultados'!X2,'Gastos 19'!$A:$A,'Cuenta Resultados'!$P$14) -> 1000 | ... AB14: =SUMIFS('Gastos 19'!$F:$F,'Gastos 19'!$E:$E,'Cuenta Resultados'!AB2,'Gastos 19'!$A:$A,'Cuenta Resultados'!$P$14) -> 800 | AC14: =SUM(Q14:AB14) -> 10900 | AE14: Serv Externalizados | AR14: =SUM(AF14:AQ14) -> 0 | AV14: Serv Externalizados | BI14: =SUM(AW14:BH14) -> 0
A15: Otros Gastos | N15: =SUM(B15:M15) -> 0 | P15: Otros Gastos | Q15: =SUMIFS('Gastos 19'!$F:$F,'Gastos 19'!$E:$E,'Cuenta Resultados'!Q2,'Gastos 19'!$A:$A,'Cuenta Resultados'!$P$15) -> 350 | R15: =SUMIFS('Gastos 19'!$F:$F,'Gastos 19'!$E:$E,'Cuenta Resultados'!R2,'Gastos 19'!$A:$A,'Cuenta Resultados'!$P$15) -> 550 | S15: =SUMIFS('Gastos 19'!$F:$F,'Gastos 19'!$E:$E,'Cuenta Resultados'!S2,'Gastos 19'!$A:$A,'Cuenta Resultados'!$P$15) -> 550 | T15: =SUMIFS('Gastos 19'!$F:$F,'Gastos 19'!$E:$E,'Cuenta Resultados'!T2,'Gastos 19'!$A:$A,'Cuenta Resultados'!$P$15) -> 1050 | U15: =SUMIFS('Gastos 19'!$F:$F,'Gastos 19'!$E:$E,'Cuenta Resultados'!U2,'Gastos 19'!$A:$A,'Cuenta Resultados'!$P$15) -> 1100 | V15: =SUMIFS('Gastos 19'!$F:$F,'Gastos 19'!$E:$E,'Cuenta Resultados'!V2,'Gastos 19'!$A:$A,'Cuenta Resultados'!$P$15) -> 1800 | W15: =SUMIFS('Gastos 19'!$F:$F,'Gastos 19'!$E:$E,'Cuenta Resultados'!W2,'Gastos 19'!$A:$A,'Cuenta Resultados'!$P$15) -> 1200 | X15: =SUMIFS('Gastos 19'!$F:$F,'Gastos 19'!$E:$E,'Cuenta Resultados'!X2,'Gastos 19'!$A:$A,'Cuenta Resultados'!$P$15) -> 2400 | ... AB15: =SUMIFS('Gastos 19'!$F:$F,'Gastos 19'!$E:$E,'Cuenta Resultados'!AB2,'Gastos 19'!$A:$A,'Cuenta Resultados'!$P$15) -> 1100 | AC15: =SUM(Q15:AB15) -> 13400 | AE15: Otros Gastos | AR15: =SUM(AF15:AQ15) -> 0 | AV15: Otros Gastos | BI15: =SUM(AW15:BH15) -> 0
A16: Resultado Operativo | B16: =B6-B9-B11 -> 0 | C16: =C6-C9-C11 -> 0 | D16: =D6-D9-D11 -> 0 | E16: =E6-E9-E11 -> 0 | F16: =F6-F9-F11 -> 0 | G16: =G6-G9-G11 -> 0 | H16: =H6-H9-H11 -> 0 | I16: =I6-I9-I11 -> 0 | ... M16: =M6-M9-M11 -> 0 | N16: =SUM(B16:M16) -> 0 | P16: Resultado Operativo | Q16: =Q6-Q9-Q11 -> 16804 | R16: =R6-R9-R11 -> 8661 | S16: =S6-S9-S11 -> -217 | T16: =T6-T9-T11 -> 102 | U16: =U6-U9-U11 -> -1964 | V16: =V6-V9-V11 -> -2504 | W16: =W6-W9-W11 -> 4562 | X16: =X6-X9-X11 -> -5544 | ... AB16: =AB6-AB9-AB11 -> 2332 | AC16: =SUM(Q16:AB16) -> 29372 | AE16: Resultado Operativo | AF16: =AF6-AF9-AF11 -> 23099.1 | AG16: =AG6-AG9-AG11 -> 14119.65 | AH16: =AH6-AH9-AH11 -> 5848.45 | AI16: =AI6-AI9-AI11 -> 5956.8 | AJ16: =AJ6-AJ9-AJ11 -> 2102.4 | AK16: =AK6-AK9-AK11 -> 3281.4 | AL16: =AL6-AL9-AL11 -> 9204.8 | AM16: =AM6-AM9-AM11 -> 1171.4 | ... AQ16: =AQ6-AQ9-AQ11 -> 7450.8 | AR16: =SUM(AF16:AQ16) -> 94752.8 | AV16: Resultado Operativo | AW16: =AW6-AW9-AW11 -> 26275.52 | AX16: =AX6-AX9-AX11 -> 19462.68 | AY16: =AY6-AY9-AY11 -> 7909.05 | AZ16: =AZ6-AZ9-AZ11 -> 8014.88 | BA16: =BA6-BA9-BA11 -> 2534.72 | BB16: =BB6-BB9-BB11 -> 5419.48 | BC16: =BC6-BC9-BC11 -> 11922.24 | BD16: =BD6-BD9-BD11 -> 2480.96 | ... BH16: =BH6-BH9-BH11 -> 8386.08 | BI16: =SUM(AW16:BH16) -> 120838.65
B17: =B16/B3 -> #DIV/0! | C17: =C16/C3 -> #DIV/0! | D17: =D16/D3 -> #DIV/0! | E17: =E16/E3 -> #DIV/0! | F17: =F16/F3 -> #DIV/0! | G17: =G16/G3 -> #DIV/0! | H17: =H16/H3 -> #DIV/0! | I17: =I16/I3 -> #DIV/0! | ... M17: =M16/M3 -> #DIV/0! | Q17: =Q16/Q3 -> 0.68773021 | R17: =R16/R3 -> 0.53492681 | S17: =S16/S3 -> -0.021061827 | T17: =T16/T3 -> 0.0094165436 | U17: =U16/U3 -> -0.31800518 | V17: =V16/V3 -> -0.32792038 | W17: =W16/W3 -> 0.3693329 | X17: =X16/X3 -> -0.88903143 | ... AB17: =AB16/AB3 -> 0.22440339 | AF17: =AF16/AF3 -> 0.82205836 | AG17: =AG16/AG3 -> 0.75831984 | AH17: =AH16/AH3 -> 0.49360465 | AI17: =AI16/AI3 -> 0.47819665 | AJ17: =AJ16/AJ3 -> 0.29601262 | AK17: =AK16/AK3 -> 0.37367618 | AL17: =AL16/AL3 -> 0.64800631 | AM17: =AM16/AM3 -> 0.16334328 | ... AQ17: =AQ16/AQ3 -> 0.62345617 | AW17: =AW16/AW3 -> 0.84013056 | AX17: =AX16/AX3 -> 0.81220798 | AY17: =AY16/AY3 -> 0.56862618 | AZ17: =AZ16/AZ3 -> 0.55218369 | BA17: =BA16/BA3 -> 0.33640533 | BB17: =BB16/BB3 -> 0.49631301 | BC17: =BC16/BC3 -> 0.70453084 | BD17: =BD16/BD3 -> 0.29253292 | ... BH17: =BH16/BH3 -> 0.65078596
A19: Total Gastos | B19: =B4+B9+B11 -> 0 | C19: =C4+C9+C11 -> 0 | D19: =D4+D9+D11 -> 0 | E19: =E4+E9+E11 -> 0 | F19: =F4+F9+F11 -> 0 | G19: =G4+G9+G11 -> 0 | H19: =H4+H9+H11 -> 0 | I19: =I4+I9+I11 -> 0 | ... N19: =N4+N9+N11 -> 0 | P19: Total Gastos | Q19: =Q4+Q9+Q11 -> 7630 | R19: =R4+R9+R11 -> 7530 | S19: =S4+S9+S11 -> 10520 | T19: =T4+T9+T11 -> 10730 | U19: =U4+U9+U11 -> 8140 | V19: =V4+V9+V11 -> 10140 | W19: =W4+W9+W11 -> 7790 | X19: =X4+X9+X11 -> 11780 | ... AC19: =AC4+AC9+AC11 -> 106500 | AE19: Total Gastos | AF19: =AF4+AF9+AF11 -> 5000 | AG19: =AG4+AG9+AG11 -> 4500 | AH19: =AH4+AH9+AH11 -> 6000 | AI19: =AI4+AI9+AI11 -> 6500 | AJ19: =AJ4+AJ9+AJ11 -> 5000 | AK19: =AK4+AK9+AK11 -> 5500 | AL19: =AL4+AL9+AL11 -> 5000 | AM19: =AM4+AM9+AM11 -> 6000 | ... AR19: =AR4+AR9+AR11 -> 61500 | AV19: Total Gastos | AW19: =AW4+AW9+AW11 -> 5000 | AX19: =AX4+AX9+AX11 -> 4500 | AY19: =AY4+AY9+AY11 -> 6000 | AZ19: =AZ4+AZ9+AZ11 -> 6500 | BA19: =BA4+BA9+BA11 -> 5000 | BB19: =BB4+BB9+BB11 -> 5500 | BC19: =BC4+BC9+BC11 -> 5000 | BD19: =BD4+BD9+BD11 -> 6000 | ... BI19: =BI4+BI9+BI11 -> 61500
A21: Amortizaciones | N21: =SUM(B21:M21) -> 0 | P21: Amortizaciones | AC21: =SUM(Q21:AB21) -> 0 | AE21: Amortizaciones | AR21: =SUM(AF21:AQ21) -> 0 | AV21: Amortizaciones | BI21: =SUM(AW21:BH21) -> 0
A22: Resultado de Explotación | B22: =B16-B21 -> 0 | C22: =C16-C21 -> 0 | D22: =D16-D21 -> 0 | E22: =E16-E21 -> 0 | F22: =F16-F21 -> 0 | G22: =G16-G21 -> 0 | H22: =H16-H21 -> 0 | I22: =I16-I21 -> 0 | ... M22: =M16-M21 -> 0 | N22: =SUM(B22:M22) -> 0 | P22: Resultado de Explotación | Q22: =Q16-Q21 -> 16804 | R22: =R16-R21 -> 8661 | S22: =S16-S21 -> -217 | T22: =T16-T21 -> 102 | U22: =U16-U21 -> -1964 | V22: =V16-V21 -> -2504 | W22: =W16-W21 -> 4562 | X22: =X16-X21 -> -5544 | ... AB22: =AB16-AB21 -> 2332 | AC22: =SUM(Q22:AB22) -> 29372 | AE22: Resultado de Explotación | AF22: =AF16-AF21 -> 23099.1 | AG22: =AG16-AG21 -> 14119.65 | AH22: =AH16-AH21 -> 5848.45 | AI22: =AI16-AI21 -> 5956.8 | AJ22: =AJ16-AJ21 -> 2102.4 | AK22: =AK16-AK21 -> 3281.4 | AL22: =AL16-AL21 -> 9204.8 | AM22: =AM16-AM21 -> 1171.4 | ... AQ22: =AQ16-AQ21 -> 7450.8 | AR22: =SUM(AF22:AQ22) -> 94752.8 | AV22: Resultado de Explotación | AW22: =AW16-AW21 -> 26275.52 | AX22: =AX16-AX21 -> 19462.68 | AY22: =AY16-AY21 -> 7909.05 | AZ22: =AZ16-AZ21 -> 8014.88 | BA22: =BA16-BA21 -> 2534.72 | BB22: =BB16-BB21 -> 5419.48 | BC22: =BC16-BC21 -> 11922.24 | BD22: =BD16-BD21 -> 2480.96 | ... BH22: =BH16-BH21 -> 8386.08 | BI22: =SUM(AW22:BH22) -> 120838.65
A24: Resultado | B24: =B22 -> 0 | C24: =C22 -> 0 | D24: =D22 -> 0 | E24: =E22 -> 0 | F24: =F22 -> 0 | G24: =G22 -> 0 | H24: =H22 -> 0 | I24: =I22 -> 0 | ... M24: =M22 -> 0 | N24: =SUM(B24:M24) -> 0 | P24: Resultado | Q24: =Q22 -> 16804 | R24: =R22 -> 8661 | S24: =S22 -> -217 | T24: =T22 -> 102 | U24: =U22 -> -1964 | V24: =V22 -> -2504 | W24: =W22 -> 4562 | X24: =X22 -> -5544 | ... AB24: =AB22 -> 2332 | AC24: =SUM(Q24:AB24) -> 29372 | AE24: Resultado | AF24: =AF22 -> 23099.1 | AG24: =AG22 -> 14119.65 | AH24: =AH22 -> 5848.45 | AI24: =AI22 -> 5956.8 | AJ24: =AJ22 -> 2102.4 | AK24: =AK22 -> 3281.4 | AL24: =AL22 -> 9204.8 | AM24: =AM22 -> 1171.4 | ... AQ24: =AQ22 -> 7450.8 | AR24: =SUM(AF24:AQ24) -> 94752.8 | AV24: Resultado | AW24: =AW22 -> 26275.52 | AX24: =AX22 -> 19462.68 | AY24: =AY22 -> 7909.05 | AZ24: =AZ22 -> 8014.88 | BA24: =BA22 -> 2534.72 | BB24: =BB22 -> 5419.48 | BC24: =BC22 -> 11922.24 | BD24: =BD22 -> 2480.96 | ... BH24: =BH22 -> 8386.08 | BI24: =SUM(AW24:BH24) -> 120838.65
B25: =B24/B3 -> #DIV/0! | C25: =C24/C3 -> #DIV/0! | D25: =D24/D3 -> #DIV/0! | E25: =E24/E3 -> #DIV/0! | F25: =F24/F3 -> #DIV/0! | G25: =G24/G3 -> #DIV/0! | H25: =H24/H3 -> #DIV/0! | I25: =I24/I3 -> #DIV/0! | ... M25: =M24/M3 -> #DIV/0! | Q25: =Q24/Q3 -> 0.68773021 | R25: =R24/R3 -> 0.53492681 | S25: =S24/S3 -> -0.021061827 | T25: =T24/T3 -> 0.0094165436 | U25: =U24/U3 -> -0.31800518 | V25: =V24/V3 -> -0.32792038 | W25: =W24/W3 -> 0.3693329 | X25: =X24/X3 -> -0.88903143 | ... AC25: =AC24/AC3 -> 0.21617405 | AF25: =AF24/AF3 -> 0.82205836 | AG25: =AG24/AG3 -> 0.75831984 | AH25: =AH24/AH3 -> 0.49360465 | AI25: =AI24/AI3 -> 0.47819665 | AJ25: =AJ24/AJ3 -> 0.29601262 | AK25: =AK24/AK3 -> 0.37367618 | AL25: =AL24/AL3 -> 0.64800631 | AM25: =AM24/AM3 -> 0.16334328 | ... AQ25: =AQ24/AQ3 -> 0.62345617 | AW25: =AW24/AW3 -> 0.84013056 | AX25: =AX24/AX3 -> 0.81220798 | AY25: =AY24/AY3 -> 0.56862618 | AZ25: =AZ24/AZ3 -> 0.55218369 | BA25: =BA24/BA3 -> 0.33640533 | BB25: =BB24/BB3 -> 0.49631301 | BC25: =BC24/BC3 -> 0.70453084 | BD25: =BD24/BD3 -> 0.29253292 | ... BH25: =BH24/BH3 -> 0.65078596

Sheet Deuda Pendiente
A1: Estado | B1: (Varios elementos)
A3: Etiquetas de fila | B3: Suma de Importe restante
A4: Cliente 10 | B4: 6479.92
A5: Cliente 7 | B5: 6057.27
A6: Cliente 8 | B6: 4778.33
A7: Cliente 11 | B7: 4207.54
A8: Cliente 20 | B8: 4118.43
A9: Cliente 4 | B9: 3945.09
A10: Cliente 17 | B10: 2859.04
A11: Cliente 21 | B11: 2743.19
A12: Cliente 3 | B12: 2515.39
A13: Cliente 23 | B13: 2388.24
A14: Cliente 6 | B14: 2338.54
A15: Cliente 24 | B15: 2324.04
... A51: Total general | B51: 75263.98

Sheet Facturas 19
A1: Referencia | B1: Fecha | C1: Cliente | D1: CIF/NIF del cliente | E1: Email del cliente | F1: Teléfono | G1: Estado | H1: Forma pago | I1: Cuenta bancaria | J1: Tipo de vencimiento | K1: Total base | L1: Total impuestos | M1: Total importe | N1: Importe cobrado | O1: Importe restante | P1: Mes
A2: FAC18/00100 | B2: 43131 | C2: Cliente 1 | G2: Cobrada | H2: Transferencia bancaria | J2: Al contado | K2: 290 | L2: 20.3 | M2: 310.3 | N2: 310.3 | O2: =M2-N2 -> 0 | P2: =TEXT(B2,"mmmmmmmmmmmmmm") -> enero
A3: FAC18/00099 | B3: 43131 | C3: Cliente 2 | G3: Parcialmente cobrada | H3: Transferencia bancaria | J3: Al contado | K3: 1170 | L3: 81.9 | M3: 1251.9 | N3: 1201.9 | O3: =M3-N3 -> 50 | P3: =TEXT(B3,"mmmmmmmmmmmmmm") -> enero
A4: FAC18/00098 | B4: 43131 | C4: Cliente 3 | G4: Pendiente | H4: Transferencia bancaria | J4: Al contado | K4: 60 | L4: 4.2 | M4: 64.2 | N4: 0 | O4: =M4-N4 -> 64.2 | P4: =TEXT(B4,"mmmmmmmmmmmmmm") -> enero
A5: FAC18/00097 | B5: 43131 | C5: Cliente 4 | G5: Pendiente | H5: Transferencia bancaria | J5: Al contado | K5: 440 | L5: 30.8 | M5: 470.8 | N5: 0 | O5: =M5-N5 -> 470.8 | P5: =TEXT(B5,"mmmmmmmmmmmmmm") -> enero
A6: FAC18/00096 | B6: 43131 | C6: Cliente 5 | G6: Parcialmente cobrada | H6: Transferencia bancaria | J6: Al contado | K6: 560 | L6: 39.2 | M6: 599.2 | N6: 360 | O6: =M6-N6 -> 239.2 | P6: =TEXT(B6,"mmmmmmmmmmmmmm") -> enero
A7: FAC18/00095 | B7: 43131 | C7: Cliente 6 | G7: Cobrada | H7: Transferencia bancaria | J7: Al contado | K7: 1049 | L7: 73.43 | M7: 1122.43 | N7: 1122.43 | O7: =M7-N7 -> 0 | P7: =TEXT(B7,"mmmmmmmmmmmmmm") -> enero
A8: FAC18/00094 | B8: 43130 | C8: Cliente 7 | G8: Pendiente | H8: Transferencia bancaria | J8: Al contado | K8: 135 | L8: 9.45 | M8: 144.45 | N8: 0 | O8: =M8-N8 -> 144.45 | P8: =TEXT(B8,"mmmmmmmmmmmmmm") -> enero
A9: FAC18/00093 | B9: 43126 | C9: Cliente 8 | G9: Cobrada | H9: Transferencia bancaria | J9: Al contado | K9: 180 | L9: 12.6 | M9: 192.6 | N9: 192.6 | O9: =M9-N9 -> 0 | P9: =TEXT(B9,"mmmmmmmmmmmmmm") -> enero
A10: FAC18/00092 | B10: 43125 | C10: Cliente 9 | G10: Pendiente | H10: Transferencia bancaria | J10: Al contado | K10: 30 | L10: 2.1 | M10: 32.1 | N10: 0 | O10: =M10-N10 -> 32.1 | P10: =TEXT(B10,"mmmmmmmmmmmmmm") -> enero
A11: FAC18/00091 | B11: 43125 | C11: Cliente 10 | G11: Pendiente | H11: Transferencia bancaria | J11: Al contado | K11: 1512 | L11: 105.84 | M11: 1617.84 | N11: 0 | O11: =M11-N11 -> 1617.84 | P11: =TEXT(B11,"mmmmmmmmmmmmmm") -> enero
A12: FAC18/00090 | B12: 43125 | C12: Cliente 11 | G12: Pendiente | H12: Transferencia bancaria | J12: Al contado | K12: 390 | L12: 27.3 | M12: 417.3 | N12: 0 | O12: =M12-N12 -> 417.3 | P12: =TEXT(B12,"mmmmmmmmmmmmmm") -> enero
A13: FAC18/00089 | B13: 43125 | C13: Cliente 12 | G13: Pendiente | H13: Transferencia bancaria | J13: Al contado | K13: 90 | L13: 6.3 | M13: 96.3 | N13: 0 | O13: =M13-N13 -> 96.3 | P13: =TEXT(B13,"mmmmmmmmmmmmmm") -> enero
... A287: FAC18/00088 | B287: 43459 | C287: Cliente 22 | G287: Pendiente | H287: Transferencia bancaria | J287: Al contado | K287: 270 | L287: 18.9 | M287: 288.9 | N287: 0 | O287: =M287-N287 -> 288.9 | P287: =TEXT(B287,"mmmmmmmmmmmmmm") -> diciembre

Sheet Principales Clientes
A1: Etiquetas de fila | B1: Suma de Total base | D1: Principales Clientes | E1: Ventas
A2: Cliente 2 | B2: 7619 | D2: =A2 -> Cliente 2 | E2: =B2 -> 7619
A3: Cliente 3 | B3: 7294 | D3: =A3 -> Cliente 3 | E3: =B3 -> 7294
A4: Cliente 7 | B4: 7000 | D4: =A4 -> Cliente 7 | E4: =B4 -> 7000
A5: Cliente 8 | B5: 6419 | D5: =A5 -> Cliente 8 | E5: =B5 -> 6419
A6: Cliente 12 | B6: 6419 | D6: =A6 -> Cliente 12 | E6: =B6 -> 6419
A7: Cliente 10 | B7: 6346
A8: Cliente 11 | B8: 6262
A9: Cliente 6 | B9: 6029
A10: Cliente 4 | B10: 5965
A11: Cliente 16 | B11: 5565
A12: Cliente 15 | B12: 5449
A13: Cliente 20 | B13: 5188
A14: Cliente 13 | B14: 5044
A15: Cliente 21 | B15: 4157
A16: Cliente 17 | B16: 3901
A17: Cliente 19 | B17: 3721
A18: Cliente 1 | B18: 3455
... A52: Cliente 48 | B52: 30
A53: (en blanco)
A54: Total general | B54: 135872

Sheet Gastos 19
A1: Concepto | B1: Desglose | C1: Proveedor | D1: Fecha | E1: Mes | F1: Importe
A2: Coste Personal | D2: 43101 | E2: =TEXT(D2,"mmmmmmmmmmmmm") -> enero | F2: 5000
A3: Compras | D3: 43102 | E3: =TEXT(D3,"mmmmmmmmmmmmm") -> enero | F3: 500
A4: Compras | D4: 43103 | E4: =TEXT(D4,"mmmmmmmmmmmmm") -> enero | F4: 1000
A5: Suministros | D5: 43104 | E5: =TEXT(D5,"mmmmmmmmmmmmm") -> enero | F5: 80
A6: Suministros | D6: 43105 | E6: =TEXT(D6,"mmmmmmmmmmmmm") -> enero | F6: 60
A7: Mantenimiento | D7: 43106 | E7: =TEXT(D7,"mmmmmmmmmmmmm") -> enero | F7: 40
A8: Serv Externalizados | D8: 43107 | E8: =TEXT(D8,"mmmmmmmmmmmmm") -> enero | F8: 100
A9: Serv Externalizados | D9: 43108 | E9: =TEXT(D9,"mmmmmmmmmmmmm") -> enero | F9: 500
A10: Otros Gastos | D10: 43108 | E10: =TEXT(D10,"mmmmmmmmmmmmm") -> enero | F10: 50
A11: Otros Gastos | D11: 43108 | E11: =TEXT(D11,"mmmmmmmmmmmmm") -> enero | F11: 300
A12: Coste Personal | D12: 43133 | E12: =TEXT(D12,"mmmmmmmmmmmmm") -> febrero | F12: 4500
A13: Compras | D13: 43133 | E13: =TEXT(D13,"mmmmmmmmmmmmm") -> febrero | F13: 300
... A121: Otros Gastos | D121: 43442 | E121: =TEXT(D121,"mmmmmmmmmmmmm") -> diciembre | F121: 500

Sheet Variacion Gastos 2
C1: 2018
A2: GASTOS | B2: ANUAL | C2: ENERO | D2: FEBRERO | E2: MARZO | F2: ABRIL | G2: MAYO | H2: JUNIO | I2: JULIO | J2: AGOSTO | K2: SEPTIEMBRE | L2: OCTUBRE | M2: NOVIEMBRE | N2: DICIEMBRE
A3: Alquiler local | C3: 664 | D3: 664 | E3: 664 | F3: 664 | G3: 664 | H3: 664 | I3: 664 | J3: 664 | K3: 664 | L3: 664 | M3: 664 | N3: 664
A4: Publicidad | C4: 121 | D4: 121 | E4: 121 | F4: 121 | G4: 180 | H4: 121 | I4: 121 | J4: 121 | K4: 121 | L4: 121 | M4: 121 | N4: 121
A5: Renting Coche | C5: 0 | D5: 0 | E5: 0 | F5: 0 | G5: 0 | H5: 0 | I5: 0 | J5: 0 | K5: 0 | L5: 0 | M5: 0 | N5: 0
A6: Canon franquicia | C6: 363 | D6: 363 | E6: 363 | F6: 363 | G6: 363 | H6: 363 | I6: 363 | J6: 363 | K6: 363 | L6: 363 | M6: 363 | N6: 363
A7: Nóminas | C7: 2879 | D7: 3025 | E7: 3800 | F7: 3800 | G7: 3875 | H7: 3875 | I7: 3875 | J7: 4000 | K7: 4050 | L7: 4086 | M7: 4300 | N7: 4100
A8: Seguridad Social | C8: 892 | D8: 893 | E8: 893 | F8: 1228 | G8: 1306 | H8: 1309 | I8: 1308 | J8: 1500 | K8: 1393 | L8: 1472 | M8: 1335 | N8: 1580
A9: Autónomo | C9: 358 | D9: 358 | E9: 358 | F9: 358 | G9: 358 | H9: 358 | I9: 358 | J9: 358 | K9: 358 | L9: 358 | M9: 358 | N9: 358
A10: Electricidad | C10: 112 | D10: 77 | E10: 92 | F10: 70 | G10: 103 | H10: 76 | I10: 79 | J10: 90 | K10: 138 | L10: 86 | M10: 78 | N10: 109
A11: Teléfono+ internet | C11: 44 | D11: 44 | E11: 44 | F11: 44 | G11: 44 | H11: 44 | I11: 44 | J11: 44 | K11: 44 | L11: 44 | M11: 44 | N11: 44
A12: Agua | C12: 87 | D12: 0 | E12: 0 | F12: 89 | G12: 0 | H12: 0 | I12: 97 | J12: 0 | K12: 0 | L12: 93 | M12: 0 | N12: 0
A13: Limpieza | C13: 35 | D13: 35 | E13: 35 | F13: 35 | G13: 35 | H13: 35 | I13: 35 | J13: 35 | K13: 35 | L13: 35 | M13: 35 | N13: 35
A14: Productos | C14: 682 | D14: 0 | E14: 575 | F14: 940 | G14: 630 | H14: 516 | I14: 342 | J14: 0 | K14: 610 | L14: 410 | M14: 578 | N14: 747
A15: Gestoría | C15: 145 | D15: 145 | E15: 145 | F15: 145 | G15: 145 | H15: 145 | I15: 145 | J15: 145 | K15: 145 | L15: 145 | M15: 145 | N15: 145
A16: Seguro Local | B16: 320 | C16: =$P$16/12 -> 0 | D16: =$P$16/12 -> 0 | E16: =$P$16/12 -> 0 | F16: =$P$16/12 -> 0 | G16: =$P$16/12 -> 0 | H16: =$P$16/12 -> 0 | I16: =$P$16/12 -> 0 | J16: =$P$16/12 -> 0 | ... N16: =$P$16/12 -> 0
A17: Trimestre IVA | C17: 3500 | E17: 0 | F17: 3770 | H17: 0 | I17: 4100 | K17: 0 | L17: 3600 | N17: 0
A18: Varios | I18: 1159 | N18: 172
A20: TOTAL | C20: =SUM(C3:C19) -> 9882 | D20: =SUM(D3:D19) -> 5725 | E20: =SUM(E3:E19) -> 7090 | F20: =SUM(F3:F19) -> 11627 | G20: =SUM(G3:G19) -> 7703 | H20: =SUM(H3:H19) -> 7506 | I20: =SUM(I3:I19) -> 12690 | J20: =SUM(J3:J19) -> 7320 | ... N20: =SUM(N3:N19) -> 8438

Sheet Variacion Gastos 3
A2: MOVIMIENTOS DESDE : 01/02/2019 HASTA: 07/03/2019
A4: Número de cuenta | B4: Oficina | C4: Divisa | D4: F. Operación | E4: F. Valor | F4: Ingreso (+) | G4: Gasto (-) | H4: Saldo (+) | I4: Saldo (-) | J4: Concepto común | K4: Concepto propio | L4: Referencia 1 | M4: Referencia 2 | N4: Concepto complementario 1 | O4: Concepto complementario 2 | P4: Finanzas | Q4: Tipo | R4: Mes
C5: EUR | D5: 07/03/2019 | E5: 07/03/2019 | G5: 80 | H5: 5696.8 | J5: 99 | K5: 067 | L5: 000000000000 | P5: Profesional | R5: =TEXT(D5,"mmmmmmmmmmm") -> marzo
C6: EUR | D6: 07/03/2019 | E6: 07/03/2019 | G6: 500 | H6: 5776.8 | J6: 99 | K6: 067 | L6: 000000000000 | P6: Personal | R6: =TEXT(D6,"mmmmmmmmmmm") -> marzo
C7: EUR | D7: 07/03/2019 | E7: 07/03/2019 | G7: 203 | H7: 6276.8 | J7: 04 | K7: 067 | L7: 000000000000 | P7: Personal | R7: =TEXT(D7,"mmmmmmmmmmm") -> marzo
C8: EUR | D8: 07/03/2019 | E8: 07/03/2019 | G8: 16.94 | H8: 6479.8 | J8: 03 | K8: 006 | L8: 000000000000 | M8: 904997 | P8: Profesional | R8: =TEXT(D8,"mmmmmmmmmmm") -> marzo
C9: EUR | D9: 06/03/2019 | E9: 06/03/2019 | G9: 10 | H9: 6496.74 | J9: 12 | K9: 040 | L9: 000000000000 | M9: 4160810235525011 | R9: =TEXT(D9,"mmmmmmmmmmm") -> marzo
C10: EUR | D10: 06/03/2019 | E10: 06/03/2019 | G10: 5.5 | H10: 6506.74 | J10: 12 | K10: 040 | L10: 000000000000 | M10: 4160810235525011 | R10: =TEXT(D10,"mmmmmmmmmmm") -> marzo
C11: EUR | D11: 06/03/2019 | E11: 06/03/2019 | G11: 162.35 | H11: 6512.24 | J11: 03 | K11: 035 | L11: 000000000000 | M11: 201702470105 | R11: =TEXT(D11,"mmmmmmmmmmm") -> marzo
C12: EUR | D12: 05/03/2019 | E12: 05/03/2019 | G12: 6.7 | H12: 6674.59 | J12: 12 | K12: 040 | L12: 000000000000 | M12: 4160810235525011 | R12: =TEXT(D12,"mmmmmmmmmmm") -> marzo
C13: EUR | D13: 05/03/2019 | E13: 05/03/2019 | G13: 5.65 | H13: 6681.29 | J13: 12 | K13: 040 | L13: 000000000000 | M13: 4160810235525011 | R13: =TEXT(D13,"mmmmmmmmmmm") -> marzo
C14: EUR | D14: 04/03/2019 | E14: 04/03/2019 | F14: 1000 | H14: 6686.94 | J14: 02 | K14: 067 | L14: 000000000000 | R14: =TEXT(D14,"mmmmmmmmmmm") -> marzo
C15: EUR | D15: 04/03/2019 | E15: 04/03/2019 | G15: 240 | H15: 5686.94 | J15: 99 | K15: 067 | L15: 000000000000 | R15: =TEXT(D15,"mmmmmmmmmmm") -> marzo
C16: EUR | D16: 03/03/2019 | E16: 03/03/2019 | G16: 450 | H16: 5926.94 | J16: 99 | K16: 067 | L16: 000000000000 | R16: =TEXT(D16,"mmmmmmmmmmm") -> marzo
C17: EUR | D17: 02/03/2019 | E17: 02/03/2019 | G17: 13.85 | H17: 6376.94 | J17: 12 | K17: 040 | L17: 000000000000 | M17: 4160810235525011 | R17: =TEXT(D17,"mmmmmmmmmmm") -> marzo
C18: EUR | D18: 01/03/2019 | E18: 01/03/2019 | G18: 53.25 | H18: 6390.79 | J18: 12 | K18: 040 | L18: 000000000000 | M18: 4160810235525011 | R18: =TEXT(D18,"mmmmmmmmmmm") -> marzo
C19: EUR | D19: 28/02/2019 | E19: 28/02/2019 | G19: 205.88 | H19: 6444.04 | J19: 12 | K19: 040 | L19: 000000000000 | M19: 4160810235525011 | R19: =TEXT(D19,"mmmmmmmmmmm") -> febrero
C20: EUR | D20: 28/02/2019 | E20: 28/02/2019 | G20: 283.32 | H20: 6649.92 | J20: 03 | K20: 019 | L20: 000000000000 | M20: 351056640321 | R20: =TEXT(D20,"mmmmmmmmmmm") -> febrero
C21: EUR | D21: 26/02/2019 | E21: 26/02/2019 | G21: 21.6 | H21: 6933.24 | J21: 12 | K21: 040 | L21: 000000000000 | M21: 4160810235525011 | R21: =TEXT(D21,"mmmmmmmmmmm") -> febrero
C22: EUR | D22: 26/02/2019 | E22: 26/02/2019 | G22: 28.94 | H22: 6954.84 | J22: 12 | K22: 040 | L22: 000000000000 | M22: 4160810235525011 | R22: =TEXT(D22,"mmmmmmmmmmm") -> febrero
C23: EUR | D23: 26/02/2019 | E23: 26/02/2019 | F23: 1450 | H23: 6983.78 | J23: 02 | K23: 032 | L23: 000000000000 | M23: Origen: BNPAFRPP | R23: =TEXT(D23,"mmmmmmmmmmm") -> febrero
C24: EUR | D24: 26/02/2019 | E24: 26/02/2019 | G24: 58.58 | H24: 5533.78 | J24: 03 | K24: 038 | L24: 000000000000 | M24: 00082 | R24: =TEXT(D24,"mmmmmmmmmmm") -> febrero
C25: EUR | D25: 25/02/2019 | E25: 25/02/2019 | G25: 11.93 | H25: 5592.36 | J25: 12 | K25: 040 | L25: 000000000000 | M25: 4160810235525011 | R25: =TEXT(D25,"mmmmmmmmmmm") -> febrero
C26: EUR | D26: 24/02/2019 | E26: 24/02/2019 | G26: 10 | H26: 5604.29 | J26: 12 | K26: 040 | L26: 000000000000 | M26: 4160810235525011 | R26: =TEXT(D26,"mmmmmmmmmmm") -> febrero
C27: EUR | D27: 24/02/2019 | E27: 24/02/2019 | G27: 5.66 | H27: 5614.29 | J27: 12 | K27: 040 | L27: 000000000000 | M27: 4160810235525011 | R27: =TEXT(D27,"mmmmmmmmmmm") -> febrero
C28: EUR | D28: 23/02/2019 | E28: 23/02/2019 | G28: 13 | H28: 5619.95 | J28: 12 | K28: 040 | L28: 000000000000 | M28: 4160810235525011 | R28: =TEXT(D28,"mmmmmmmmmmm") -> febrero
C29: EUR | D29: 23/02/2019 | E29: 25/02/2019 | F29: 129 | H29: 5632.95 | J29: 02 | K29: 002 | L29: 000000000000 | M29: ORIGEN: 30080221 | R29: =TEXT(D29,"mmmmmmmmmmm") -> febrero
C30: EUR | D30: 22/02/2019 | E30: 22/02/2019 | F30: 76.78 | H30: 5503.95 | J30: 02 | K30: 032 | L30: 000000000000 | M30: Origen: CITIIE2X | R30: =TEXT(D30,"mmmmmmmmmmm") -> febrero
C31: EUR | D31: 21/02/2019 | E31: 21/02/2019 | F31: 1.14 | H31: 5427.17 | J31: 02 | K31: 040 | L31: 000000000000 | M31: 4160810235525011 | R31: =TEXT(D31,"mmmmmmmmmmm") -> febrero
C32: EUR | D32: 21/02/2019 | E32: 21/02/2019 | F32: 756 | H32: 5426.03 | J32: 02 | K32: 002 | L32: 000000000000 | M32: ORIGEN: 00308163 | R32: =TEXT(D32,"mmmmmmmmmmm") -> febrero
C33: EUR | D33: 20/02/2019 | E33: 20/02/2019 | G33: 78.9 | H33: 4670.03 | J33: 12 | K33: 040 | L33: 000000000000 | M33: 4160810235525011 | R33: =TEXT(D33,"mmmmmmmmmmm") -> febrero
C34: EUR | D34: 19/02/2019 | E34: 19/02/2019 | G34: 34.48 | H34: 4748.93 | J34: 12 | K34: 040 | L34: 000000000000 | M34: 4160810235525011 | R34: =TEXT(D34,"mmmmmmmmmmm") -> febrero
C35: EUR | D35: 18/02/2019 | E35: 18/02/2019 | G35: 145 | H35: 4783.41 | J35: 99 | K35: 067 | L35: 000000000000 | R35: =TEXT(D35,"mmmmmmmmmmm") -> febrero
C36: EUR | D36: 16/02/2019 | E36: 16/02/2019 | G36: 17.65 | H36: 4928.41 | J36: 12 | K36: 040 | L36: 000000000000 | M36: 4160810235525011 | R36: =TEXT(D36,"mmmmmmmmmmm") -> febrero
C37: EUR | D37: 16/02/2019 | E37: 16/02/2019 | G37: 140.39 | H37: 4946.06 | J37: 99 | K37: 067 | L37: 000000000000 | R37: =TEXT(D37,"mmmmmmmmmmm") -> febrero
C38: EUR | D38: 11/02/2019 | E38: 11/02/2019 | H38: 5086.45 | J38: 04 | K38: 067 | L38: 000000000000 | R38: =TEXT(D38,"mmmmmmmmmmm") -> febrero
C39: EUR | D39: 11/02/2019 | E39: 11/02/2019 | G39: 11.93 | H39: 5301.45 | J39: 12 | K39: 040 | L39: 000000000000 | M39: 4160810235525011 | R39: =TEXT(D39,"mmmmmmmmmmm") -> febrero
C40: EUR | D40: 11/02/2019 | E40: 11/02/2019 | F40: 80 | H40: 5313.38 | J40: 02 | K40: 002 | L40: 000000000000 | M40: ORIGEN: 14650100 | R40: =TEXT(D40,"mmmmmmmmmmm") -> febrero
C41: EUR | D41: 10/02/2019 | E41: 10/02/2019 | G41: 9.99 | H41: 5233.38 | J41: 12 | K41: 040 | L41: 000000000000 | M41: 4160810235525011 | R41: =TEXT(D41,"mmmmmmmmmmm") -> febrero
C42: EUR | D42: 10/02/2019 | E42: 10/02/2019 | H42: 5243.37 | J42: 99 | K42: 067 | L42: 000000000000 | R42: =TEXT(D42,"mmmmmmmmmmm") -> febrero
...

Sheet Budget
P1: Ene | Q1: Feb | R1: Mar | S1: Abr | T1: May | U1: Jun | V1: Jul | W1: Ago | X1: Sep | Y1: Oct | Z1: Nov | AA1: Dic | AB1: YTD | AC1: Total 2019
O2: Total | P2: =SUM(P5:P110) -> 1625 | Q2: =SUM(Q5:Q110) -> 4750 | R2: =SUM(R5:R110) -> 4920 | S2: =SUM(S5:S110) -> 6072 | T2: =SUM(T5:T110) -> 6332 | U2: =SUM(U5:U110) -> 6022 | V2: =SUM(V5:V110) -> 6212 | W2: =SUM(W5:W110) -> 2087 | ... AC2: =SUM(AC5:AC110) -> 87493
P3: =[1]Forecast!R2 -> 1 | Q3: =[1]Forecast!S2 -> 1 | R3: =[1]Forecast!T2 -> 1 | S3: =[1]Forecast!U2 -> 1 | T3: =[1]Forecast!V2 -> 1 | U3: =[1]Forecast!W2 -> 0 | V3: =[1]Forecast!X2 -> 0 | W3: =[1]Forecast!Y2 -> 0 | ... AA3: =[1]Forecast!AC2 -> 0
A4: Producto | B4: P.U. | C4: Ene | D4: Feb | E4: Mar | F4: Abr | G4: May | H4: Jun | I4: Jul | J4: Ago | K4: Sep | L4: Oct | M4: Nov | N4: Dic | O4: Total | P4: Ene | Q4: Feb | R4: Mar | S4: Abr | T4: May | U4: Jun | V4: Jul | W4: Ago | X4: Sep | Y4: Oct | Z4: Nov | AA4: Dic | AB4: YTD | AC4: Total 2019
A5: Suscriptores Cursos | B5: 9 | C5: 5 | D5: 5 | E5: 10 | F5: 8 | G5: 20 | H5: 20 | O5: =SUM(C5:N5) -> 68 | P5: =C5*B5 -> 45 | Q5: =(D5*$B$5)+P5 -> 90 | R5: =(E5*$B$5)+Q5 -> 180 | S5: =(F5*$B$5)+R5 -> 252 | T5: =(G5*$B$5)+S5 -> 432 | U5: =(H5*$B$5)+T5 -> 612 | V5: =(I5*$B$5)+U5 -> 612 | W5: =(J5*$B$5)+V5 -> 612 | X5: =(K5*$B$5)+W5 -> 612 | ... AA5: =(N5*$B$5)+Z5 -> 612 | AB5: =SUMPRODUCT($P$3:$AA$3,P5:AA5) -> 999 | AC5: =SUM(P5:AA5) -> 5283
A6: Suscriptores Cursos Promo | B6: 5 | O6: =SUM(C6:N6) -> 0 | P6: =C6*B6 -> 0 | Q6: =(D6*$B$6)+P6 -> 0 | R6: =(E6*$B$6)+Q6 -> 0 | S6: =(F6*$B$6)+R6 -> 0 | T6: =(G6*$B$6)+S6 -> 0 | U6: =(H6*$B$6)+T6 -> 0 | V6: =(I6*$B$6)+U6 -> 0 | W6: =(J6*$B$6)+V6 -> 0 | X6: =(K6*$B$6)+W6 -> 0 | ... AA6: =(N6*$B$6)+Z6 -> 0 | AB6: =SUMPRODUCT($P$3:$AA$3,P6:AA6) -> 0 | AC6: =SUM(P6:AA6) -> 0
A7: Suscriptores Cursos Anual | B7: 80 | C7: 1 | D7: 2 | E7: 3 | F7: 4 | G7: 5 | H7: 2 | O7: =SUM(C7:N7) -> 17 | P7: =C7*$B$7 -> 80 | Q7: =D7*$B$7 -> 160 | R7: =E7*$B$7 -> 240 | S7: =F7*$B$7 -> 320 | T7: =G7*$B$7 -> 400 | U7: =H7*$B$7 -> 160 | V7: =I7*$B$7 -> 0 | W7: =J7*$B$7 -> 0 | ... AA7: =N7*$B$7 -> 0 | AB7: =SUMPRODUCT($P$3:$AA$3,P7:AA7) -> 1200 | AC7: =SUM(P7:AA7) -> 1360
A8: Suscriptores Cursos Anual Promo | B8: 50 | O8: =SUM(C8:N8) -> 0 | P8: =C8*$B$7 -> 0 | Q8: =D8*$B$7 -> 0 | R8: =E8*$B$7 -> 0 | S8: =F8*$B$7 -> 0 | T8: =G8*$B$7 -> 0 | U8: =H8*$B$7 -> 0 | V8: =I8*$B$7 -> 0 | W8: =J8*$B$7 -> 0 | ... AA8: =N8*$B$7 -> 0 | AB8: =SUMPRODUCT($P$3:$AA$3,P8:AA8) -> 0 | AC8: =SUM(P8:AA8) -> 0
AB9: =SUMPRODUCT($P$3:$AA$3,P9:AA9) -> 0
A10: Plataforma plantillas | K10: 200 | L10: 200 | M10: 200 | N10: 500 | O10: =SUM(C10:N10) -> 1100 | P10: =C10 -> 0 | Q10: =D10 -> 0 | R10: =E10 -> 0 | S10: =F10 -> 0 | T10: =G10 -> 0 | U10: =H10 -> 0 | V10: =I10 -> 0 | W10: =J10 -> 0 | ... AA10: =N10 -> 500 | AB10: =SUMPRODUCT($P$3:$AA$3,P10:AA10) -> 0 | AC10: =SUM(P10:AA10) -> 1100
A11: Suscriptores Cursos | B11: 25 | I11: 5 | J11: 5 | K11: 15 | L11: 15 | M11: 20 | N11: 25 | O11: =SUM(C11:N11) -> 85 | P11: =C11*B11 -> 0 | Q11: =(D11*$B$11)+P11 -> 0 | R11: =(E11*$B$11)+Q11 -> 0 | S11: =(F11*$B$11)+R11 -> 0 | T11: =(G11*$B$11)+S11 -> 0 | U11: =(H11*$B$11)+T11 -> 0 | V11: =(I11*$B$11)+U11 -> 125 | W11: =(J11*$B$11)+V11 -> 250 | X11: =(K11*$B$11)+W11 -> 625 | ... AA11: =(N11*$B$11)+Z11 -> 2125 | AB11: =SUMPRODUCT($P$3:$AA$3,P11:AA11) -> 0 | AC11: =SUM(P11:AA11) -> 5625
A12: Suscriptores Cursos Anual | B12: 225 | I12: 1 | J12: 1 | K12: 4 | L12: 4 | M12: 5 | N12: 10 | O12: =SUM(C12:N12) -> 25 | P12: =(C12*$B$12) -> 0 | Q12: =(D12*$B$12) -> 0 | R12: =(E12*$B$12) -> 0 | S12: =(F12*$B$12) -> 0 | T12: =(G12*$B$12) -> 0 | U12: =(H12*$B$12) -> 0 | V12: =(I12*$B$12) -> 225 | W12: =(J12*$B$12) -> 225 | ... AA12: =(N12*$B$12) -> 2250 | AB12: =SUMPRODUCT($P$3:$AA$3,P12:AA12) -> 0 | AC12: =SUM(P12:AA12) -> 5625
O13: =SUM(C13:N13) -> 0 | P13: =C13*B13 -> 0 | Q13: =D13*B13 -> 0 | R13: =E13*B13 -> 0 | S13: =F13*B13 -> 0 | T13: =G13*B13 -> 0 | U13: =H13*B13 -> 0 | V13: =I13*B13 -> 0 | W13: =J13*B13 -> 0 | X13: =K13*B13 -> 0 | Y13: =L13*B13 -> 0 | Z13: =M13*B13 -> 0 | AA13: =N13*B13 -> 0 | AB13: =SUMPRODUCT($P$3:$AA$3,P13:AA13) -> 0 | AC13: =SUM(P13:AA13) -> 0
O14: =SUM(C14:N14) -> 0 | P14: =C14*B14 -> 0 | Q14: =D14*B14 -> 0 | R14: =E14*B14 -> 0 | S14: =F14*B14 -> 0 | T14: =G14*B14 -> 0 | U14: =H14*B14 -> 0 | V14: =I14*B14 -> 0 | W14: =J14*B14 -> 0 | X14: =K14*B14 -> 0 | Y14: =L14*B14 -> 0 | Z14: =M14*B14 -> 0 | AA14: =N14*B14 -> 0 | AB14: =SUMPRODUCT($P$3:$AA$3,P14:AA14) -> 0 | AC14: =SUM(P14:AA14) -> 0
O15: =SUM(C15:N15) -> 0 | P15: =C15*B15 -> 0 | Q15: =D15*B15 -> 0 | R15: =E15*B15 -> 0 | S15: =F15*B15 -> 0 | T15: =G15*B15 -> 0 | U15: =H15*B15 -> 0 | V15: =I15*B15 -> 0 | W15: =J15*B15 -> 0 | X15: =K15*B15 -> 0 | Y15: =L15*B15 -> 0 | Z15: =M15*B15 -> 0 | AA15: =N15*B15 -> 0 | AB15: =SUMPRODUCT($P$3:$AA$3,P15:AA15) -> 0 | AC15: =SUM(P15:AA15) -> 0
A17: Cliente
A18: Cursos Boluda.com | C18: 1000 | D18: 1000 | E18: 1000 | F18: 1000 | G18: 1000 | H18: 1000 | I18: 1000 | J18: 1000 | K18: 1000 | L18: 1000 | M18: 1000 | N18: 1000 | P18: =C18 -> 1000 | Q18: =D18 -> 1000 | R18: =E18 -> 1000 | S18: =F18 -> 1000 | T18: =G18 -> 1000 | U18: =H18 -> 1000 | V18: =I18 -> 1000 | W18: =J18 -> 1000 | ... AA18: =N18 -> 1000 | AB18: =SUMPRODUCT($P$3:$AA$3,P18:AA18) -> 5000 | AC18: =SUM(P18:AA18) -> 12000
A19: Formacion Presencial Empresa | D19: 1500 | E19: 1500 | F19: 1500 | G19: 1500 | H19: 1500 | I19: 1500 | K19: 1500 | L19: 1500 | M19: 2000 | N19: 2000 | P19: =C19 -> 0 | Q19: =D19 -> 1500 | R19: =E19 -> 1500 | S19: =F19 -> 1500 | T19: =G19 -> 1500 | U19: =H19 -> 1500 | V19: =I19 -> 1500 | W19: =J19 -> 0 | ... AA19: =N19 -> 2000 | AB19: =SUMPRODUCT($P$3:$AA$3,P19:AA19) -> 6000 | AC19: =SUM(P19:AA19) -> 16000
A20: Formacion online a Empresas | D20: 1500 | E20: 1500 | F20: 1500 | G20: 1500 | H20: 1500 | I20: 1500 | K20: 2000 | L20: 3000 | M20: 3000 | N20: 3000 | P20: =C20 -> 0 | Q20: =D20 -> 1500 | R20: =E20 -> 1500 | S20: =F20 -> 1500 | T20: =G20 -> 1500 | U20: =H20 -> 1500 | V20: =I20 -> 1500 | W20: =J20 -> 0 | ... AA20: =N20 -> 3000 | AB20: =SUMPRODUCT($P$3:$AA$3,P20:AA20) -> 6000 | AC20: =SUM(P20:AA20) -> 20000
A21: Formacion Edukate | F21: 500 | K21: 500 | L21: 500 | M21: 1000 | N21: 1000 | P21: =C21 -> 0 | Q21: =D21 -> 0 | R21: =E21 -> 0 | S21: =F21 -> 500 | T21: =G21 -> 0 | U21: =H21 -> 0 | V21: =I21 -> 0 | W21: =J21 -> 0 | ... AA21: =N21 -> 1000 | AB21: =SUMPRODUCT($P$3:$AA$3,P21:AA21) -> 500 | AC21: =SUM(P21:AA21) -> 3500
A22: Consultoria Informes | C22: 500 | D22: 500 | E22: 500 | F22: 1000 | G22: 1000 | H22: 500 | I22: 500 | K22: 1000 | L22: 1000 | M22: 1000 | N22: 1000 | P22: =C22 -> 500 | Q22: =D22 -> 500 | R22: =E22 -> 500 | S22: =F22 -> 1000 | T22: =G22 -> 1000 | U22: =H22 -> 500 | V22: =I22 -> 500 | W22: =J22 -> 0 | ... AA22: =N22 -> 1000 | AB22: =SUMPRODUCT($P$3:$AA$3,P22:AA22) -> 3500 | AC22: =SUM(P22:AA22) -> 8500
A23: Grupos Online (excel, control, dir fin) | G23: 500 | H23: 500 | I23: 500 | K23: 1000 | L23: 1000 | M23: 1000 | N23: 1000 | P23: =C23 -> 0 | Q23: =D23 -> 0 | R23: =E23 -> 0 | S23: =F23 -> 0 | T23: =G23 -> 500 | U23: =H23 -> 500 | V23: =I23 -> 500 | W23: =J23 -> 0 | ... AA23: =N23 -> 1000 | AB23: =SUMPRODUCT($P$3:$AA$3,P23:AA23) -> 500 | AC23: =SUM(P23:AA23) -> 5500
A24: Ingresos Lanzamientos | H24: 250 | I24: 250 | K24: 250 | L24: 250 | M24: 500 | N24: 500 | P24: =C24 -> 0 | Q24: =D24 -> 0 | R24: =E24 -> 0 | S24: =F24 -> 0 | T24: =G24 -> 0 | U24: =H24 -> 250 | V24: =I24 -> 250 | W24: =J24 -> 0 | ... AA24: =N24 -> 500 | AB24: =SUMPRODUCT($P$3:$AA$3,P24:AA24) -> 0 | AC24: =SUM(P24:AA24) -> 2000
A25: ERP Excel | M25: 500 | N25: 500 | P25: =C25 -> 0 | Q25: =D25 -> 0 | R25: =E25 -> 0 | S25: =F25 -> 0 | T25: =G25 -> 0 | U25: =H25 -> 0 | V25: =I25 -> 0 | W25: =J25 -> 0 | ... AA25: =N25 -> 500 | AB25: =SUMPRODUCT(P3:AA3,P25:AA25) -> 0 | AC25: =SUM(P25:AA25) -> 1000
P26: =C26 -> 0 | Q26: =D26 -> 0 | R26: =E26 -> 0 | S26: =F26 -> 0 | T26: =G26 -> 0 | U26: =H26 -> 0 | V26: =I26 -> 0 | W26: =J26 -> 0 | ... AA26: =N26 -> 0 | AB26: =SUMPRODUCT(P24:AA24,P26:AA26) -> 0 | AC26: =SUM(P26:AA26) -> 0
P27: =C27 -> 0 | Q27: =D27 -> 0 | R27: =E27 -> 0 | S27: =F27 -> 0 | T27: =G27 -> 0 | U27: =H27 -> 0 | V27: =I27 -> 0 | W27: =J27 -> 0 | ... AA27: =N27 -> 0 | AB27: =SUMPRODUCT(P25:AA25,P27:AA27) -> 0 | AC27: =SUM(P27:AA27) -> 0
P28: =C28 -> 0 | Q28: =D28 -> 0 | R28: =E28 -> 0 | S28: =F28 -> 0 | T28: =G28 -> 0 | U28: =H28 -> 0 | V28: =I28 -> 0 | W28: =J28 -> 0 | ... AA28: =N28 -> 0 | AB28: =SUMPRODUCT(P19:AA19,P28:AA28) -> 0 | AC28: =SUM(P28:AA28) -> 0
P29: =C29 -> 0 | Q29: =D29 -> 0 | R29: =E29 -> 0 | S29: =F29 -> 0 | T29: =G29 -> 0 | U29: =H29 -> 0 | V29: =I29 -> 0 | W29: =J29 -> 0 | ... AA29: =N29 -> 0 | AB29: =SUMPRODUCT(P20:AA20,P29:AA29) -> 0 | AC29: =SUM(P29:AA29) -> 0
P30: =C30 -> 0 | Q30: =D30 -> 0 | R30: =E30 -> 0 | S30: =F30 -> 0 | T30: =G30 -> 0 | U30: =H30 -> 0 | V30: =I30 -> 0 | W30: =J30 -> 0 | ... AA30: =N30 -> 0 | AB30: =SUMPRODUCT(P28:AA28,P30:AA30) -> 0 | AC30: =SUM(P30:AA30) -> 0
P31: =C31 -> 0 | Q31: =D31 -> 0 | R31: =E31 -> 0 | S31: =F31 -> 0 | T31: =G31 -> 0 | U31: =H31 -> 0 | V31: =I31 -> 0 | W31: =J31 -> 0 | ... AA31: =N31 -> 0 | AB31: =SUMPRODUCT(P29:AA29,P31:AA31) -> 0 | AC31: =SUM(P31:AA31) -> 0
P32: =C32 -> 0 | Q32: =D32 -> 0 | R32: =E32 -> 0 | S32: =F32 -> 0 | T32: =G32 -> 0 | U32: =H32 -> 0 | V32: =I32 -> 0 | W32: =J32 -> 0 | ... AA32: =N32 -> 0 | AB32: =SUMPRODUCT(P30:AA30,P32:AA32) -> 0 | AC32: =SUM(P32:AA32) -> 0
P33: =C33 -> 0 | Q33: =D33 -> 0 | R33: =E33 -> 0 | S33: =F33 -> 0 | T33: =G33 -> 0 | U33: =H33 -> 0 | V33: =I33 -> 0 | W33: =J33 -> 0 | ... AA33: =N33 -> 0 | AB33: =SUMPRODUCT(P31:AA31,P33:AA33) -> 0 | AC33: =SUM(P33:AA33) -> 0
P34: =C34 -> 0 | Q34: =D34 -> 0 | R34: =E34 -> 0 | S34: =F34 -> 0 | T34: =G34 -> 0 | U34: =H34 -> 0 | V34: =I34 -> 0 | W34: =J34 -> 0 | ... AA34: =N34 -> 0 | AB34: =SUMPRODUCT(P32:AA32,P34:AA34) -> 0 | AC34: =SUM(P34:AA34) -> 0
P35: =C35 -> 0 | Q35: =D35 -> 0 | R35: =E35 -> 0 | S35: =F35 -> 0 | T35: =G35 -> 0 | U35: =H35 -> 0 | V35: =I35 -> 0 | W35: =J35 -> 0 | ... AA35: =N35 -> 0 | AB35: =SUMPRODUCT(P33:AA33,P35:AA35) -> 0 | AC35: =SUM(P35:AA35) -> 0
