Workbook

Sheet Cuenta Resultados
P1: Cuenta resultados operativa
A3: 2017 | B3: Ene | C3: Feb | D3: Mar | E3: Abr | F3: May | G3: Jun | H3: Jul | I3: Ago | J3: Sep | K3: Oct | L3: Nov | M3: Dic | N3: Total | P3: 2018 | Q3: Ene | R3: Feb | S3: Mar | T3: Abr | U3: May | V3: Jun | W3: Jul | X3: Ago | Y3: Sep | Z3: Oct | AA3: Nov | AB3: Dic | AC3: Total | AE3: 2018 | AF3: Ene | AG3: Feb | AH3: Mar | AI3: Abr | AJ3: May | AK3: Jun | AL3: Jul | AM3: Ago | AN3: Sep | AO3: Oct | AP3: Nov | AQ3: Dic | AR3: Total | AT3: Comparativa 17 | AU3: Comparativa Presupuesto | AW3: 2019 | AX3: Ene | AY3: Feb | AZ3: Mar | BA3: Abr | BB3: May | BC3: Jun | BD3: Jul | BE3: Ago | BF3: Sep | BG3: Oct | BH3: Nov | BI3: Dic | BJ3: Total
A4: Ingresos | B4: =SUM(B5:B7) -> 6700 | C4: =SUM(C5:C7) -> 6200 | D4: =SUM(D5:D7) -> 6126 | E4: =SUM(E5:E7) -> 6200 | F4: =SUM(F5:F7) -> 8700 | G4: =SUM(G5:G7) -> 7650 | H4: =SUM(H5:H7) -> 5400 | I4: =SUM(I5:I7) -> 6500 | ... M4: =SUM(M5:M7) -> 5400 | N4: =SUM(B4:M4) -> 81426 | P4: Ingresos | Q4: =SUM(Q5:Q7) -> 34572 | R4: =SUM(R5:R7) -> 37905 | S4: =SUM(S5:S7) -> 41935 | T4: =SUM(T5:T7) -> 34679 | U4: =SUM(U5:U7) -> 40732 | V4: =SUM(V5:V7) -> 37470 | W4: =SUM(W5:W7) -> 44016 | X4: =SUM(X5:X7) -> 44997 | ... AB4: =SUM(AB5:AB7) -> 38942 | AC4: =SUM(Q4:AB4) -> 481103 | AE4: Ingresos | AF4: =SUM(AF5:AF7) -> 37751.88 | AG4: =SUM(AG5:AG7) -> 41695.5 | AH4: =SUM(AH5:AH7) -> 46128.5 | AI4: =SUM(AI5:AI7) -> 38146.9 | AJ4: =SUM(AJ5:AJ7) -> 44805.2 | AK4: =SUM(AK5:AK7) -> 41217 | AL4: =SUM(AL5:AL7) -> 48417.6 | AM4: =SUM(AM5:AM7) -> 49496.7 | ... AQ4: =SUM(AQ5:AQ7) -> 6700 | AR4: =SUM(AF4:AQ4) -> 409561.48 | AT4: =Y4/J4-1 -> 5.1293548 | AU4: =Y4/AN4-1 -> -0.090909091 | AW4: Ingresos | AX4: =SUM(AX5:AX7) -> 41486.4 | AY4: =SUM(AY5:AY7) -> 45486 | AZ4: =SUM(AZ5:AZ7) -> 50322 | BA4: =SUM(BA5:BA7) -> 41614.8 | BB4: =SUM(BB5:BB7) -> 48878.4 | BC4: =SUM(BC5:BC7) -> 44964 | BD4: =SUM(BD5:BD7) -> 52819.2 | BE4: =SUM(BE5:BE7) -> 53996.4 | ... BI4: =SUM(BI5:BI7) -> 46730.4 | BJ4: =SUM(AX4:BI4) -> 577323.6
A5: Origen 1 | B5: 1500 | C5: 1200 | D5: 1000 | E5: 1500 | F5: 2200 | G5: 4000 | H5: 2400 | I5: 2000 | J5: 1500 | K5: 2200 | L5: 4000 | M5: 2400 | N5: =SUM(B5:M5) -> 25900 | P5: Consultoría | Q5: =SUMIFS('Cartera Clientes'!D3:D19,'Cartera Clientes'!$B$3:$B$19,$P$5) -> 9244 | R5: =SUMIFS('Cartera Clientes'!E3:E19,'Cartera Clientes'!$B$3:$B$19,$P$5) -> 10592 | S5: =SUMIFS('Cartera Clientes'!F3:F19,'Cartera Clientes'!$B$3:$B$19,$P$5) -> 11705 | T5: =SUMIFS('Cartera Clientes'!G3:G19,'Cartera Clientes'!$B$3:$B$19,$P$5) -> 8714 | U5: =SUMIFS('Cartera Clientes'!H3:H19,'Cartera Clientes'!$B$3:$B$19,$P$5) -> 11976 | V5: =SUMIFS('Cartera Clientes'!I3:I19,'Cartera Clientes'!$B$3:$B$19,$P$5) -> 11885 | W5: =SUMIFS('Cartera Clientes'!J3:J19,'Cartera Clientes'!$B$3:$B$19,$P$5) -> 14587 | X5: =SUMIFS('Cartera Clientes'!K3:K19,'Cartera Clientes'!$B$3:$B$19,$P$5) -> 17562 | ... AB5: =SUMIFS('Cartera Clientes'!O3:O19,'Cartera Clientes'!$B$3:$B$19,$P$5) -> 15571 | AC5: =SUM(Q5:AB5) -> 153784 | AE5: Origen 1 | AF5: 9891.08 | AG5: 11651.2 | AH5: 12875.5 | AI5: 9585.4 | AJ5: 13173.6 | AK5: 13073.5 | AL5: 16045.7 | AM5: 19318.2 | AN5: 14048.1 | AO5: 2000 | AP5: 2000 | AQ5: 2000 | AT5: =Y5/J5-1 -> 7.514 | AU5: =Y5/AN5-1 -> -0.090909091 | AW5: Origen 1 | AX5: =Q5*1.2 -> 11092.8 | AY5: =R5*1.2 -> 12710.4 | AZ5: =S5*1.2 -> 14046 | BA5: =T5*1.2 -> 10456.8 | BB5: =U5*1.2 -> 14371.2 | BC5: =V5*1.2 -> 14262 | BD5: =W5*1.2 -> 17504.4 | BE5: =X5*1.2 -> 21074.4 | ... BI5: =AB5*1.2 -> 18685.2 | BJ5: =SUM(AX5:BI5) -> 184540.8
A6: Origen 2 | B6: 2200 | C6: 2200 | D6: 1126 | E6: 2200 | F6: 2500 | G6: 1350 | H6: 2000 | I6: 2000 | J6: 2200 | K6: 2500 | L6: 1350 | M6: 2000 | N6: =SUM(B6:M6) -> 23626 | P6: Formación | Q6: =SUMIFS('Cartera Clientes'!D4:D20,'Cartera Clientes'!$B$4:$B$20,$P$6) -> 13146 | R6: =SUMIFS('Cartera Clientes'!E4:E20,'Cartera Clientes'!$B$4:$B$20,$P$6) -> 14275 | S6: =SUMIFS('Cartera Clientes'!F4:F20,'Cartera Clientes'!$B$4:$B$20,$P$6) -> 17831 | T6: =SUMIFS('Cartera Clientes'!G4:G20,'Cartera Clientes'!$B$4:$B$20,$P$6) -> 15057 | U6: =SUMIFS('Cartera Clientes'!H4:H20,'Cartera Clientes'!$B$4:$B$20,$P$6) -> 15004 | V6: =SUMIFS('Cartera Clientes'!I4:I20,'Cartera Clientes'!$B$4:$B$20,$P$6) -> 13560 | W6: =SUMIFS('Cartera Clientes'!J4:J20,'Cartera Clientes'!$B$4:$B$20,$P$6) -> 15626 | X6: =SUMIFS('Cartera Clientes'!K4:K20,'Cartera Clientes'!$B$4:$B$20,$P$6) -> 15431 | ... AB6: =SUMIFS('Cartera Clientes'!O4:O20,'Cartera Clientes'!$B$4:$B$20,$P$6) -> 13182 | AC6: =SUM(Q6:AB6) -> 178319 | AE6: Origen 2 | AF6: 14460.6 | AG6: 15702.5 | AH6: 19614.1 | AI6: 16562.7 | AJ6: 16504.4 | AK6: 14916 | AL6: 17188.6 | AM6: 16974.1 | AN6: 15191 | AO6: 2500 | AP6: 2500 | AQ6: 2500 | AT6: =Y6/J6-1 -> 5.2772727 | AU6: =Y6/AN6-1 -> -0.090909091 | AW6: Origen 2 | AX6: =Q6*1.2 -> 15775.2 | AY6: =R6*1.2 -> 17130 | AZ6: =S6*1.2 -> 21397.2 | BA6: =T6*1.2 -> 18068.4 | BB6: =U6*1.2 -> 18004.8 | BC6: =V6*1.2 -> 16272 | BD6: =W6*1.2 -> 18751.2 | BE6: =X6*1.2 -> 18517.2 | ... BI6: =AB6*1.2 -> 15818.4 | BJ6: =SUM(AX6:BI6) -> 213982.8
A7: Origen 3 | B7: 3000 | C7: 2800 | D7: 4000 | E7: 2500 | F7: 4000 | G7: 2300 | H7: 1000 | I7: 2500 | J7: 2500 | K7: 4000 | L7: 2300 | M7: 1000 | N7: =SUM(B7:M7) -> 31900 | P7: Producto | Q7: =SUMIFS('Cartera Clientes'!D5:D21,'Cartera Clientes'!$B$5:$B$21,$P$7) -> 12182 | R7: =SUMIFS('Cartera Clientes'!E5:E21,'Cartera Clientes'!$B$5:$B$21,$P$7) -> 13038 | S7: =SUMIFS('Cartera Clientes'!F5:F21,'Cartera Clientes'!$B$5:$B$21,$P$7) -> 12399 | T7: =SUMIFS('Cartera Clientes'!G5:G21,'Cartera Clientes'!$B$5:$B$21,$P$7) -> 10908 | U7: =SUMIFS('Cartera Clientes'!H5:H21,'Cartera Clientes'!$B$5:$B$21,$P$7) -> 13752 | V7: =SUMIFS('Cartera Clientes'!I5:I21,'Cartera Clientes'!$B$5:$B$21,$P$7) -> 12025 | W7: =SUMIFS('Cartera Clientes'!J5:J21,'Cartera Clientes'!$B$5:$B$21,$P$7) -> 13803 | X7: =SUMIFS('Cartera Clientes'!K5:K21,'Cartera Clientes'!$B$5:$B$21,$P$7) -> 12004 | ... AB7: =SUMIFS('Cartera Clientes'!O5:O21,'Cartera Clientes'!$B$5:$B$21,$P$7) -> 10189 | AC7: =SUM(Q7:AB7) -> 149000 | AE7: Origen 3 | AF7: 13400.2 | AG7: 14341.8 | AH7: 13638.9 | AI7: 11998.8 | AJ7: 15127.2 | AK7: 13227.5 | AL7: 15183.3 | AM7: 13204.4 | AN7: 12563.1 | AO7: 2200 | AP7: 2200 | AQ7: 2200 | AT7: =Y7/J7-1 -> 3.5684 | AU7: =Y7/AN7-1 -> -0.090909091 | AW7: Origen 3 | AX7: =Q7*1.2 -> 14618.4 | AY7: =R7*1.2 -> 15645.6 | AZ7: =S7*1.2 -> 14878.8 | BA7: =T7*1.2 -> 13089.6 | BB7: =U7*1.2 -> 16502.4 | BC7: =V7*1.2 -> 14430 | BD7: =W7*1.2 -> 16563.6 | BE7: =X7*1.2 -> 14404.8 | ... BI7: =AB7*1.2 -> 12226.8 | BJ7: =SUM(AX7:BI7) -> 178800
A8: Gastos Directos | B8: =SUM(B9) -> 450 | C8: =SUM(C9) -> 600 | D8: =SUM(D9) -> 700 | E8: =SUM(E9) -> 600 | F8: =SUM(F9) -> 700 | G8: =SUM(G9) -> 860 | H8: =SUM(H9) -> 980 | I8: =SUM(I9) -> 900 | ... M8: =SUM(M9) -> 800 | N8: =SUM(B8:M8) -> 9270 | P8: Gastos Directos | Q8: =SUM(Q9) -> 500 | R8: =SUM(R9) -> 600 | S8: =SUM(S9) -> 700 | T8: =SUM(T9) -> 1200 | U8: =SUM(U9) -> 1300 | V8: =SUM(V9) -> 800 | W8: =SUM(W9) -> 900 | X8: =SUM(X9) -> 1200 | Y8: =SUM(Y9) -> 1500 | AC8: =SUM(Q8:AB8) -> 8700 | AE8: Gastos Directos | AF8: =SUM(AF9) -> 525 | AG8: =SUM(AG9) -> 630 | AH8: =SUM(AH9) -> 735 | AI8: =SUM(AI9) -> 1260 | AJ8: =SUM(AJ9) -> 1365 | AK8: =SUM(AK9) -> 840 | AL8: =SUM(AL9) -> 945 | AM8: =SUM(AM9) -> 1260 | ... AQ8: =SUM(AQ9) -> 900 | AR8: =SUM(AF8:AQ8) -> 11685 | AT8: =Y8/J8-1 -> 0.875 | AU8: =Y8/AN8-1 -> -0.047619048 | AW8: Gastos Directos | AX8: =SUM(AX9) -> 525 | AY8: =SUM(AY9) -> 630 | AZ8: =SUM(AZ9) -> 735 | BA8: =SUM(BA9) -> 1260 | BB8: =SUM(BB9) -> 1365 | BC8: =SUM(BC9) -> 840 | BD8: =SUM(BD9) -> 945 | BE8: =SUM(BE9) -> 1260 | ... BI8: =SUM(BI9) -> 0 | BJ8: =SUM(AX8:BI8) -> 9135
A9: Compras | B9: 450 | C9: 600 | D9: 700 | E9: 600 | F9: 700 | G9: 860 | H9: 980 | I9: 900 | J9: 800 | K9: 980 | L9: 900 | M9: 800 | N9: =SUM(B9:M9) -> 9270 | P9: Compras | Q9: 500 | R9: 600 | S9: 700 | T9: 1200 | U9: 1300 | V9: 800 | W9: 900 | X9: 1200 | Y9: 1500 | AC9: =SUM(Q9:AB9) -> 8700 | AE9: Compras | AF9: =Q9*1.05 -> 525 | AG9: =R9*1.05 -> 630 | AH9: =S9*1.05 -> 735 | AI9: =T9*1.05 -> 1260 | AJ9: =U9*1.05 -> 1365 | AK9: =V9*1.05 -> 840 | AL9: =W9*1.05 -> 945 | AM9: =X9*1.05 -> 1260 | AN9: =Y9*1.05 -> 1575 | AO9: 800 | AP9: 850 | AQ9: 900 | AT9: =Y9/J9-1 -> 0.875 | AU9: =Y9/AN9-1 -> -0.047619048 | AW9: Compras | AX9: =Q9*1.05 -> 525 | AY9: =R9*1.05 -> 630 | AZ9: =S9*1.05 -> 735 | BA9: =T9*1.05 -> 1260 | BB9: =U9*1.05 -> 1365 | BC9: =V9*1.05 -> 840 | BD9: =W9*1.05 -> 945 | BE9: =X9*1.05 -> 1260 | ... BI9: =AB9*1.05 -> 0
A10: Beneficio Bruto | B10: =B4-B8 -> 6250 | C10: =C4-C8 -> 5600 | D10: =D4-D8 -> 5426 | E10: =E4-E8 -> 5600 | F10: =F4-F8 -> 8000 | G10: =G4-G8 -> 6790 | H10: =H4-H8 -> 4420 | I10: =I4-I8 -> 5600 | ... M10: =M4-M8 -> 4600 | N10: =SUM(B10:M10) -> 72156 | P10: Beneficio Bruto | Q10: =Q4-Q8 -> 34072 | R10: =R4-R8 -> 37305 | S10: =S4-S8 -> 41235 | T10: =T4-T8 -> 33479 | U10: =U4-U8 -> 39432 | V10: =V4-V8 -> 36670 | W10: =W4-W8 -> 43116 | X10: =X4-X8 -> 43797 | ... AB10: =AB4-AB8 -> 38942 | AC10: =SUM(Q10:AB10) -> 472403 | AE10: Beneficio Bruto | AF10: =AF4-AF8 -> 37226.88 | AG10: =AG4-AG8 -> 41065.5 | AH10: =AH4-AH8 -> 45393.5 | AI10: =AI4-AI8 -> 36886.9 | AJ10: =AJ4-AJ8 -> 43440.2 | AK10: =AK4-AK8 -> 40377 | AL10: =AL4-AL8 -> 47472.6 | AM10: =AM4-AM8 -> 48236.7 | ... AQ10: =AQ4-AQ8 -> 5800 | AR10: =SUM(AF10:AQ10) -> 397876.48 | AT10: =Y10/J10-1 -> 5.7596296 | AU10: =Y10/AN10-1 -> -0.092604009 | AW10: Beneficio Bruto | AX10: =AX4-AX8 -> 40961.4 | AY10: =AY4-AY8 -> 44856 | AZ10: =AZ4-AZ8 -> 49587 | BA10: =BA4-BA8 -> 40354.8 | BB10: =BB4-BB8 -> 47513.4 | BC10: =BC4-BC8 -> 44124 | BD10: =BD4-BD8 -> 51874.2 | BE10: =BE4-BE8 -> 52736.4 | ... BI10: =BI4-BI8 -> 46730.4 | BJ10: =SUM(AX10:BI10) -> 568188.6
A12: Costes de Personal | B12: 3800 | C12: 3700 | D12: 3900 | E12: 3700 | F12: 3900 | G12: 4000 | H12: 3800 | I12: 3900 | J12: 3950 | K12: 3900 | L12: 4000 | M12: 3800 | N12: =SUM(B12:M12) -> 46350 | P12: Costes de Personal | Q12: 5500 | R12: 4500 | S12: 3500 | T12: 4000 | U12: 6000 | V12: 4000 | W12: 34000 | X12: 4500 | Y12: 4400 | AC12: =SUM(Q12:AB12) -> 70400 | AE12: Costes de Personal | AF12: =Q12 -> 5500 | AG12: =R12 -> 4500 | AH12: =S12 -> 3500 | AI12: =T12 -> 4000 | AJ12: =U12 -> 6000 | AK12: =V12 -> 4000 | AL12: =W12 -> 34000 | AM12: =X12 -> 4500 | AN12: =Y12 -> 4400 | AO12: 4200 | AP12: 4200 | AQ12: 4200 | AR12: =SUM(AF12:AQ12) -> 83000 | AT12: =Y12/J12-1 -> 0.11392405 | AU12: =Y12/AN12-1 -> 0 | AW12: Costes de Personal | AX12: =Q12*1.05 -> 5775 | AY12: =R12*1.05 -> 4725 | AZ12: =S12*1.05 -> 3675 | BA12: =T12*1.05 -> 4200 | BB12: =U12*1.05 -> 6300 | BC12: =V12*1.05 -> 4200 | BD12: =W12*1.05 -> 35700 | BE12: =X12*1.05 -> 4725 | ... BI12: =AB12*1.05 -> 0 | BJ12: =SUM(AX12:BI12) -> 73920
A13: Gastos Indirectos | B13: =SUM(B14:B16) -> 2280 | C13: =SUM(C14:C16) -> 2425 | D13: =SUM(D14:D16) -> 1720 | E13: =SUM(E14:E16) -> 1770 | F13: =SUM(F14:F16) -> 1790 | G13: =SUM(G14:G16) -> 1790 | H13: =SUM(H14:H16) -> 1790 | I13: =SUM(I14:I16) -> 1815 | ... M13: =SUM(M14:M16) -> 1815 | N13: =SUM(B13:M13) -> 22175 | P13: Gastos Indirectos | Q13: =SUM(Q14:Q16) -> 3300 | R13: =SUM(R14:R16) -> 2900 | S13: =SUM(S14:S16) -> 3400 | T13: =SUM(T14:T16) -> 3000 | U13: =SUM(U14:U16) -> 2900 | V13: =SUM(V14:V16) -> 3100 | W13: =SUM(W14:W16) -> 2700 | X13: =SUM(X14:X16) -> 2600 | ... AB13: =SUM(AB14:AB16) -> 0 | AC13: =SUM(Q13:AB13) -> 26700 | AE13: Gastos Indirectos | AF13: =SUM(AF14:AF16) -> 3465 | AG13: =SUM(AG14:AG16) -> 3045 | AH13: =SUM(AH14:AH16) -> 3570 | AI13: =SUM(AI14:AI16) -> 3150 | AJ13: =SUM(AJ14:AJ16) -> 3045 | AK13: =SUM(AK14:AK16) -> 3255 | AL13: =SUM(AL14:AL16) -> 2835 | AM13: =SUM(AM14:AM16) -> 2730 | ... AQ13: =SUM(AQ14:AQ16) -> 1690 | AR13: =SUM(AF13:AQ13) -> 33105 | AT13: =Y13/J13-1 -> 1 | AU13: =Y13/AN13-1 -> -0.047619048 | AW13: Gastos Indirectos | AX13: =SUM(AX14:AX16) -> 3465 | AY13: =SUM(AY14:AY16) -> 3045 | AZ13: =SUM(AZ14:AZ16) -> 3570 | BA13: =SUM(BA14:BA16) -> 3150 | BB13: =SUM(BB14:BB16) -> 3045 | BC13: =SUM(BC14:BC16) -> 3255 | BD13: =SUM(BD14:BD16) -> 2835 | BE13: =SUM(BE14:BE16) -> 2730 | ... BI13: =SUM(BI14:BI16) -> 0 | BJ13: =SUM(AX13:BI13) -> 28035
A14: Suministros | B14: 180 | C14: 225 | D14: 120 | E14: 170 | F14: 190 | G14: 190 | H14: 190 | I14: 115 | J14: 150 | K14: 190 | L14: 190 | M14: 115 | N14: =SUM(B14:M14) -> 2025 | P14: Suministros | Q14: 1000 | R14: 900 | S14: 800 | T14: 700 | U14: 500 | V14: 700 | W14: 400 | X14: 300 | Y14: 600 | AC14: =SUM(Q14:AB14) -> 5900 | AE14: Suministros | AF14: =Q14*1.05 -> 1050 | AG14: =R14*1.05 -> 945 | AH14: =S14*1.05 -> 840 | AI14: =T14*1.05 -> 735 | AJ14: =U14*1.05 -> 525 | AK14: =V14*1.05 -> 735 | AL14: =W14*1.05 -> 420 | AM14: =X14*1.05 -> 315 | AN14: =Y14*1.05 -> 630 | AO14: 190 | AP14: 190 | AQ14: 190 | AR14: =SUM(AF14:AQ14) -> 6765 | AT14: =Y14/J14-1 -> 3 | AU14: =Y14/AN14-1 -> -0.047619048 | AW14: Suministros | AX14: =Q14*1.05 -> 1050 | AY14: =R14*1.05 -> 945 | AZ14: =S14*1.05 -> 840 | BA14: =T14*1.05 -> 735 | BB14: =U14*1.05 -> 525 | BC14: =V14*1.05 -> 735 | BD14: =W14*1.05 -> 420 | BE14: =X14*1.05 -> 315 | ... BI14: =AB14*1.05 -> 0 | BJ14: =SUM(AX14:BI14) -> 6195
A15: Mantenimientos | B15: 700 | C15: 700 | D15: 800 | E15: 800 | F15: 700 | G15: 700 | H15: 800 | I15: 800 | J15: 700 | K15: 700 | L15: 800 | M15: 800 | N15: =SUM(B15:M15) -> 9000 | P15: Mantenimientos | Q15: 1200 | R15: 1000 | S15: 1200 | T15: 1200 | U15: 1300 | V15: 1400 | W15: 1100 | X15: 1100 | Y15: 1000 | AC15: =SUM(Q15:AB15) -> 10500 | AE15: Mantenimientos | AF15: =Q15*1.05 -> 1260 | AG15: =R15*1.05 -> 1050 | AH15: =S15*1.05 -> 1260 | AI15: =T15*1.05 -> 1260 | AJ15: =U15*1.05 -> 1365 | AK15: =V15*1.05 -> 1470 | AL15: =W15*1.05 -> 1155 | AM15: =X15*1.05 -> 1155 | AN15: =Y15*1.05 -> 1050 | AO15: 800 | AP15: 800 | AQ15: 800 | AR15: =SUM(AF15:AQ15) -> 13425 | AT15: =Y15/J15-1 -> 0.42857143 | AU15: =Y15/AN15-1 -> -0.047619048 | AW15: Mantenimientos | AX15: =Q15*1.05 -> 1260 | AY15: =R15*1.05 -> 1050 | AZ15: =S15*1.05 -> 1260 | BA15: =T15*1.05 -> 1260 | BB15: =U15*1.05 -> 1365 | BC15: =V15*1.05 -> 1470 | BD15: =W15*1.05 -> 1155 | BE15: =X15*1.05 -> 1155 | ... BI15: =AB15*1.05 -> 0 | BJ15: =SUM(AX15:BI15) -> 11025
A16: Servicios Externalizados | B16: 1400 | C16: 1500 | D16: 800 | E16: 800 | F16: 900 | G16: 900 | H16: 800 | I16: 900 | J16: 550 | K16: 900 | L16: 800 | M16: 900 | N16: =SUM(B16:M16) -> 11150 | P16: Servicios Externalizados | Q16: 1100 | R16: 1000 | S16: 1400 | T16: 1100 | U16: 1100 | V16: 1000 | W16: 1200 | X16: 1200 | Y16: 1200 | AC16: =SUM(Q16:AB16) -> 10300 | AE16: Servicios Externalizados | AF16: =Q16*1.05 -> 1155 | AG16: =R16*1.05 -> 1050 | AH16: =S16*1.05 -> 1470 | AI16: =T16*1.05 -> 1155 | AJ16: =U16*1.05 -> 1155 | AK16: =V16*1.05 -> 1050 | AL16: =W16*1.05 -> 1260 | AM16: =X16*1.05 -> 1260 | AN16: =Y16*1.05 -> 1260 | AO16: 700 | AP16: 700 | AQ16: 700 | AR16: =SUM(AF16:AQ16) -> 12915 | AT16: =Y16/J16-1 -> 1.1818182 | AU16: =Y16/AN16-1 -> -0.047619048 | AW16: Servicios Externalizados | AX16: =Q16*1.05 -> 1155 | AY16: =R16*1.05 -> 1050 | AZ16: =S16*1.05 -> 1470 | BA16: =T16*1.05 -> 1155 | BB16: =U16*1.05 -> 1155 | BC16: =V16*1.05 -> 1050 | BD16: =W16*1.05 -> 1260 | BE16: =X16*1.05 -> 1260 | ... BI16: =AB16*1.05 -> 0 | BJ16: =SUM(AX16:BI16) -> 10815
A17: Resultado Operativo | B17: =B10-B12-B13 -> 170 | C17: =C10-C12-C13 -> -525 | D17: =D10-D12-D13 -> -194 | E17: =E10-E12-E13 -> 130 | F17: =F10-F12-F13 -> 2310 | G17: =G10-G12-G13 -> 1000 | H17: =H10-H12-H13 -> -1170 | I17: =I10-I12-I13 -> -115 | ... M17: =M10-M12-M13 -> -1015 | N17: =SUM(B17:M17) -> 3631 | P17: Resultado Operativo | Q17: =Q10-Q12-Q13 -> 25272 | R17: =R10-R12-R13 -> 29905 | S17: =S10-S12-S13 -> 34335 | T17: =T10-T12-T13 -> 26479 | U17: =U10-U12-U13 -> 30532 | V17: =V10-V12-V13 -> 29570 | W17: =W10-W12-W13 -> 6416 | X17: =X10-X12-X13 -> 36697 | ... AB17: =AB10-AB12-AB13 -> 38942 | AC17: =SUM(Q17:AB17) -> 375303 | AE17: Resultado Operativo | AF17: =AF10-AF12-AF13 -> 28261.88 | AG17: =AG10-AG12-AG13 -> 33520.5 | AH17: =AH10-AH12-AH13 -> 38323.5 | AI17: =AI10-AI12-AI13 -> 29736.9 | AJ17: =AJ10-AJ12-AJ13 -> 34395.2 | AK17: =AK10-AK12-AK13 -> 33122 | AL17: =AL10-AL12-AL13 -> 10637.6 | AM17: =AM10-AM12-AM13 -> 41006.7 | ... AQ17: =AQ10-AQ12-AQ13 -> -90 | AR17: =SUM(AF17:AQ17) -> 281771.48 | AT17: =Y17/J17-1 -> 585.04 | AU17: =Y17/AN17-1 -> -0.10901506 | AW17: Resultado Operativo | AX17: =AX10-AX12-AX13 -> 31721.4 | AY17: =AY10-AY12-AY13 -> 37086 | AZ17: =AZ10-AZ12-AZ13 -> 42342 | BA17: =BA10-BA12-BA13 -> 33004.8 | BB17: =BB10-BB12-BB13 -> 38168.4 | BC17: =BC10-BC12-BC13 -> 36669 | BD17: =BD10-BD12-BD13 -> 13339.2 | BE17: =BE10-BE12-BE13 -> 45281.4 | ... BI17: =BI10-BI12-BI13 -> 46730.4 | BJ17: =SUM(AX17:BI17) -> 466233.6
B18: =B17/B4 -> 0.025373134 | C18: =C17/C4 -> -0.084677419 | D18: =D17/D4 -> -0.031668299 | E18: =E17/E4 -> 0.020967742 | F18: =F17/F4 -> 0.26551724 | G18: =G17/G4 -> 0.13071895 | H18: =H17/H4 -> -0.21666667 | I18: =I17/I4 -> -0.017692308 | ... M18: =M17/M4 -> -0.18796296 | Q18: =Q17/Q4 -> 0.73099618 | R18: =R17/R4 -> 0.78894605 | S18: =S17/S4 -> 0.81876714 | T18: =T17/T4 -> 0.76354566 | U18: =U17/U4 -> 0.74958264 | V18: =V17/V4 -> 0.78916467 | W18: =W17/W4 -> 0.14576518 | X18: =X17/X4 -> 0.81554326 | Y18: =Y17/Y4 -> 0.77106468 | AF18: =AF17/AF4 -> 0.74862179 | AG18: =AG17/AG4 -> 0.80393568 | AH18: =AH17/AH4 -> 0.83079875 | AI18: =AI17/AI4 -> 0.77953648 | AJ18: =AJ17/AJ4 -> 0.7676609 | AK18: =AK17/AK4 -> 0.80360046 | AL18: =AL17/AL4 -> 0.21970523 | AM18: =AM17/AM4 -> 0.82847341 | ... AQ18: =AQ17/AQ4 -> -0.013432836 | AT18: =Y18/J18-1 -> 94.61202 | AU18: =Y18/AN18-1 -> -0.019916563 | AX18: =AX17/AX4 -> 0.76462166 | AY18: =AY17/AY4 -> 0.81532779 | AZ18: =AZ17/AZ4 -> 0.84142125 | BA18: =BA17/BA4 -> 0.79310245 | BB18: =BB17/BB4 -> 0.78088481 | BC18: =BC17/BC4 -> 0.81551908 | BD18: =BD17/BD4 -> 0.25254453 | BE18: =BE17/BE4 -> 0.83860035 | ... BI18: =BI17/BI4 -> 1
A20: Amortizaciones | B20: 50 | C20: 50 | D20: 60 | E20: 50 | F20: 60 | G20: 60 | H20: 50 | I20: 45 | J20: 50 | K20: 60 | L20: 60 | M20: 60 | N20: =SUM(B20:M20) -> 655 | P20: Amortizaciones | Q20: 50 | R20: 50 | S20: 60 | T20: 50 | U20: 60 | V20: 60 | W20: 50 | X20: 45 | Y20: 50 | AC20: =SUM(Q20:AB20) -> 475 | AE20: Amortizaciones | AF20: =Q20 -> 50 | AG20: =R20 -> 50 | AH20: =S20 -> 60 | AI20: =T20 -> 50 | AJ20: =U20 -> 60 | AK20: =V20 -> 60 | AL20: =W20 -> 50 | AM20: =X20 -> 45 | AN20: =Y20 -> 50 | AO20: 50 | AP20: 50 | AQ20: 50 | AR20: =SUM(AF20:AQ20) -> 625 | AT20: =Y20/J20-1 -> 0 | AU20: =Y20/AN20-1 -> 0 | AW20: Amortizaciones | AX20: =AI20 -> 50 | AY20: =AJ20 -> 60 | AZ20: =AK20 -> 60 | BA20: =AL20 -> 50 | BB20: =AM20 -> 45 | BC20: =AN20 -> 50 | BD20: =AO20 -> 50 | BE20: =AP20 -> 50 | BF20: =AQ20 -> 50 | BG20: 50 | BH20: 50 | BI20: 50 | BJ20: =SUM(AX20:BI20) -> 615
A21: Resultado de Explotación | B21: =B17-B20 -> 120 | C21: =C17-C20 -> -575 | D21: =D17-D20 -> -254 | E21: =E17-E20 -> 80 | F21: =F17-F20 -> 2250 | G21: =G17-G20 -> 940 | H21: =H17-H20 -> -1220 | I21: =I17-I20 -> -160 | ... M21: =M17-M20 -> -1075 | N21: =SUM(B21:M21) -> 2976 | P21: Resultado de Explotación | Q21: =Q17-Q20 -> 25222 | R21: =R17-R20 -> 29855 | S21: =S17-S20 -> 34275 | T21: =T17-T20 -> 26429 | U21: =U17-U20 -> 30472 | V21: =V17-V20 -> 29510 | W21: =W17-W20 -> 6366 | X21: =X17-X20 -> 36652 | ... AB21: =AB17-AB20 -> 38942 | AC21: =SUM(Q21:AB21) -> 374828 | AE21: Resultado de Explotación | AF21: =AF17-AF20 -> 28211.88 | AG21: =AG17-AG20 -> 33470.5 | AH21: =AH17-AH20 -> 38263.5 | AI21: =AI17-AI20 -> 29686.9 | AJ21: =AJ17-AJ20 -> 34335.2 | AK21: =AK17-AK20 -> 33062 | AL21: =AL17-AL20 -> 10587.6 | AM21: =AM17-AM20 -> 40961.7 | ... AQ21: =AQ17-AQ20 -> -140 | AR21: =SUM(AF21:AQ21) -> 281146.48 | AT21: =Y21/J21-1 -> #DIV/0! | AU21: =Y21/AN21-1 -> -0.10918105 | AW21: Resultado de Explotación | AX21: =AX17-AX20 -> 31671.4 | AY21: =AY17-AY20 -> 37026 | AZ21: =AZ17-AZ20 -> 42282 | BA21: =BA17-BA20 -> 32954.8 | BB21: =BB17-BB20 -> 38123.4 | BC21: =BC17-BC20 -> 36619 | BD21: =BD17-BD20 -> 13289.2 | BE21: =BE17-BE20 -> 45231.4 | ... BI21: =BI17-BI20 -> 46680.4 | BJ21: =SUM(AX21:BI21) -> 465618.6
A23: Otros Ingresos / Otros Gastos | B23: 10 | C23: 15 | D23: 20 | E23: 12 | F23: 15 | G23: 12 | H23: 10 | I23: 11 | J23: 15 | K23: 15 | L23: 15 | M23: 15 | N23: =SUM(B23:M23) -> 165 | P23: Otros Ingresos / Otros Gastos | Q23: 10 | R23: 15 | S23: 20 | T23: 12 | U23: 15 | V23: 12 | W23: 10 | X23: 11 | Y23: 15 | AC23: =SUM(Q23:AB23) -> 120 | AE23: Otros Ingresos / Otros Gastos | AF23: =Q23 -> 10 | AG23: =R23 -> 15 | AH23: =S23 -> 20 | AI23: =T23 -> 12 | AJ23: =U23 -> 15 | AK23: =V23 -> 12 | AL23: =W23 -> 10 | AM23: =X23 -> 11 | AN23: =Y23 -> 15 | AO23: 12 | AP23: 12 | AQ23: 12 | AR23: =SUM(AF23:AQ23) -> 156 | AT23: =Y23/J23-1 -> 0 | AU23: =Y23/AN23-1 -> 0 | AW23: Otros Ingresos / Otros Gastos | AX23: =AI23 -> 12 | AY23: =AJ23 -> 15 | AZ23: =AK23 -> 12 | BA23: =AL23 -> 10 | BB23: =AM23 -> 11 | BC23: =AN23 -> 15 | BD23: =AO23 -> 12 | BE23: =AP23 -> 12 | BF23: =AQ23 -> 12 | BG23: 12 | BH23: 12 | BI23: 12 | BJ23: =SUM(AX23:BI23) -> 147
A24: Resultado Neto A.I. | B24: =B21-B23 -> 110 | C24: =C21-C23 -> -590 | D24: =D21-D23 -> -274 | E24: =E21-E23 -> 68 | F24: =F21-F23 -> 2235 | G24: =G21-G23 -> 928 | H24: =H21-H23 -> -1230 | I24: =I21-I23 -> -171 | ... M24: =M21-M23 -> -1090 | N24: =SUM(B24:M24) -> 2811 | P24: Resultado Neto A.I. | Q24: =Q21-Q23 -> 25212 | R24: =R21-R23 -> 29840 | S24: =S21-S23 -> 34255 | T24: =T21-T23 -> 26417 | U24: =U21-U23 -> 30457 | V24: =V21-V23 -> 29498 | W24: =W21-W23 -> 6356 | X24: =X21-X23 -> 36641 | ... AB24: =AB21-AB23 -> 38942 | AC24: =SUM(Q24:AB24) -> 374708 | AE24: Resultado Neto A.I. | AF24: =AF21-AF23 -> 28201.88 | AG24: =AG21-AG23 -> 33455.5 | AH24: =AH21-AH23 -> 38243.5 | AI24: =AI21-AI23 -> 29674.9 | AJ24: =AJ21-AJ23 -> 34320.2 | AK24: =AK21-AK23 -> 33050 | AL24: =AL21-AL23 -> 10577.6 | AM24: =AM21-AM23 -> 40950.7 | ... AQ24: =AQ21-AQ23 -> -152 | AR24: =SUM(AF24:AQ24) -> 280990.48 | AT24: =Y24/J24-1 -> -1950.1333 | AU24: =Y24/AN24-1 -> -0.10923095 | AW24: Resultado Neto A.I. | AX24: =AX21-AX23 -> 31659.4 | AY24: =AY21-AY23 -> 37011 | AZ24: =AZ21-AZ23 -> 42270 | BA24: =BA21-BA23 -> 32944.8 | BB24: =BB21-BB23 -> 38112.4 | BC24: =BC21-BC23 -> 36604 | BD24: =BD21-BD23 -> 13277.2 | BE24: =BE21-BE23 -> 45219.4 | ... BI24: =BI21-BI23 -> 46668.4 | BJ24: =SUM(AX24:BI24) -> 465471.6
B25: =B24/B4 -> 0.01641791 | C25: =C24/C4 -> -0.09516129 | D25: =D24/D4 -> -0.044727391 | E25: =E24/E4 -> 0.010967742 | F25: =F24/F4 -> 0.25689655 | G25: =G24/G4 -> 0.12130719 | H25: =H24/H4 -> -0.22777778 | I25: =I24/I4 -> -0.026307692 | ... M25: =M24/M4 -> -0.20185185 | Q25: =Q24/Q4 -> 0.72926067 | R25: =R24/R4 -> 0.78723124 | S25: =S24/S4 -> 0.81685943 | T25: =T24/T4 -> 0.76175784 | U25: =U24/U4 -> 0.74774133 | V25: =V24/V4 -> 0.78724313 | W25: =W24/W4 -> 0.14440204 | X25: =X24/X4 -> 0.81429873 | Y25: =Y24/Y4 -> 0.76935424 | AG25: =AG24/AG4 -> 0.80237676 | AH25: =AH24/AH4 -> 0.82906446 | AI25: =AI24/AI4 -> 0.77791118 | AJ25: =AJ24/AJ4 -> 0.76598698 | AK25: =AK24/AK4 -> 0.8018536 | AL25: =AL24/AL4 -> 0.21846601 | AM25: =AM24/AM4 -> 0.82734202 | AN25: =AN24/AN4 -> 0.78517877 | ... AQ25: =AQ24/AQ4 -> -0.022686567

Sheet Cartera Clientes
D1: =SUM(D3:D19) -> 34572 | E1: =SUM(E3:E19) -> 37905 | F1: =SUM(F3:F19) -> 41935 | G1: =SUM(G3:G19) -> 34679 | H1: =SUM(H3:H19) -> 40732 | I1: =SUM(I3:I19) -> 37470 | J1: =SUM(J3:J19) -> 44016 | K1: =SUM(K3:K19) -> 44997 | ... O1: =SUM(O3:O19) -> 38942
A2: Cliente | B2: Tipo servicio | C2: Tipo Cliente | D2: Ene | E2: Feb | F2: Mar | G2: Abr | H2: May | I2: Jun | J2: Jul | K2: Ago | L2: Sep | M2: Oct | N2: Nov | O2: Dic | P2: Total | Q2: Comentario
A3: Stark Consulting | B3: Consultoría | C3: Cliente nuevo | D3: 2069 | E3: 2607 | F3: 2971 | G3: 3079 | H3: 1636 | I3: 3233 | J3: 2367 | K3: 3265 | L3: 1840 | M3: 1953 | N3: 2987 | O3: 2706 | P3: =SUM(D3:O3) -> 30713
A4: Pedro Martin | B4: Formación | C4: Cliente retenido | D4: 2778 | E4: 3418 | F4: 3482 | G4: 1943 | H4: 2197 | I4: 2184 | J4: 3196 | K4: 2261 | L4: 1972 | M4: 3407 | N4: 3044 | O4: 1821 | P4: =SUM(D4:O4) -> 31703
A5: Academia 2001 | B5: Producto | C5: Cliente retenido | D5: 2411 | E5: 1990 | F5: 2460 | G5: 2398 | H5: 3466 | I5: 3498 | J5: 3080 | K5: 2474 | L5: 2756 | M5: 2077 | N5: 2441 | O5: 1551 | P5: =SUM(D5:O5) -> 30602
A6: Supermercado Par | B6: Formación | C6: Cliente nuevo | D6: 3365 | E6: 3425 | F6: 2056 | G6: 2149 | H6: 3354 | I6: 3158 | J6: 3291 | K6: 2126 | L6: 2707 | M6: 2033 | N6: 2147 | O6: 2322 | P6: =SUM(D6:O6) -> 32133
A7: Automoviles Fran | B7: Producto | C7: Cliente retenido | D7: 1939 | E7: 2841 | F7: 2669 | G7: 2779 | H7: 3188 | I7: 1580 | J7: 2944 | K7: 2685 | L7: 1957 | M7: 3046 | N7: 3000 | O7: 1977 | P7: =SUM(D7:O7) -> 30605
A8: Colchonetas Enjoy | B8: Consultoría | C8: Cliente retenido | D8: 3127 | E8: 1886 | F8: 3473 | G8: 2167 | H8: 2789 | I8: 1854 | J8: 2308 | K8: 2445 | L8: 1812 | M8: 1936 | N8: 2793 | O8: 3207 | P8: =SUM(D8:O8) -> 29797
A9: Men & You | B9: Formación | C9: Cliente nuevo | F9: 2954 | G9: 1944 | H9: 2926 | I9: 1858 | J9: 2344 | K9: 2041 | L9: 1870 | M9: 1523 | N9: 3188 | O9: 2525 | P9: =SUM(D9:O9) -> 23173
A10: Target one | B10: Consultoría | C10: Cliente retenido | D10: 1810 | E10: 2975 | F10: 2620 | G10: 1720 | H10: 2540 | I10: 2384 | J10: 3032 | K10: 3256 | L10: 2277 | M10: 2520 | N10: 2645 | O10: 3076 | P10: =SUM(D10:O10) -> 30855
A11: Dylux | B11: Formación | C11: Cliente retenido | D11: 3370 | E11: 1752 | F11: 2954 | G11: 3139 | H11: 1566 | I11: 2650 | J11: 1865 | K11: 2670 | L11: 1609 | M11: 2507 | N11: 3383 | O11: 1833 | P11: =SUM(D11:O11) -> 29298
A12: Lenovo | B12: Consultoría | C12: Cliente nuevo | D12: 2238 | E12: 3124 | F12: 2641 | G12: 1748 | H12: 3481 | I12: 2492 | J12: 1939 | K12: 1907 | L12: 2710 | M12: 1592 | N12: 1943 | O12: 1851 | P12: =SUM(D12:O12) -> 27666
A13: Oreylly | B13: Producto | C13: Cliente retenido | D13: 2764 | E13: 2688 | F13: 2164 | G13: 2475 | H13: 2864 | I13: 2805 | J13: 2319 | K13: 3474 | L13: 1656 | M13: 2121 | N13: 3142 | O13: 1686 | P13: =SUM(D13:O13) -> 30158
A14: Terry mill | B14: Formación | C14: Cliente retenido | D14: 1892 | E14: 3325 | F14: 3087 | G14: 2554 | H14: 2375 | I14: 2024 | J14: 2019 | K14: 2845 | L14: 2321 | M14: 3338 | N14: 2035 | O14: 1643 | P14: =SUM(D14:O14) -> 29458
A15: Atlantis | B15: Consultoría | C15: Cliente nuevo | J15: 2907 | K15: 3258 | L15: 2439 | M15: 2233 | N15: 2886 | O15: 3120 | P15: =SUM(D15:O15) -> 16843
A16: Engel TV | B16: Formación | C16: Cliente retenido | D16: 1741 | E16: 2355 | F16: 3298 | G16: 3328 | H16: 2586 | I16: 1686 | J16: 2911 | K16: 3488 | L16: 3331 | M16: 2986 | N16: 1806 | O16: 3038 | P16: =SUM(D16:O16) -> 32554
A17: Fotrografia Young | B17: Producto | C17: Cliente retenido | D17: 3371 | E17: 2605 | F17: 1654 | G17: 1743 | H17: 2217 | I17: 2187 | J17: 2937 | K17: 1551 | L17: 2595 | M17: 3052 | N17: 1757 | O17: 1981 | P17: =SUM(D17:O17) -> 27650
A18: Corbero | B18: Consultoría | C18: Cliente nuevo | H18: 1530 | I18: 1922 | J18: 2034 | K18: 3431 | L18: 1693 | M18: 2769 | N18: 2920 | O18: 1611 | P18: =SUM(D18:O18) -> 17910
A19: Chocolaes milk | B19: Producto | C19: Cliente retenido | D19: 1697 | E19: 2914 | F19: 3452 | G19: 1513 | H19: 2017 | I19: 1955 | J19: 2523 | K19: 1820 | L19: 2457 | M19: 3339 | N19: 3304 | O19: 2994 | P19: =SUM(D19:O19) -> 29985
A20: Cliente Nuevo | C20: Cliente nuevo | N20: 10000 | O20: 12000
A21: Cliente Retenido | C21: Cliente retenido | N21: 3000 | O21: 4000
C23: Total Cliente Nuevo | D23: =D3+D6+D9+D12+D15+D18+D20 -> 7672 | E23: =E3+E6+E9+E12+E15+E18+E20 -> 9156 | F23: =F3+F6+F9+F12+F15+F18+F20 -> 10622 | G23: =G3+G6+G9+G12+G15+G18+G20 -> 8920 | H23: =H3+H6+H9+H12+H15+H18+H20 -> 12927 | I23: =I3+I6+I9+I12+I15+I18+I20 -> 12663 | J23: =J3+J6+J9+J12+J15+J18+J20 -> 14882 | K23: =K3+K6+K9+K12+K15+K18+K20 -> 16028 | ... P23: =P3+P6+P9+P12+P15+P18+P20 -> 148438
C24: Total Cliente Retenido | D24: =D4+D5+D7+D8+D10+D11+D13+D14+D16+D17+D19 -> 26900 | E24: =E4+E5+E7+E8+E10+E11+E13+E14+E16+E17+E19 -> 28749 | F24: =F4+F5+F7+F8+F10+F11+F13+F14+F16+F17+F19 -> 31313 | G24: =G4+G5+G7+G8+G10+G11+G13+G14+G16+G17+G19 -> 25759 | H24: =H4+H5+H7+H8+H10+H11+H13+H14+H16+H17+H19 -> 27805 | I24: =I4+I5+I7+I8+I10+I11+I13+I14+I16+I17+I19 -> 24807 | J24: =J4+J5+J7+J8+J10+J11+J13+J14+J16+J17+J19 -> 29134 | K24: =K4+K5+K7+K8+K10+K11+K13+K14+K16+K17+K19 -> 28969 | ... P24: =P4+P5+P7+P8+P10+P11+P13+P14+P16+P17+P19 -> 332665

Sheet Seguimiento Propuestas
A1: Cliente | B1: Comercial | C1: Región | D1: Categoría | E1: Potencial | F1: Fase de venta | G1: Probabilidad de venta | H1: Mes Previsto de cierre | I1: Previsión ponderada
A2: C&C | B2: Juan Carlos Gimenez | C2: Madrid | D2: Consultoría | E2: 125000 | F2: Aprobación Formal | G2: 0.9 | H2: Enero | I2: =E2*G2 -> 112500
A3: Laplace y Hermanos | B3: Sandra López | C3: Barcelona | D3: Productos | E3: 150000 | F3: Oportunidad | G3: 0.1 | H3: Enero | I3: =E3*G3 -> 15000
A4: Mueblería Hernandez | B4: Mario González | C4: Sevilla | D4: Training | E4: 162500 | F4: Necesidad identificada | G4: 0.2 | H4: Marzo | I4: =E4*G4 -> 32500
A5: Constructora GyB | B5: Juana Martínez | C5: Barcelona | D5: Consultoria | E5: 147500 | F5: Oportunidad | G5: 0.3 | H5: Abril | I5: =E5*G5 -> 44250
A6: Juguetería la Casita | B6: Silvia Tillamor | C6: Madrid | D6: Servicios profesionales | E6: 148000 | F6: Validación de presupuesto | G6: 0.4 | H6: Mayo | I6: =E6*G6 -> 59200
A7: Max Power Cia | B7: Juan Carlos Gimenez | C7: Madrid | D7: Consultoría | E7: 400000 | F7: Análisis de Necesidades | G7: 0.5 | H7: Junio | I7: =E7*G7 -> 200000
A8: Vinería Tolva | B8: Sandra López | C8: Madrid | D8: Productos | E8: 149000 | F8: Solución Propuesta | G8: 0.6 | H8: Julio | I8: =E8*G8 -> 89400
A9: Panadería Morly | B9: Mario González | C9: Madrid | D9: Consultoría | E9: 142000 | F9: Confección de propuesta | G9: 0.7 | H9: Agosto | I9: =E9*G9 -> 99400
A10: Victoria Hermanos | B10: Juana Martínez | C10: Madrid | D10: Productos | E10: 172500 | F10: Aprobación Verbal | G10: 0.8 | H10: Febrero | I10: =E10*G10 -> 138000
A11: Farmacia Libres del Norte | B11: Silvia Tillamor | C11: Madrid | D11: Consultoría | E11: 125612 | F11: Solución Propuesta | G11: 0.2 | H11: Octubre | I11: =E11*G11 -> 25122.4
A12: Diseño y producción SRL | B12: Mario González | C12: Barcelona | D12: Productos | E12: 155500 | F12: Confección de propuesta | G12: 1 | H12: Noviembre | I12: =E12*G12 -> 155500
A13: Fabriquita S.A | B13: Juana Martínez | C13: Barcelona | D13: Consultoría | E13: 166000 | F13: Aprobación Verbal | G13: 0.9 | H13: Diciembre | I13: =E13*G13 -> 149400
... A24: Juguetes deme dos | B24: Susana Eledor | C24: Lugo | D24: Servicios profesionales | E24: 168000 | F24: Solución Propuesta | G24: 0.6 | H24: Noviembre | I24: =E24*G24 -> 100800

Sheet Calculo Comisiones
A2: Comisiones Enero
D4: Tramo 1 | G4: Tramo 2
A5: Criterio | B5: Venta | C5: Comision Venta | D5: Comision Comercial | E5: Nº Ventas | F5: Comisiones | G5: Comision Comercial | H5: Nº Ventas | I5: Comisiones | J5: Comision Hector
A6: Criterio 1 | B6: 290 | C6: 90 | D6: 24 | E6: 5 | F6: =D6*E6 -> 120 | G6: =D6*1.2 -> 28.8 | H6: 2 | I6: =G6*H6 -> 57.6 | J6: =((C6-D6)*E6)+((C6-G6)*H6) -> 452.4 | K6: =IF(E6=5,"Objetivo OK","Objetivo no alcanzado") -> Objetivo OK
A7: Criterio 2 | B7: 390 | C7: 140 | D7: 54 | E7: 5 | F7: =D7*E7 -> 270 | G7: =D7*1.2 -> 64.8 | H7: 1 | I7: =G7*H7 -> 64.8 | J7: =((C7-D7)*E7)+((C7-G7)*H7) -> 505.2 | K7: =IF(E7=5,"Objetivo OK","Objetivo no alcanzado") -> Objetivo OK
A8: Criterio 3 | B8: 490 | C8: 190 | D8: 84 | E8: 5 | F8: =D8*E8 -> 420 | G8: =D8*1.2 -> 100.8 | H8: 1 | I8: =G8*H8 -> 100.8 | J8: =((C8-D8)*E8)+((C8-G8)*H8) -> 619.2 | K8: =IF(E8=5,"Objetivo OK","Objetivo no alcanzado") -> Objetivo OK
A9: Criterio 4 | B9: 490 | C9: 240 | D9: 114 | E9: 5 | F9: =D9*E9 -> 570 | G9: =D9*1.2 -> 136.8 | H9: 2 | I9: =G9*H9 -> 273.6 | J9: =((C9-D9)*E9)+((C9-G9)*H9) -> 836.4 | K9: =IF(E9=5,"Objetivo OK","Objetivo no alcanzado") -> Objetivo OK
E10: =SUM(E6:E9) -> 20 | F10: =SUM(F6:F9) -> 1380 | H10: =SUM(H6:H9) -> 6 | I10: =SUM(I6:I9) -> 496.8 | J10: =SUM(J6:J9) -> 2413.2
D12: Total comisiones mes | F12: =F10+I10 -> 1876.8
A14: Comisiones Febrero
D16: Tramo 1 | G16: Tramo 2
A17: Criterio | B17: Venta | C17: Comision Venta | D17: Comision Comercial | E17: Nº Ventas | F17: Comisiones | G17: Comision Comercial | H17: Nº Ventas | I17: Comisiones | J17: Comision Hector
A18: Criterio 1 | B18: 290 | C18: 90 | D18: 24 | E18: 5 | F18: =D18*E18 -> 120 | G18: =D18*1.2 -> 28.8 | H18: 2 | I18: =G18*H18 -> 57.6 | J18: =((C18-D18)*E18)+((C18-G18)*H18) -> 452.4 | K18: =IF(E18=5,"Objetivo OK","Objetivo no alcanzado") -> Objetivo OK
A19: Criterio 2 | B19: 390 | C19: 140 | D19: 54 | E19: 5 | F19: =D19*E19 -> 270 | G19: =D19*1.2 -> 64.8 | H19: 1 | I19: =G19*H19 -> 64.8 | J19: =((C19-D19)*E19)+((C19-G19)*H19) -> 505.2 | K19: =IF(E19=5,"Objetivo OK","Objetivo no alcanzado") -> Objetivo OK
A20: Criterio 3 | B20: 490 | C20: 190 | D20: 84 | E20: 5 | F20: =D20*E20 -> 420 | G20: =D20*1.2 -> 100.8 | H20: 1 | I20: =G20*H20 -> 100.8 | J20: =((C20-D20)*E20)+((C20-G20)*H20) -> 619.2 | K20: =IF(E20=5,"Objetivo OK","Objetivo no alcanzado") -> Objetivo OK
A21: Criterio 4 | B21: 490 | C21: 240 | D21: 114 | E21: 5 | F21: =D21*E21 -> 570 | G21: =D21*1.2 -> 136.8 | H21: 2 | I21: =G21*H21 -> 273.6 | J21: =((C21-D21)*E21)+((C21-G21)*H21) -> 836.4 | K21: =IF(E21=5,"Objetivo OK","Objetivo no alcanzado") -> Objetivo OK
E22: =SUM(E18:E21) -> 20 | F22: =SUM(F18:F21) -> 1380 | H22: =SUM(H18:H21) -> 6 | I22: =SUM(I18:I21) -> 496.8 | J22: =SUM(J18:J21) -> 2413.2
D24: Total comisiones mes | F24: =F22+I22 -> 1876.8
A26: Comisiones Marzo
D28: Tramo 1 | G28: Tramo 2
A29: Criterio | B29: Venta | C29: Comision Venta | D29: Comision Comercial | E29: Nº Ventas | F29: Comisiones | G29: Comision Comercial | H29: Nº Ventas | I29: Comisiones | J29: Comision Hector
A30: Criterio 1 | B30: 290 | C30: 90 | D30: 24 | E30: 5 | F30: =D30*E30 -> 120 | G30: =D30*1.2 -> 28.8 | H30: 2 | I30: =G30*H30 -> 57.6 | J30: =((C30-D30)*E30)+((C30-G30)*H30) -> 452.4 | K30: =IF(E30=5,"Objetivo OK","Objetivo no alcanzado") -> Objetivo OK
A31: Criterio 2 | B31: 390 | C31: 140 | D31: 54 | E31: 5 | F31: =D31*E31 -> 270 | G31: =D31*1.2 -> 64.8 | H31: 1 | I31: =G31*H31 -> 64.8 | J31: =((C31-D31)*E31)+((C31-G31)*H31) -> 505.2 | K31: =IF(E31=5,"Objetivo OK","Objetivo no alcanzado") -> Objetivo OK
A32: Criterio 3 | B32: 490 | C32: 190 | D32: 84 | E32: 5 | F32: =D32*E32 -> 420 | G32: =D32*1.2 -> 100.8 | H32: 1 | I32: =G32*H32 -> 100.8 | J32: =((C32-D32)*E32)+((C32-G32)*H32) -> 619.2 | K32: =IF(E32=5,"Objetivo OK","Objetivo no alcanzado") -> Objetivo OK
A33: Criterio 4 | B33: 490 | C33: 240 | D33: 114 | E33: 5 | F33: =D33*E33 -> 570 | G33: =D33*1.2 -> 136.8 | H33: 2 | I33: =G33*H33 -> 273.6 | J33: =((C33-D33)*E33)+((C33-G33)*H33) -> 836.4 | K33: =IF(E33=5,"Objetivo OK","Objetivo no alcanzado") -> Objetivo OK
E34: =SUM(E30:E33) -> 20 | F34: =SUM(F30:F33) -> 1380 | H34: =SUM(H30:H33) -> 6 | I34: =SUM(I30:I33) -> 496.8 | J34: =SUM(J30:J33) -> 2413.2
D36: Total comisiones mes | F36: =F34+I34 -> 1876.8
A38: Comisiones Abril
D40: Tramo 1 | G40: Tramo 2
A41: Criterio | B41: Venta | C41: Comision Venta | D41: Comision Comercial | E41: Nº Ventas | F41: Comisiones | G41: Comision Comercial | H41: Nº Ventas | I41: Comisiones | J41: Comision Hector
A42: Criterio 1 | B42: 290 | C42: 90 | D42: 24 | E42: 5 | F42: =D42*E42 -> 120 | G42: =D42*1.2 -> 28.8 | H42: 2 | I42: =G42*H42 -> 57.6 | J42: =((C42-D42)*E42)+((C42-G42)*H42) -> 452.4 | K42: =IF(E42=5,"Objetivo OK","Objetivo no alcanzado") -> Objetivo OK
A43: Criterio 2 | B43: 390 | C43: 140 | D43: 54 | E43: 5 | F43: =D43*E43 -> 270 | G43: =D43*1.2 -> 64.8 | H43: 1 | I43: =G43*H43 -> 64.8 | J43: =((C43-D43)*E43)+((C43-G43)*H43) -> 505.2 | K43: =IF(E43=5,"Objetivo OK","Objetivo no alcanzado") -> Objetivo OK
A44: Criterio 3 | B44: 490 | C44: 190 | D44: 84 | E44: 5 | F44: =D44*E44 -> 420 | G44: =D44*1.2 -> 100.8 | H44: 1 | I44: =G44*H44 -> 100.8 | J44: =((C44-D44)*E44)+((C44-G44)*H44) -> 619.2 | K44: =IF(E44=5,"Objetivo OK","Objetivo no alcanzado") -> Objetivo OK
A45: Criterio 4 | B45: 490 | C45: 240 | D45: 114 | E45: 5 | F45: =D45*E45 -> 570 | G45: =D45*1.2 -> 136.8 | H45: 2 | I45: =G45*H45 -> 273.6 | J45: =((C45-D45)*E45)+((C45-G45)*H45) -> 836.4 | K45: =IF(E45=5,"Objetivo OK","Objetivo no alcanzado") -> Objetivo OK
E46: =SUM(E42:E45) -> 20 | F46: =SUM(F42:F45) -> 1380 | H46: =SUM(H42:H45) -> 6 | I46: =SUM(I42:I45) -> 496.8 | J46: =SUM(J42:J45) -> 2413.2
D48: Total comisiones mes | F48: =F46+I46 -> 1876.8
A50: Comisiones Mayo
D52: Tramo 1 | G52: Tramo 2
A53: Criterio | B53: Venta | C53: Comision Venta | D53: Comision Comercial | E53: Nº Ventas | F53: Comisiones | G53: Comision Comercial | H53: Nº Ventas | I53: Comisiones | J53: Comision Hector
A54: Criterio 1 | B54: 290 | C54: 90 | D54: 24 | E54: 5 | F54: =D54*E54 -> 120 | G54: =D54*1.2 -> 28.8 | H54: 2 | I54: =G54*H54 -> 57.6 | J54: =((C54-D54)*E54)+((C54-G54)*H54) -> 452.4 | K54: =IF(E54=5,"Objetivo OK","Objetivo no alcanzado") -> Objetivo OK
...
