Workbook

Sheet Validacion Datos
A1: Cartera Clientes
A3: Cliente | B3: Tipo Cliente | C3: Servicio | D3: Enero | E3: Febrero | F3: Marzo | G3: Abril | H3: Mayo | I3: Junio | J3: Total
A4: Perfumerias Roca | J4: =SUM(D4:I4) -> 0
A5: Luces Mil | J5: =SUM(D5:I5) -> 0
A6: David Mieler | J6: =SUM(D6:I6) -> 0
A7: Suministros Dun | J7: =SUM(D7:I7) -> 0
A8: Papeleria Acuario | J8: =SUM(D8:I8) -> 0
A9: Nortbest | J9: =SUM(D9:I9) -> 0
A10: BestialDuck | J10: =SUM(D10:I10) -> 0
A11: Milenial Shoes | J11: =SUM(D11:I11) -> 0
A14: Como tener valizacion de datos de dos formas

Sheet Validacion Datos II
A1: Ventas por comercial | M1: Junior | N1: 5000
M2: Senior | N2: 10000
A3: Comercial | B3: Categoria | C3: Zona | D3: Objetivos | E3: Enero | F3: Febrero | G3: Marzo | H3: Abril | I3: Mayo | J3: Junio | K3: Total
A4: Francisco Nogueira | K4: =SUM(E4:J4) -> 0
A5: Manuel Alcaide | K5: =SUM(E5:J5) -> 0
A6: Nicole Antunez | K6: =SUM(E6:J6) -> 0
A7: Lidia Blanco | K7: =SUM(E7:J7) -> 0
A8: Maria Sanchez | K8: =SUM(E8:J8) -> 0
A9: Juan Bravo | K9: =SUM(E9:J9) -> 0
A10: Miguel Ramos | K10: =SUM(E10:J10) -> 0
A11: Yvonne Alfaro | K11: =SUM(E11:J11) -> 0
A12: Lucas Dehoy | K12: =SUM(E12:J12) -> 0
A16: Meter validacion de datos
A17: Cruzar tabla en funcion de criterios

Sheet Formato condicional I
A1: Ventas por comercial
A3: Comercial | B3: Categoria | C3: Zona | D3: Objetivos | E3: Enero | F3: Febrero | G3: Marzo | H3: Abril | I3: Mayo | J3: Junio | K3: Total
A4: Francisco Nogueira | B4: Senior | C4: Sur | D4: =VLOOKUP(B4,'Validacion Datos II'!$M$1:$N$2,2,0) -> 10000 | E4: 550 | F4: 800 | G4: 1000 | H4: 700 | I4: 400 | J4: 1200 | K4: =SUM(E4:J4) -> 4650 | L4: Conjunto de Iconos
A5: Manuel Alcaide | B5: Junior | C5: Centro | D5: =VLOOKUP(B5,'Validacion Datos II'!$M$1:$N$2,2,0) -> 5000 | E5: 550 | F5: 400 | G5: 350 | H5: 800 | I5: 200 | J5: 150 | K5: =SUM(E5:J5) -> 2450 | L5: Escalera de Colores
A6: Nicole Antunez | B6: Senior | C6: Centro | D6: =VLOOKUP(B6,'Validacion Datos II'!$M$1:$N$2,2,0) -> 10000 | E6: 600 | F6: 1200 | G6: 800 | H6: 400 | I6: 200 | J6: 800 | K6: =SUM(E6:J6) -> 4000
A7: Lidia Blanco | B7: Senior | C7: Sur | D7: =VLOOKUP(B7,'Validacion Datos II'!$M$1:$N$2,2,0) -> 10000 | E7: 100 | F7: 1200 | G7: 1000 | H7: 800 | I7: 500 | J7: 1500 | K7: =SUM(E7:J7) -> 5100
A8: Maria Sanchez | B8: Junior | C8: Sur | D8: =VLOOKUP(B8,'Validacion Datos II'!$M$1:$N$2,2,0) -> 5000 | E8: 400 | F8: 650 | G8: 800 | H8: 750 | I8: 500 | J8: 400 | K8: =SUM(E8:J8) -> 3500
A9: Juan Bravo | B9: Junior | C9: Norte | D9: =VLOOKUP(B9,'Validacion Datos II'!$M$1:$N$2,2,0) -> 5000 | E9: 750 | F9: 550 | G9: 750 | H9: 400 | I9: 800 | J9: 1000 | K9: =SUM(E9:J9) -> 4250
A10: Miguel Ramos | B10: Senior | C10: Norte | D10: =VLOOKUP(B10,'Validacion Datos II'!$M$1:$N$2,2,0) -> 10000 | E10: 1200 | F10: 800 | G10: 900 | H10: 1500 | I10: 200 | J10: 400 | K10: =SUM(E10:J10) -> 5000
A11: Yvonne Alfaro | B11: Senior | C11: Centro | D11: =VLOOKUP(B11,'Validacion Datos II'!$M$1:$N$2,2,0) -> 10000 | E11: 1200 | F11: 900 | G11: 1500 | H11: 850 | I11: 700 | J11: 1500 | K11: =SUM(E11:J11) -> 6650
A12: Lucas Dehoy | B12: Junior | C12: Norte | D12: =VLOOKUP(B12,'Validacion Datos II'!$M$1:$N$2,2,0) -> 5000 | E12: 400 | F12: 200 | G12: 150 | H12: 100 | I12: 250 | J12: 100 | K12: =SUM(E12:J12) -> 1200
K13: Conjunto de formas

Sheet Formato Condicional
A1: Indicadores Comerciales
A3: Comercial | B3: Nº de visitas | C3: Nº de propuestas | D3: Nº de ventas Cerradas | E3: Importe Ventas
A4: Francisco Nogueira | B4: 25 | C4: 20 | D4: 15 | E4: 50000
A5: Manuel Alcaide | B5: 20 | C5: 5 | D5: 5 | E5: 20000
A6: Nicole Antunez | B6: 22 | C6: 18 | D6: 12 | E6: 15000
A7: Lidia Blanco | B7: 15 | C7: 10 | D7: 5 | E7: 12000
A8: Maria Sanchez | B8: 12 | C8: 4 | D8: 2 | E8: 10000
A9: Juan Bravo | B9: 18 | C9: 15 | D9: 6 | E9: 28000
A10: Miguel Ramos | B10: 20 | C10: 10 | D10: 4 | E10: 15000
A11: Yvonne Alfaro | B11: 12 | C11: 6 | D11: 5 | E11: 25000
A12: Lucas Dehoy | B12: 10 | C12: 8 | D12: 4 | E12: 15000

Sheet Proteger Hojas
A1: Presupuesto | F1: Fecha
A2: Nombre | D2: Datos cliente
A3: Dirección | D3: Nombre
A4: Teléfono | D4: Dirección
A5: E-mail | D5: Teléfono
A7: Concepto | D7: UNIDADES | E7: PRECIO | H7: TOTAL
A8: Ejemplo 1 | D8: 2 | E8: 5 | H8: =D8*E8 -> 10
A9: Ejemplo 2 | D9: 2 | E9: 6 | H9: =D9*E9 -> 12
A10: Ejemplo 3 | D10: 3 | E10: 7 | H10: =D10*E10 -> 21
F34: Total Bruto | H34: =SUM(H8:H33) -> 43
E35: I.V.A. % | G35: 0.21 | H35: =+H34*G35 -> 9.03
E36: Total Presupuesto | H36: =SUM(H34:H35) -> 52.03
E37: Vencimiento dd/mm/aa
A39: ACEPTO EL PRESUPUESTO. Nombre, apellidos y firma del cliente.
